BEGIN:VCALENDAR
VERSION:2.0
PRODID:-//Kiezkalender Lichtenberg - ECPv6.15.12.2//NONSGML v1.0//EN
CALSCALE:GREGORIAN
METHOD:PUBLISH
X-ORIGINAL-URL:https://kiezkalender-lichtenberg.de
X-WR-CALDESC:Veranstaltungen für Kiezkalender Lichtenberg
REFRESH-INTERVAL;VALUE=DURATION:PT1H
X-Robots-Tag:noindex
X-PUBLISHED-TTL:PT1H
BEGIN:VTIMEZONE
TZID:Europe/Berlin
BEGIN:DAYLIGHT
TZOFFSETFROM:+0100
TZOFFSETTO:+0200
TZNAME:CEST
DTSTART:20230326T010000
END:DAYLIGHT
BEGIN:STANDARD
TZOFFSETFROM:+0200
TZOFFSETTO:+0100
TZNAME:CET
DTSTART:20231029T010000
END:STANDARD
BEGIN:DAYLIGHT
TZOFFSETFROM:+0100
TZOFFSETTO:+0200
TZNAME:CEST
DTSTART:20240331T010000
END:DAYLIGHT
BEGIN:STANDARD
TZOFFSETFROM:+0200
TZOFFSETTO:+0100
TZNAME:CET
DTSTART:20241027T010000
END:STANDARD
BEGIN:DAYLIGHT
TZOFFSETFROM:+0100
TZOFFSETTO:+0200
TZNAME:CEST
DTSTART:20250330T010000
END:DAYLIGHT
BEGIN:STANDARD
TZOFFSETFROM:+0200
TZOFFSETTO:+0100
TZNAME:CET
DTSTART:20251026T010000
END:STANDARD
END:VTIMEZONE
BEGIN:VEVENT
DTSTART;TZID=Europe/Berlin:20240919T170000
DTEND;TZID=Europe/Berlin:20240919T180000
DTSTAMP:20260423T050753
CREATED:20230829T113412Z
LAST-MODIFIED:20241116T012258Z
UID:10032643-1726765200-1726768800@kiezkalender-lichtenberg.de
SUMMARY:MUSEUM der wandernden Erinnerung – eine Theaterperformance für Menschen von 6-99 Jahren
DESCRIPTION:Von K.I.E.Z. ToGo in Kooperation mit dem Museum Lichtenberg \nDas „MUSEUM der wandernden Erinnerung“\npräsentiert eine spektakuläre Schau all-\ntäglicher Objekte und ihrer ungewöhnlichen\nGeschichten. Die gelernten Spurensammler*innen Coco Rosalski und Rosa Kowalski\nhaben sie aus Wohnungen und Kellern\ngelockt\, von Straßenecken gerettet oder\naus Museumsdepots befreit.\nDas illustre Sammelsurium ist ihr Treibstoff\nfür die Zeitreise durch Lichtenberg\, die das Publikum\nmitlenken kann. \n\nVon und mit: Inka Arlt und Christiane Wiegand Ausstattung: María Reyes Pérez Fernández Dramaturgische Begleitung: Yvonne Johna  \nGefördert durch „Netzwerk der Wärme“\, ein Zusammenschluss verschiedener zivilgesellschaftlicher Akteure und dem Land Berlin.  \nFolgt uns auf Instagram: https://www.instagram.com/museumlichtenberg/
URL:https://kiezkalender-lichtenberg.de/veranstaltung/museum-der-wandernden-erinnerung-eine-theaterperformance-fuer-menschen-von-6-99-jahren-6/2024-09-19/2/
LOCATION:Kleiner Skaterplatz hinter der Kiezspinne\, Schulze-Boysen -Str.\, Schulze-Boysen-Str.\, Berlin\, 10317\, Germany
CATEGORIES:Kunst
ATTACH;FMTTYPE=image/jpeg:https://kiezkalender-lichtenberg.de/wp-content/uploads/2023/08/alternativ-museum-mdwe-Kopie.jpg
END:VEVENT
BEGIN:VEVENT
DTSTART;TZID=Europe/Berlin:20240919T150000
DTEND;TZID=Europe/Berlin:20240919T160000
DTSTAMP:20260423T050753
CREATED:20230829T113412Z
LAST-MODIFIED:20241116T012258Z
UID:10032642-1726758000-1726761600@kiezkalender-lichtenberg.de
SUMMARY:MUSEUM der wandernden Erinnerung – eine Theaterperformance für Menschen von 6-99 Jahren
DESCRIPTION:Von K.I.E.Z. ToGo in Kooperation mit dem Museum Lichtenberg \nDas „MUSEUM der wandernden Erinnerung“\npräsentiert eine spektakuläre Schau all-\ntäglicher Objekte und ihrer ungewöhnlichen\nGeschichten. Die gelernten Spurensammler*innen Coco Rosalski und Rosa Kowalski\nhaben sie aus Wohnungen und Kellern\ngelockt\, von Straßenecken gerettet oder\naus Museumsdepots befreit.\nDas illustre Sammelsurium ist ihr Treibstoff\nfür die Zeitreise durch Lichtenberg\, die das Publikum\nmitlenken kann. \n\nVon und mit: Inka Arlt und Christiane Wiegand Ausstattung: María Reyes Pérez Fernández Dramaturgische Begleitung: Yvonne Johna  \nGefördert durch „Netzwerk der Wärme“\, ein Zusammenschluss verschiedener zivilgesellschaftlicher Akteure und dem Land Berlin.  \nFolgt uns auf Instagram: https://www.instagram.com/museumlichtenberg/
URL:https://kiezkalender-lichtenberg.de/veranstaltung/museum-der-wandernden-erinnerung-eine-theaterperformance-fuer-menschen-von-6-99-jahren-6/2024-09-19/1/
LOCATION:Kleiner Skaterplatz hinter der Kiezspinne\, Schulze-Boysen -Str.\, Schulze-Boysen-Str.\, Berlin\, 10317\, Germany
CATEGORIES:Kunst
ATTACH;FMTTYPE=image/jpeg:https://kiezkalender-lichtenberg.de/wp-content/uploads/2023/08/alternativ-museum-mdwe-Kopie.jpg
END:VEVENT
END:VCALENDAR