BEGIN:VCALENDAR
VERSION:2.0
PRODID:-//Kiezkalender Lichtenberg - ECPv6.15.12.2//NONSGML v1.0//EN
CALSCALE:GREGORIAN
METHOD:PUBLISH
X-ORIGINAL-URL:https://kiezkalender-lichtenberg.de
X-WR-CALDESC:Veranstaltungen für Kiezkalender Lichtenberg
REFRESH-INTERVAL;VALUE=DURATION:PT1H
X-Robots-Tag:noindex
X-PUBLISHED-TTL:PT1H
BEGIN:VTIMEZONE
TZID:Europe/Berlin
BEGIN:DAYLIGHT
TZOFFSETFROM:+0100
TZOFFSETTO:+0200
TZNAME:CEST
DTSTART:20230326T010000
END:DAYLIGHT
BEGIN:STANDARD
TZOFFSETFROM:+0200
TZOFFSETTO:+0100
TZNAME:CET
DTSTART:20231029T010000
END:STANDARD
BEGIN:DAYLIGHT
TZOFFSETFROM:+0100
TZOFFSETTO:+0200
TZNAME:CEST
DTSTART:20240331T010000
END:DAYLIGHT
BEGIN:STANDARD
TZOFFSETFROM:+0200
TZOFFSETTO:+0100
TZNAME:CET
DTSTART:20241027T010000
END:STANDARD
BEGIN:DAYLIGHT
TZOFFSETFROM:+0100
TZOFFSETTO:+0200
TZNAME:CEST
DTSTART:20250330T010000
END:DAYLIGHT
BEGIN:STANDARD
TZOFFSETFROM:+0200
TZOFFSETTO:+0100
TZNAME:CET
DTSTART:20251026T010000
END:STANDARD
END:VTIMEZONE
BEGIN:VEVENT
DTSTART;TZID=Europe/Berlin:20240710T130000
DTEND;TZID=Europe/Berlin:20240710T180000
DTSTAMP:20260423T125341
CREATED:20240702T133709Z
LAST-MODIFIED:20240703T063944Z
UID:10032429-1720616400-1720634400@kiezkalender-lichtenberg.de
SUMMARY:BSR-Kieztag Fennpfuhl
DESCRIPTION:Merken Sie sich den Termin vor: Mittwoch\, den 10. Juli 2024\, von 13.00 bis 18.00 Uhr auf dem Großraumparkplatz Storkower Straße 220 in Fennpfuhl. \nWir freuen uns auf Ihr Kommen! \n  \nDie Berliner Stadtreinigung (BSR) lädt Sie herzlich zu den BSR-Kieztagen in Ihrer Nähe ein\, organisiert in Zusammenarbeit mit Ihren Bezirksämtern. Nutzen Sie die Gelegenheit\, kaputte und alte Gegenstände – ob groß oder klein – kostenlos und bequem fast vor Ihrer Haustür zu entsorgen. Helfen Sie mit\, unser Wohnumfeld sauber zu halten und ersparen Sie sich den Weg zum Recyclinghof. \nHaben Sie gut erhaltene Dinge\, die zu schade zum Wegwerfen sind? Kein Problem! Bei fast jedem Kieztag gibt es einen Tausch- und Verschenkmarkt\, wo Sie Ihre Schätze abgeben können. Vielleicht entdecken Sie dort auch etwas Neues für sich. \nWir sehen uns auf dem BSR-Kieztag – Ihr berlinweites Angebot für private Haushalte. \n\nGutes weitergeben\, Neues Altes finden\nSperrmüll abladen\, Fundstücke einladen\n\nGut Erhaltenes können Sie den Kolleg:innen in Orange auf dem Tausch- und Verschenkmarkt übergeben\, wo sich neue Besitzer:innen finden können. Alles\, was am Ende des Tages übrig bleibt\, wird dem Re-Use Kreislauf zugeführt\, unter anderem in die NochMall\, das Gebrauchtwarenkaufhaus der BSR. \n  \nIdeen zum Tauschen und Finden: \n\nBrettspiele oder Spielzeug\nVasen oder Geschirr\nFahrräder oder Kleinmöbel\nKoffer oder Taschen\nund vieles mehr\n\nDas können Sie auf dem Kieztag entsorgen: \n\nSperrmüll\nAltholz\nMatratzen\nElektrogeräte\nAlttextilien\nGut Erhaltenes für den Tausch- und Verschenkmarkt\n\nDas sollten Sie zu Hause lassen oder zum Recyclinghof bringen: \n\nAltreifen\nLacke\, Farben\nBauschutt\nBatterien\nAlt-Medikamente\nKontaminiertes Holz
URL:https://kiezkalender-lichtenberg.de/veranstaltung/bsr-kieztag-fennpfuhl/
LOCATION:Großraumparkplatz Storkower Straße 220\, 10369 Berlin
ATTACH;FMTTYPE=image/jpeg:https://kiezkalender-lichtenberg.de/wp-content/uploads/2024/07/Kieztag-10.07.2024-1.jpg
END:VEVENT
END:VCALENDAR