BEGIN:VCALENDAR
VERSION:2.0
PRODID:-//Kiezkalender Lichtenberg - ECPv6.15.12.2//NONSGML v1.0//EN
CALSCALE:GREGORIAN
METHOD:PUBLISH
X-ORIGINAL-URL:https://kiezkalender-lichtenberg.de
X-WR-CALDESC:Veranstaltungen für Kiezkalender Lichtenberg
REFRESH-INTERVAL;VALUE=DURATION:PT1H
X-Robots-Tag:noindex
X-PUBLISHED-TTL:PT1H
BEGIN:VTIMEZONE
TZID:Europe/Berlin
BEGIN:DAYLIGHT
TZOFFSETFROM:+0100
TZOFFSETTO:+0200
TZNAME:CEST
DTSTART:20210328T010000
END:DAYLIGHT
BEGIN:STANDARD
TZOFFSETFROM:+0200
TZOFFSETTO:+0100
TZNAME:CET
DTSTART:20211031T010000
END:STANDARD
BEGIN:DAYLIGHT
TZOFFSETFROM:+0100
TZOFFSETTO:+0200
TZNAME:CEST
DTSTART:20220327T010000
END:DAYLIGHT
BEGIN:STANDARD
TZOFFSETFROM:+0200
TZOFFSETTO:+0100
TZNAME:CET
DTSTART:20221030T010000
END:STANDARD
BEGIN:DAYLIGHT
TZOFFSETFROM:+0100
TZOFFSETTO:+0200
TZNAME:CEST
DTSTART:20230326T010000
END:DAYLIGHT
BEGIN:STANDARD
TZOFFSETFROM:+0200
TZOFFSETTO:+0100
TZNAME:CET
DTSTART:20231029T010000
END:STANDARD
END:VTIMEZONE
BEGIN:VEVENT
DTSTART;TZID=Europe/Berlin:20220625T093000
DTEND;TZID=Europe/Berlin:20220625T120000
DTSTAMP:20260423T091320
CREATED:20220625T190805Z
LAST-MODIFIED:20220625T190805Z
UID:10004012-1656149400-1656158400@kiezkalender-lichtenberg.de
SUMMARY:Aktion "Sauberer Fennpfuhl"
DESCRIPTION:Die Putzengel von Fennpfuhl sind Teil der Aktion „sauberer Fennpfuhl“ und und wir treffen uns um tatkräftig den Fennpfuhlpark zu säubern.\nTreffpunkt ist der Parkeingang neben der VHS Lichtenberg.\nMit unserem Einsatz unterstützen wir unter anderem die Tauchpioniere\, die im Fennpfuhl nach „Schätzen“ tauchen\, welche dort gedankenlos entsorgt wurden.\nWollt ihr mithelfen?
URL:https://kiezkalender-lichtenberg.de/veranstaltung/aktion-sauberer-fennpfuhl-3/
CATEGORIES:Nachbarschaft
END:VEVENT
BEGIN:VEVENT
DTSTART;TZID=Europe/Berlin:20220625T100000
DTEND;TZID=Europe/Berlin:20220625T110000
DTSTAMP:20260423T091320
CREATED:20220625T190805Z
LAST-MODIFIED:20220625T190805Z
UID:10004013-1656151200-1656154800@kiezkalender-lichtenberg.de
SUMMARY:FamilienSamstag "Gans der Bär"
DESCRIPTION:Zu Gast ist Nicole Gospodarek mit Ihrem Puppentheater und dem Stück „Gans der Bär“ für Kinder ab 3 Jahre\, frei erzählt nach dem Bilderbuch von Katja Gehrmann.\nWie soll der Bär der kleinen Gans bloß erklären\, dass er nicht ihre Mama ist? Schließlich klettert\, läuft und schwimmt sie wie ein Bär. Und dann setzt sie auch noch die Füchsin außer Gefecht. Ist dieses Schnabeltier vielleicht doch ein Bär? Schlüpfen Bären aus Eiern? Alles Fragen die sich der verdutzte Bär stellen muss\, als aus dem ovalen Etwas das die Füchsin verloren hat\, ein kleines Gänseküken schlüpft und ihn freudig mit „Mama“ begrüßt.\nEin fröhliches Stück über Gemeinsamkeiten und Unterschiede\, Verantwortung und darüber\, dass Wahrheiten manchmal relativ sind.\nVorverkauf ab 30. Mai 2022\nUnsere aktuellen Öffnungszeiten:\nMo\, Di\, Mi 13-19 Uhr | Do\, Fr 9-18 Uhr | Sa 9-13 Uhr
URL:https://kiezkalender-lichtenberg.de/veranstaltung/familiensamstag-gans-der-baer/
LOCATION:Anton-Saefkow-Bibliothek\, \,Anton-Saefkow-Platz 14\, Berlin\, 10369\, Germany
CATEGORIES:Familie,Kunst
ORGANIZER;CN="Anton-Saefkow-Bibliothek":MAILTO:anton.saefkow.bibliothek@lichtenberg.berlin.de
END:VEVENT
BEGIN:VEVENT
DTSTART;TZID=Europe/Berlin:20220625T150000
DTEND;TZID=Europe/Berlin:20220625T163000
DTSTAMP:20260423T091320
CREATED:20220625T190805Z
LAST-MODIFIED:20220625T190805Z
UID:10004014-1656169200-1656174600@kiezkalender-lichtenberg.de
SUMMARY:Skatebord fahren lernen
DESCRIPTION:Skatebord fahren lernen für Kinder und Jugendliche.\nDas Equipment stellen wir\, bei Minderjährigen ist die Einverständniserklärung der Eltern notwendig.\n 
URL:https://kiezkalender-lichtenberg.de/veranstaltung/skatebord-fahren-lernen/
CATEGORIES:Sport
ATTACH;FMTTYPE=image/jpeg:https://kiezkalender-lichtenberg.de/wp-content/uploads/2022/06/Skatebord-Kiezspinne-Th8Nap.tmp_.jpg
END:VEVENT
BEGIN:VEVENT
DTSTART;TZID=Europe/Berlin:20220625T170000
DTEND;TZID=Europe/Berlin:20220625T170000
DTSTAMP:20260423T091320
CREATED:20220625T190806Z
LAST-MODIFIED:20220625T190806Z
UID:10004015-1656176400-1656176400@kiezkalender-lichtenberg.de
SUMMARY:Kinderclub Präsentationen
DESCRIPTION:„Ich würde gern beweisen\, dass Erwachsene nicht größer sind als Kinder\, denn Erwachsene können so viel von Kindern lernen.“\nWir wollen mehr Pausen und weniger Stress! Uns ist wichtig\, dass wir uns um unseren Planenten kümmern und alle Menschen dieselben Chancen haben! Wir haben viele Ideen\, wie wir gemeinsam leben wollen\, und wissen\, worauf es ankommt!\nSeit Oktober 2021 treffen sich Kinder im Alter von 7 bis 11 Jahren im Theater an der Parkaue und tauschen sich darüber aus\, was sie im Alltag und in der Gesellschaft verändern wollen. Sie experimentieren mit knalligen Beats\, starken Moves und rufen ihre Forderungen laut durch das Megafon heraus.\nIn Kooperation mit app2music\n \nSpielort: Bühne 3\nab 7 Jahren
URL:https://kiezkalender-lichtenberg.de/veranstaltung/kinderclub-praesentationen/
LOCATION:Theater an der Parkaue\, Parkaue 29\, Berlin\, 10367\, Germany
CATEGORIES:Kunst
ORGANIZER;CN="Theater an der Parkaue":MAILTO:info@parkaue.de
END:VEVENT
BEGIN:VEVENT
DTSTART;TZID=Europe/Berlin:20220626T160000
DTEND;TZID=Europe/Berlin:20220626T160000
DTSTAMP:20260423T091320
CREATED:20220625T190806Z
LAST-MODIFIED:20220625T190806Z
UID:10004016-1656259200-1656259200@kiezkalender-lichtenberg.de
SUMMARY:Der erhobene Zeigefinger von Jetse Batelaan
DESCRIPTION:Der erhobene Zeigefinger von Jetse Batelaan Re-Insze­nierung für das Theater an der Parkaue Kooperation mit Theater Artemis (’s-Hertogenbosch / Niederlande)\n \nHast du schon die Hände gewaschen? Schuhe aus! Schuhe an! Komm jetzt\, Mama muss zur Arbeit. Jetzt leg doch mal dieses Ding weg! Erst melden\, dann sprechen! Warte\, bis du dran bist! Geh nicht über Rot! Bitte nicht anfassen!\nImmer entscheiden die Erwachsenen\, was gut und was richtig für dich ist. Aber woher wissen sie das? Und sind sie diejenigen\, die das entscheiden können? So richtig wissen wir das auch nicht. Auch nicht der Regisseur Jetse Batelaan. Aber der hat in den Niederlanden ein Stück zu diesen Fragen entwickelt und kommt damit an die Parkaue nach Berlin. In diesem Stück geht es um Erwachsene\, wie sie sich verhalten\, einen zerstörten Kinderspielplatz und um dich. Wer darf hier eigentlich was? Wer hebt den Zeigefinger und zeigt auf wen? Was ist richtig? Was ist falsch? Und was meinst du dazu?\nMit seinen philosophischen und absurd komischen Ansätzen reizt der Regisseur Jetse Batelaan in seinen Arbeiten nicht nur die Grenzen des Erlaubten aus\, sondern auch die des Theaters. Als Künstlerischer Leiter des Theater Artemis im niederländischen ’s-Hertogenbosch schafft er neuartige und risikofreudige Theatererlebnisse für Kinder und Jugendliche. Eine besondere Arbeit für die er u. a. mit dem Silbernen Löwen der Biennale in Venedig in der Kategorie Theater ausgezeichnet wurde.\n \nSpielort: Bühne 4\nab 10 Jahren · 4. – 7. Klasse\n 
URL:https://kiezkalender-lichtenberg.de/veranstaltung/der-erhobene-zeigefinger-von-jetse-batelaan/
LOCATION:Theater an der Parkaue\, Parkaue 29\, Berlin\, 10367\, Germany
CATEGORIES:Kunst
ATTACH;FMTTYPE=image/jpeg:https://kiezkalender-lichtenberg.de/wp-content/uploads/2022/06/TPA_Der_erhobene_Zeigefinger_RZ-e1647600513676-Dbx4Pg.tmp_.jpg
ORGANIZER;CN="Theater an der Parkaue":MAILTO:info@parkaue.de
END:VEVENT
BEGIN:VEVENT
DTSTART;TZID=Europe/Berlin:20220626T170000
DTEND;TZID=Europe/Berlin:20220626T170000
DTSTAMP:20260423T091320
CREATED:20220625T190807Z
LAST-MODIFIED:20220625T190807Z
UID:10004017-1656262800-1656262800@kiezkalender-lichtenberg.de
SUMMARY:Kinderclub Präsentationen
DESCRIPTION:„Ich würde gern beweisen\, dass Erwachsene nicht größer sind als Kinder\, denn Erwachsene können so viel von Kindern lernen.“\nWir wollen mehr Pausen und weniger Stress! Uns ist wichtig\, dass wir uns um unseren Planenten kümmern und alle Menschen dieselben Chancen haben! Wir haben viele Ideen\, wie wir gemeinsam leben wollen\, und wissen\, worauf es ankommt!\nSeit Oktober 2021 treffen sich Kinder im Alter von 7 bis 11 Jahren im Theater an der Parkaue und tauschen sich darüber aus\, was sie im Alltag und in der Gesellschaft verändern wollen. Sie experimentieren mit knalligen Beats\, starken Moves und rufen ihre Forderungen laut durch das Megafon heraus.\nIn Kooperation mit app2music\n \nSpielort: Bühne 3\nab 7 Jahren
URL:https://kiezkalender-lichtenberg.de/veranstaltung/kinderclub-praesentationen-2/
LOCATION:Theater an der Parkaue\, Parkaue 29\, Berlin\, 10367\, Germany
CATEGORIES:Kunst
ORGANIZER;CN="Theater an der Parkaue":MAILTO:info@parkaue.de
END:VEVENT
END:VCALENDAR