BEGIN:VCALENDAR
VERSION:2.0
PRODID:-//Kiezkalender Lichtenberg - ECPv6.15.12.2//NONSGML v1.0//EN
CALSCALE:GREGORIAN
METHOD:PUBLISH
X-ORIGINAL-URL:https://kiezkalender-lichtenberg.de
X-WR-CALDESC:Veranstaltungen für Kiezkalender Lichtenberg
REFRESH-INTERVAL;VALUE=DURATION:PT1H
X-Robots-Tag:noindex
X-PUBLISHED-TTL:PT1H
BEGIN:VTIMEZONE
TZID:Europe/Berlin
BEGIN:DAYLIGHT
TZOFFSETFROM:+0100
TZOFFSETTO:+0200
TZNAME:CEST
DTSTART:20210328T010000
END:DAYLIGHT
BEGIN:STANDARD
TZOFFSETFROM:+0200
TZOFFSETTO:+0100
TZNAME:CET
DTSTART:20211031T010000
END:STANDARD
BEGIN:DAYLIGHT
TZOFFSETFROM:+0100
TZOFFSETTO:+0200
TZNAME:CEST
DTSTART:20220327T010000
END:DAYLIGHT
BEGIN:STANDARD
TZOFFSETFROM:+0200
TZOFFSETTO:+0100
TZNAME:CET
DTSTART:20221030T010000
END:STANDARD
BEGIN:DAYLIGHT
TZOFFSETFROM:+0100
TZOFFSETTO:+0200
TZNAME:CEST
DTSTART:20230326T010000
END:DAYLIGHT
BEGIN:STANDARD
TZOFFSETFROM:+0200
TZOFFSETTO:+0100
TZNAME:CET
DTSTART:20231029T010000
END:STANDARD
END:VTIMEZONE
BEGIN:VEVENT
DTSTART;TZID=Europe/Berlin:20220601T120000
DTEND;TZID=Europe/Berlin:20220601T140000
DTSTAMP:20260423T023740
CREATED:20220625T185924Z
LAST-MODIFIED:20220625T185924Z
UID:10004007-1654084800-1654092000@kiezkalender-lichtenberg.de
SUMMARY:Ein offenes Ohr für alle
DESCRIPTION:Ein offenes Ohr für alle.\nEinzelgespräche über Hilfe im Alltag oder Unterstützung bei der Entwicklung von Nachbarschaftsprojekten.\nBitte unter 577 99 419 oder -11 anmelden.
URL:https://kiezkalender-lichtenberg.de/veranstaltung/ein-offenes-ohr-fuer-alle/
CATEGORIES:Beratung
ATTACH;FMTTYPE=image/jpeg:https://kiezkalender-lichtenberg.de/wp-content/uploads/2022/06/Undine-Aw9nw3.tmp_.jpg
ORGANIZER;CN="Kieztreff UNDINE im SOZIALWERK des dfb (Dachverband)":MAILTO:kieztreff.undine@sozialwerk-dfb-berlin.de
END:VEVENT
BEGIN:VEVENT
DTSTART;TZID=Europe/Berlin:20220601T143000
DTEND;TZID=Europe/Berlin:20220601T160000
DTSTAMP:20260423T023740
CREATED:20220625T185926Z
LAST-MODIFIED:20220625T185926Z
UID:10004009-1654093800-1654099200@kiezkalender-lichtenberg.de
SUMMARY:Lichtenberger Operettenkreis
DESCRIPTION:„Im weißen Rößl” – Singspiel in drei Akten von Ralph Benatzky\, Robert Stolz\, Robert Gilbert.\nDie legendäre Inszenierung aus der „Bar jeder Vernunft” mit Max Raabe\, Otto Sander und Meret Becker.\n \nVortragender: Klaus-Jürgen Böhme\n 
URL:https://kiezkalender-lichtenberg.de/veranstaltung/lichtenberger-operettenkreis/
LOCATION:Kommunale Begegnungsstätte „Rusche 43“\, Ruschestraße 43\, Berlin\, 10367\, Germany
CATEGORIES:Kunst
ATTACH;FMTTYPE=image/jpeg:https://kiezkalender-lichtenberg.de/wp-content/uploads/2022/06/Operettenkreis-1-Juni-2022-e1651739795757-7PGl0f.tmp_.jpg
ORGANIZER;CN="Kommunale Begegnungsst%C3%A4tte Rusche 43":MAILTO:sbs.rusche43@gmx.de
END:VEVENT
BEGIN:VEVENT
DTSTART;TZID=Europe/Berlin:20220601T160000
DTEND;TZID=Europe/Berlin:20220601T180000
DTSTAMP:20260423T023740
CREATED:20220625T185925Z
LAST-MODIFIED:20220625T185925Z
UID:10004008-1654099200-1654106400@kiezkalender-lichtenberg.de
SUMMARY:Kindertagsfeier an zwei Orten
DESCRIPTION:Wir feiern an 2 Orten Kindertag!\n \nIm Kinderhaus Napf\, Hauffstrasse 3 in 10317 Berlin\, gibt es leckere Kaltgetränke\, Hüpfburg und verschiedene Spiele.\n \nIm Nachbarschaftshaus Orangerie\, Schulze-Boysen-Str. 38\, 10365 Berlin\, erwarten euch wieder die Kunst Koffer sowie Leckeres vom Grill. 
URL:https://kiezkalender-lichtenberg.de/veranstaltung/kindertagsfeier-an-zwei-orten/
CATEGORIES:Familie,Feste
ATTACH;FMTTYPE=image/png:https://kiezkalender-lichtenberg.de/wp-content/uploads/2022/06/Kindertag-Kiezspinne-und-Napf-gY7xKT.tmp_.png
END:VEVENT
BEGIN:VEVENT
DTSTART;TZID=Europe/Berlin:20220601T160000
DTEND;TZID=Europe/Berlin:20220601T180000
DTSTAMP:20260423T023740
CREATED:20220625T185927Z
LAST-MODIFIED:20220625T185927Z
UID:10004010-1654099200-1654106400@kiezkalender-lichtenberg.de
SUMMARY:Familiennachmittag in der Kiezspinne
DESCRIPTION:Familiennachmittag Kiezspinne mit Sport\, Spielen und Basteln.
URL:https://kiezkalender-lichtenberg.de/veranstaltung/familiennachmittag-in-der-kiezspinne/
CATEGORIES:Familie
ATTACH;FMTTYPE=image/jpeg:https://kiezkalender-lichtenberg.de/wp-content/uploads/2022/06/Familiennachmittag-Kiezspinne-bnxUtE.tmp_.jpg
END:VEVENT
BEGIN:VEVENT
DTSTART;TZID=Europe/Berlin:20220602T160000
DTEND;TZID=Europe/Berlin:20220602T180000
DTSTAMP:20260423T023740
CREATED:20220625T185928Z
LAST-MODIFIED:20220625T185928Z
UID:10004011-1654185600-1654192800@kiezkalender-lichtenberg.de
SUMMARY:Angebote für ukrainische Geflüchtete: Sprach- und Begegnungscafé
DESCRIPTION:Für Ukrainische Gefüchtete gibt es ab sofort ein Sprach- und Begegnungscafé im Nachbarschaftshaus ORANGERIE-Kiezspinne\, es gibt einen großen wundervollen Garten.
URL:https://kiezkalender-lichtenberg.de/veranstaltung/angebote-fuer-ukrainische-gefluechtete-sprach-und-begegnungscafe/
CATEGORIES:Familie
ATTACH;FMTTYPE=image/png:https://kiezkalender-lichtenberg.de/wp-content/uploads/2022/06/Kiezspinne-q9xnOe.tmp_.png
END:VEVENT
END:VCALENDAR