BEGIN:VCALENDAR
VERSION:2.0
PRODID:-//Kiezkalender Lichtenberg - ECPv6.15.12.2//NONSGML v1.0//EN
CALSCALE:GREGORIAN
METHOD:PUBLISH
X-ORIGINAL-URL:https://kiezkalender-lichtenberg.de
X-WR-CALDESC:Veranstaltungen für Kiezkalender Lichtenberg
REFRESH-INTERVAL;VALUE=DURATION:PT1H
X-Robots-Tag:noindex
X-PUBLISHED-TTL:PT1H
BEGIN:VTIMEZONE
TZID:Europe/Berlin
BEGIN:DAYLIGHT
TZOFFSETFROM:+0100
TZOFFSETTO:+0200
TZNAME:CEST
DTSTART:20250330T010000
END:DAYLIGHT
BEGIN:STANDARD
TZOFFSETFROM:+0200
TZOFFSETTO:+0100
TZNAME:CET
DTSTART:20251026T010000
END:STANDARD
BEGIN:DAYLIGHT
TZOFFSETFROM:+0100
TZOFFSETTO:+0200
TZNAME:CEST
DTSTART:20260329T010000
END:DAYLIGHT
BEGIN:STANDARD
TZOFFSETFROM:+0200
TZOFFSETTO:+0100
TZNAME:CET
DTSTART:20261025T010000
END:STANDARD
BEGIN:DAYLIGHT
TZOFFSETFROM:+0100
TZOFFSETTO:+0200
TZNAME:CEST
DTSTART:20270328T010000
END:DAYLIGHT
BEGIN:STANDARD
TZOFFSETFROM:+0200
TZOFFSETTO:+0100
TZNAME:CET
DTSTART:20271031T010000
END:STANDARD
END:VTIMEZONE
BEGIN:VEVENT
DTSTART;TZID=Europe/Berlin:20260112T163000
DTEND;TZID=Europe/Berlin:20260112T173000
DTSTAMP:20260424T141644
CREATED:20260106T091403Z
LAST-MODIFIED:20260106T091403Z
UID:10043326-1768235400-1768239000@kiezkalender-lichtenberg.de
SUMMARY:Tischtennis-Treff
DESCRIPTION:Der Tischtennis-Treff ist offen für alle – jede*r ist herzlich willkommen! \nMan kann etwas für die Gesundheit tun\, wunderbar abschalten und den Kopf vom Alltag freibekommen. Regelmäßige Bewegung fördert das Wohlbefinden und macht einfach Spaß. \nDie Teilnahme ist kostenlos. Es ist keine Anmeldung erforderlich.
URL:https://kiezkalender-lichtenberg.de/veranstaltung/tischtennis-treff/2026-01-12/
LOCATION:Nachbarschaftshaus Ostseeviertel\, Ribnitzer Str. 1b\, Berlin\, 13051
CATEGORIES:Sport
ATTACH;FMTTYPE=image/jpeg:https://kiezkalender-lichtenberg.de/wp-content/uploads/2026/01/Tischtennis-Treff-montags-scaled.jpg
END:VEVENT
BEGIN:VEVENT
DTSTART;TZID=Europe/Berlin:20260112T193000
DTEND;TZID=Europe/Berlin:20260112T213000
DTSTAMP:20260424T141644
CREATED:20260105T161617Z
LAST-MODIFIED:20260105T161617Z
UID:10043324-1768246200-1768253400@kiezkalender-lichtenberg.de
SUMMARY:Dein Kiez im Rampenlicht - Lichtenberg Süd
DESCRIPTION:Die neuen Bezirksregionenprofile sind veröffentlicht und Lichtenberg lädt zum Dialog ein: \nWie verändert sich mein Stadtteil? \nWelche Entwicklungen prägen das Leben in meinem Kiez? \nDialog mit dem Bezirksbürgermeister und den Bezirksstadträt*innen des Bezirksamts Lichtenberg \nBitte hier anmelden: https://www.berlin.de/ba-lichtenberg/auf-einen-blick/buergerservice/gemeinwesen/artikel.772519.php
URL:https://kiezkalender-lichtenberg.de/veranstaltung/dein-kiez-im-rampenlicht-lichtenberg-sued/
LOCATION:Kulturhaus Karlshorst\, Treskowallee 112\, 10318
CATEGORIES:Nachbarschaft,Workshops
ATTACH;FMTTYPE=application/pdf:https://kiezkalender-lichtenberg.de/wp-content/uploads/2026/01/BzRP_Plakat_LiSued.pdf
END:VEVENT
BEGIN:VEVENT
DTSTART;TZID=Europe/Berlin:20260113T130000
DTEND;TZID=Europe/Berlin:20260113T150000
DTSTAMP:20260424T141644
CREATED:20250611T095420Z
LAST-MODIFIED:20250611T095420Z
UID:10037719-1768309200-1768316400@kiezkalender-lichtenberg.de
SUMMARY:Sprechstunde der Kontaktstelle PflegeEngagement
DESCRIPTION:Wir wollen pflegende und sorgende An- und Zugehörige wohnortnah unterstützen und entlasten: \n– durch Gruppenangebote (Gesprächs- und Aktivgruppen)\n– durch einen ehrenamtlichen Besuchsdienst (keine pflegerischen/ haushaltsnahen Dienstleistungen/ Begleitungen zu Ärzten usw.)\n– Entlastungsgespräche\n– Informationsveranstaltungen rund um das Thema Pflege\, Alter und Gesundheit\n– Unterstützung bei der Gründung von Netzwerken und Nachbarschaftsinitiatíve \nSprechzeiten: \nSchulze-Boysen-Str. 37\, 2. OG rechts gegenüber der Kiezspinne \nDienstag: 13-15 Uhr \nDonnerstag: 10-12 Uhr und nach telefonischer Vereinbarung \nWir kommen auch zu Ihnen nach Hause und beraten online per Zoom! \nTelefon: 030/28 47 23 95  \nMail: kpe@kiezspinne.de \nHomepage: www.kpe-lichtenberg.de \nHaben Sie Mut und melden Sie sich gerne bei uns! Wir freuen uns auch über ehrenamtliches Engagement!
URL:https://kiezkalender-lichtenberg.de/veranstaltung/sprechstunde-der-kontaktstelle-pflegeengagement/2026-01-13/
LOCATION:Kontaktstelle PflegeEngagement\, Schulze-Boysen-Str.37\, Berlin\, 10365\, Germany
CATEGORIES:Beratung,Familie,Gesundheit
ATTACH;FMTTYPE=image/jpeg:https://kiezkalender-lichtenberg.de/wp-content/uploads/2025/06/Tuerschild_SB-1.jpg
ORGANIZER;CN="Kontaktstelle PflegeEngagement Lichtenberg":MAILTO:kpe@kiezspinne.de
END:VEVENT
BEGIN:VEVENT
DTSTART;TZID=Europe/Berlin:20260114T130000
DTEND;TZID=Europe/Berlin:20260114T153000
DTSTAMP:20260424T141644
CREATED:20250915T103940Z
LAST-MODIFIED:20250915T103940Z
UID:10039806-1768395600-1768404600@kiezkalender-lichtenberg.de
SUMMARY:Offener Nachbarschaftstreff für Menschen mit und ohne Behinderung
DESCRIPTION:Was erwartet dich?\n– Offene Gespräche und Austausch zu Themen\, die uns bewegen\n– Vernetzung mit anderen Menschen Unterstützung und gegenseitige Hilfe in einer freundlichen Atmosphäre\n– Gemeinsame Aktivitäten und kreative Angebote (je nach Interesse) \nAlle sind willkommen – egal\, ob du Unterstützung suchst oder einfach nur neue Leute kennenlernen möchtest!
URL:https://kiezkalender-lichtenberg.de/veranstaltung/offener-nachbarschaftstreff-fuer-menschen-mit-und-ohne-behinderung/2026-01-14/
LOCATION:Stadtteilzentrum Welsekiosk\, Falkenberger Chaussee 136\, Berlin\, 13057\, Germany
CATEGORIES:Beratung,Essen,Gesundheit,Nachbarschaft
ATTACH;FMTTYPE=image/jpeg:https://kiezkalender-lichtenberg.de/wp-content/uploads/2025/09/Screenshot-2025-09-15-112358.jpg
ORGANIZER;CN="Welsekiosk":MAILTO:stz-welsekiosk@vav-hhausen.de
END:VEVENT
BEGIN:VEVENT
DTSTART;TZID=Europe/Berlin:20260115T143000
DTEND;TZID=Europe/Berlin:20260115T160000
DTSTAMP:20260424T141644
CREATED:20251006T111339Z
LAST-MODIFIED:20251006T111339Z
UID:10041013-1768487400-1768492800@kiezkalender-lichtenberg.de
SUMMARY:Bewegung mit Yoga-Elementen für Menschen mit und ohne Demenz
DESCRIPTION:Bewegung mit Yoga-Elementen für Menschen mit und ohne Demenz\njeden 3. Donnerstag im Monat\, 14.30 – 16. 00 Uhr \nMit Tanja\nYogalehrerin – Entspannungstherapeutin – Fachkraft für\nMassage und Wellness \nYoga ist eine Kombination aus Körper-\, Atem- und Meditationsübungen. Gemeinsam lernen Sie mit Tanja:\nGelenke zu mobilisieren\, sich zu Dehnen und damit Flexibilität zu erhalten\, Entspannungstechniken\, Atemübungen und vieles mehr. \nInformationen und Anmeldung:\n0152 22 55 16 63\nmesserschmidt@rbo-inmitten.berlin \n💰kostenfrei
URL:https://kiezkalender-lichtenberg.de/veranstaltung/bewegung-mit-yoga-elementen-fuer-menschen-mit-und-ohne-demenz/2026-01-15/
LOCATION:Stadtteilzentrum Welsekiosk\, Falkenberger Chaussee 136\, Berlin\, 13057\, Germany
CATEGORIES:Gesundheit,Sport
ATTACH;FMTTYPE=image/jpeg:https://kiezkalender-lichtenberg.de/wp-content/uploads/2025/10/yoga.jpg
ORGANIZER;CN="Welsekiosk":MAILTO:stz-welsekiosk@vav-hhausen.de
END:VEVENT
END:VCALENDAR