BEGIN:VCALENDAR
VERSION:2.0
PRODID:-//Kiezkalender Lichtenberg - ECPv6.15.12.2//NONSGML v1.0//EN
CALSCALE:GREGORIAN
METHOD:PUBLISH
X-WR-CALNAME:Kiezkalender Lichtenberg
X-ORIGINAL-URL:https://kiezkalender-lichtenberg.de
X-WR-CALDESC:Veranstaltungen für Kiezkalender Lichtenberg
REFRESH-INTERVAL;VALUE=DURATION:PT1H
X-Robots-Tag:noindex
X-PUBLISHED-TTL:PT1H
BEGIN:VTIMEZONE
TZID:Europe/Berlin
BEGIN:DAYLIGHT
TZOFFSETFROM:+0100
TZOFFSETTO:+0200
TZNAME:CEST
DTSTART:20230326T010000
END:DAYLIGHT
BEGIN:STANDARD
TZOFFSETFROM:+0200
TZOFFSETTO:+0100
TZNAME:CET
DTSTART:20231029T010000
END:STANDARD
BEGIN:DAYLIGHT
TZOFFSETFROM:+0100
TZOFFSETTO:+0200
TZNAME:CEST
DTSTART:20240331T010000
END:DAYLIGHT
BEGIN:STANDARD
TZOFFSETFROM:+0200
TZOFFSETTO:+0100
TZNAME:CET
DTSTART:20241027T010000
END:STANDARD
BEGIN:DAYLIGHT
TZOFFSETFROM:+0100
TZOFFSETTO:+0200
TZNAME:CEST
DTSTART:20250330T010000
END:DAYLIGHT
BEGIN:STANDARD
TZOFFSETFROM:+0200
TZOFFSETTO:+0100
TZNAME:CET
DTSTART:20251026T010000
END:STANDARD
END:VTIMEZONE
BEGIN:VEVENT
DTSTART;TZID=Europe/Berlin:20240617T140000
DTEND;TZID=Europe/Berlin:20240617T170000
DTSTAMP:20260425T151850
CREATED:20240610T124149Z
LAST-MODIFIED:20241118T111826Z
UID:10032092-1718632800-1718643600@kiezkalender-lichtenberg.de
SUMMARY:Wikingerschach im Fennpfuhlpark
DESCRIPTION:Outdoorspiele im Fennpfuhlpark als Gemeinschafts- und Begegnungsaktion der Nachbarschaft mit kleinem Picknick (jeder bringt eine Kleinigkeit mit). \nKommt gern vorbei! \nSagt uns gern Bescheid\, ob ihr teilnehmen möchten.\n📧 msa@kiezspinne.de\n☎️ 0178 / 3042478
URL:https://kiezkalender-lichtenberg.de/veranstaltung/wikingerschach-im-fennpfuhlpark-2/
LOCATION:Seeterrassen im Fennpfuhlpark
ATTACH;FMTTYPE=image/png:https://kiezkalender-lichtenberg.de/wp-content/uploads/2024/06/Juni-Boccia-und-Wikingerschach-.png
ORGANIZER;CN="Mobile Stadtteilarbeit Fennpfuhl":MAILTO:📧 msa@kiezspinne.de
END:VEVENT
BEGIN:VEVENT
DTSTART;TZID=Europe/Berlin:20240617T150000
DTEND;TZID=Europe/Berlin:20240617T163000
DTSTAMP:20260425T151850
CREATED:20240214T092357Z
LAST-MODIFIED:20241101T113058Z
UID:10014121-1718636400-1718641800@kiezkalender-lichtenberg.de
SUMMARY:Hausaufgaben- und Lernbetreuung für Grundschulkinder
DESCRIPTION:Lernstudio \nJeden Montag laden wir Grundschulkinder zwischen 15 und 16.30Uhr in unserer Lernstudio ein. Sie erhalten dort kompetente Unterstützung beim Erledigen ihrer Hausaufgaben und können Fragen zu Lerninhalten stellen. \nDas Lernstudio bieten wir in Kooperation mit Schlaufuchs e.V. \nEine einmalige Anmeldung ist erwünscht.
URL:https://kiezkalender-lichtenberg.de/veranstaltung/hausaufgaben-und-lernbetreuung-fuer-grundschulkinder/2024-06-17/
LOCATION:BI\, Neustrelitzer Straße 63\, Berlin\, 13055
ATTACH;FMTTYPE=image/jpeg:https://kiezkalender-lichtenberg.de/wp-content/uploads/2024/02/Lernstudio.jpg
END:VEVENT
BEGIN:VEVENT
DTSTART;TZID=Europe/Berlin:20240618T120000
DTEND;TZID=Europe/Berlin:20240618T140000
DTSTAMP:20260425T151850
CREATED:20230830T082033Z
LAST-MODIFIED:20250312T162448Z
UID:10006495-1718712000-1718719200@kiezkalender-lichtenberg.de
SUMMARY:Kiez-Küche
DESCRIPTION:In Gesellschaft schmeckt es besser! \nBeim gemeinsamen Mittagessen – frisch\, saisonal\, vegetarisch und lecker! gekocht von Thorsten – mit Nachbar:innen ins Gespräch kommen! \nOhne Anmeldung. Einfach vorbei kommen. Wir freuen uns auf euch! \nKostenbeteiligung: 3\,- Euro
URL:https://kiezkalender-lichtenberg.de/veranstaltung/in-gesellschaft-schmeckt-es-besser/2024-06-18/
LOCATION:NachbarschaftsTreff an der Seefelder\, Seefelder Str. 50\, Berlin\, 13053\, Germany
CATEGORIES:Essen
ATTACH;FMTTYPE=image/jpeg:https://kiezkalender-lichtenberg.de/wp-content/uploads/2023/08/kiezkueche.jpg
ORGANIZER;CN="NachbarschaftsTreff an der Seefelder":MAILTO:info@nachbarschaftstreff-seefelder.de
END:VEVENT
BEGIN:VEVENT
DTSTART;TZID=Europe/Berlin:20240620T100000
DTEND;TZID=Europe/Berlin:20240620T120000
DTSTAMP:20260425T151850
CREATED:20240304T162545Z
LAST-MODIFIED:20241101T113806Z
UID:10016218-1718877600-1718884800@kiezkalender-lichtenberg.de
SUMMARY:Sprachfrühstück
DESCRIPTION:Nahrungsmittelunverträglichkeit und ähnliche Wörter begegnen dir im Alltag und du fragst dich:\nWas bedeutet das? Wie nutzt man das Wort? \nWas sind Artikel (der\, die\, das) und wie benutzt man sie? \nDas und mehr steht im Fokus des Sprachfrühstücks. \nNach einem kurzen Input werden wir bei leckerem Frühstück viel Zeit haben\, um gemeinsam deutsche Sprachpraxis sammeln zu können – und das ganz ohne Druck. \nJedes Sprachlevel ist willkommen. \nDein Kind kannst du mitbringen. Der Indoorspielplatz bietet viel Raum zur Beschäftigung für die Kleinen.
URL:https://kiezkalender-lichtenberg.de/veranstaltung/sprachfruehstueck/2024-06-20/
LOCATION:Christliches Sozialwerk Berlin eV.\, Landsberger Allee 225\, 13055 Berlin\, Landsberger Allee 225\, Berlin\, 13055
CATEGORIES:Beratung,Familie
ATTACH;FMTTYPE=image/jpeg:https://kiezkalender-lichtenberg.de/wp-content/uploads/2024/03/Sprachfruehstueck_Plakat-scaled.jpg
ORGANIZER;CN="Christliches Sozialwerk Berlin e.V.":MAILTO:Info@christliches-sozialwerk-berlin.de
END:VEVENT
BEGIN:VEVENT
DTSTART;TZID=Europe/Berlin:20240621T160000
DTEND;TZID=Europe/Berlin:20240621T190000
DTSTAMP:20260425T151850
CREATED:20240529T092904Z
LAST-MODIFIED:20240604T133535Z
UID:10032074-1718985600-1718996400@kiezkalender-lichtenberg.de
SUMMARY:Fête de la Musique im Fennpfuhlpark
DESCRIPTION:Fenn de la Musique – Die Fête de la Musique im Fennpfuhlpark\n\nZeit: 16:00 – 19:00 Uhr\nOrt: Seeterrassen im Fennpfuhlpark\nMit dabei:\n\nKarlshorster Chorifeen (Chor)\nEnsemble „Alte Musik“ der Schostakowitsch-Musikschule Fennpfuhl\nGenerationenchor FröSi\nAnsam Ensemble (Iran Fusion Sounds)\nCoconut Fuzz (Garagerock)\nBateria Brincadeira (Trommelgruppe)\n\n\n\n+ Silent Disco \n+ Freizeitspiele im Park \n+Kreativprogramm mit Hjordette \n  \nDer Eintritt ist frei! \n 
URL:https://kiezkalender-lichtenberg.de/veranstaltung/fete-de-la-musique-im-fennpfuhlpark/
LOCATION:Seeterrassen im Fennpfuhlpark
ATTACH;FMTTYPE=image/png:https://kiezkalender-lichtenberg.de/wp-content/uploads/2024/05/Fete-Final.png
END:VEVENT
BEGIN:VEVENT
DTSTART;TZID=Europe/Berlin:20240621T163000
DTEND;TZID=Europe/Berlin:20240621T180000
DTSTAMP:20260425T151850
CREATED:20240617T194223Z
LAST-MODIFIED:20241118T104755Z
UID:10032384-1718987400-1718992800@kiezkalender-lichtenberg.de
SUMMARY:Fête de la Musique im NachbarschaftsTreff
DESCRIPTION:Am Tag des Sommeranfangs – Freitag\, 21. Juni 2024 – feiert Berlin die Fête de la Musique. Überall in der ganzen Stadt spielen Musiker:innen kostenlos auf Bühnen und in vielen Straßen. Auch im NachbarschaftsTreff an der Seefelder wird gefeiert und wir laden alle Nachbar:innen ganz herzlich zum Konzert von 3Hertz auf unsere Terrasse ein!
URL:https://kiezkalender-lichtenberg.de/veranstaltung/fete-de-la-musique-im-nachbarschaftstreff/
LOCATION:NachbarschaftsTreff an der Seefelder\, Seefelder Str. 50\, Berlin\, 13053\, Germany
CATEGORIES:Feste,Kunst
ATTACH;FMTTYPE=image/jpeg:https://kiezkalender-lichtenberg.de/wp-content/uploads/2024/06/Fete-de-la-Musique-im-NachbarschaftTreff-a.-d.-Seefelder.jpg
ORGANIZER;CN="NachbarschaftsTreff an der Seefelder":MAILTO:info@nachbarschaftstreff-seefelder.de
END:VEVENT
END:VCALENDAR