BEGIN:VCALENDAR
VERSION:2.0
PRODID:-//Kiezkalender Lichtenberg - ECPv6.15.12.2//NONSGML v1.0//EN
CALSCALE:GREGORIAN
METHOD:PUBLISH
X-ORIGINAL-URL:https://kiezkalender-lichtenberg.de
X-WR-CALDESC:Veranstaltungen für Kiezkalender Lichtenberg
REFRESH-INTERVAL;VALUE=DURATION:PT1H
X-Robots-Tag:noindex
X-PUBLISHED-TTL:PT1H
BEGIN:VTIMEZONE
TZID:Europe/Berlin
BEGIN:DAYLIGHT
TZOFFSETFROM:+0100
TZOFFSETTO:+0200
TZNAME:CEST
DTSTART:20230326T010000
END:DAYLIGHT
BEGIN:STANDARD
TZOFFSETFROM:+0200
TZOFFSETTO:+0100
TZNAME:CET
DTSTART:20231029T010000
END:STANDARD
BEGIN:DAYLIGHT
TZOFFSETFROM:+0100
TZOFFSETTO:+0200
TZNAME:CEST
DTSTART:20240331T010000
END:DAYLIGHT
BEGIN:STANDARD
TZOFFSETFROM:+0200
TZOFFSETTO:+0100
TZNAME:CET
DTSTART:20241027T010000
END:STANDARD
BEGIN:DAYLIGHT
TZOFFSETFROM:+0100
TZOFFSETTO:+0200
TZNAME:CEST
DTSTART:20250330T010000
END:DAYLIGHT
BEGIN:STANDARD
TZOFFSETFROM:+0200
TZOFFSETTO:+0100
TZNAME:CET
DTSTART:20251026T010000
END:STANDARD
END:VTIMEZONE
BEGIN:VEVENT
DTSTART;TZID=Europe/Berlin:20240527T150000
DTEND;TZID=Europe/Berlin:20240527T163000
DTSTAMP:20260424T110556
CREATED:20240214T092357Z
LAST-MODIFIED:20241101T113058Z
UID:10014118-1716822000-1716827400@kiezkalender-lichtenberg.de
SUMMARY:Hausaufgaben- und Lernbetreuung für Grundschulkinder
DESCRIPTION:Lernstudio \nJeden Montag laden wir Grundschulkinder zwischen 15 und 16.30Uhr in unserer Lernstudio ein. Sie erhalten dort kompetente Unterstützung beim Erledigen ihrer Hausaufgaben und können Fragen zu Lerninhalten stellen. \nDas Lernstudio bieten wir in Kooperation mit Schlaufuchs e.V. \nEine einmalige Anmeldung ist erwünscht.
URL:https://kiezkalender-lichtenberg.de/veranstaltung/hausaufgaben-und-lernbetreuung-fuer-grundschulkinder/2024-05-27/
LOCATION:BI\, Neustrelitzer Straße 63\, Berlin\, 13055
ATTACH;FMTTYPE=image/jpeg:https://kiezkalender-lichtenberg.de/wp-content/uploads/2024/02/Lernstudio.jpg
END:VEVENT
BEGIN:VEVENT
DTSTART;TZID=Europe/Berlin:20240528T120000
DTEND;TZID=Europe/Berlin:20240528T140000
DTSTAMP:20260424T110556
CREATED:20230830T082033Z
LAST-MODIFIED:20250312T162448Z
UID:10006492-1716897600-1716904800@kiezkalender-lichtenberg.de
SUMMARY:Kiez-Küche
DESCRIPTION:In Gesellschaft schmeckt es besser! \nBeim gemeinsamen Mittagessen – frisch\, saisonal\, vegetarisch und lecker! gekocht von Thorsten – mit Nachbar:innen ins Gespräch kommen! \nOhne Anmeldung. Einfach vorbei kommen. Wir freuen uns auf euch! \nKostenbeteiligung: 3\,- Euro
URL:https://kiezkalender-lichtenberg.de/veranstaltung/in-gesellschaft-schmeckt-es-besser/2024-05-28/
LOCATION:NachbarschaftsTreff an der Seefelder\, Seefelder Str. 50\, Berlin\, 13053\, Germany
CATEGORIES:Essen
ATTACH;FMTTYPE=image/jpeg:https://kiezkalender-lichtenberg.de/wp-content/uploads/2023/08/kiezkueche.jpg
ORGANIZER;CN="NachbarschaftsTreff an der Seefelder":MAILTO:info@nachbarschaftstreff-seefelder.de
END:VEVENT
BEGIN:VEVENT
DTSTART;TZID=Europe/Berlin:20240530T100000
DTEND;TZID=Europe/Berlin:20240530T120000
DTSTAMP:20260424T110556
CREATED:20240304T162545Z
LAST-MODIFIED:20241101T113806Z
UID:10016215-1717063200-1717070400@kiezkalender-lichtenberg.de
SUMMARY:Sprachfrühstück
DESCRIPTION:Nahrungsmittelunverträglichkeit und ähnliche Wörter begegnen dir im Alltag und du fragst dich:\nWas bedeutet das? Wie nutzt man das Wort? \nWas sind Artikel (der\, die\, das) und wie benutzt man sie? \nDas und mehr steht im Fokus des Sprachfrühstücks. \nNach einem kurzen Input werden wir bei leckerem Frühstück viel Zeit haben\, um gemeinsam deutsche Sprachpraxis sammeln zu können – und das ganz ohne Druck. \nJedes Sprachlevel ist willkommen. \nDein Kind kannst du mitbringen. Der Indoorspielplatz bietet viel Raum zur Beschäftigung für die Kleinen.
URL:https://kiezkalender-lichtenberg.de/veranstaltung/sprachfruehstueck/2024-05-30/
LOCATION:Christliches Sozialwerk Berlin eV.\, Landsberger Allee 225\, 13055 Berlin\, Landsberger Allee 225\, Berlin\, 13055
CATEGORIES:Beratung,Familie
ATTACH;FMTTYPE=image/jpeg:https://kiezkalender-lichtenberg.de/wp-content/uploads/2024/03/Sprachfruehstueck_Plakat-scaled.jpg
ORGANIZER;CN="Christliches Sozialwerk Berlin e.V.":MAILTO:Info@christliches-sozialwerk-berlin.de
END:VEVENT
BEGIN:VEVENT
DTSTART;TZID=Europe/Berlin:20240531T080000
DTEND;TZID=Europe/Berlin:20240531T160000
DTSTAMP:20260424T110556
CREATED:20240515T132237Z
LAST-MODIFIED:20241101T115828Z
UID:10032065-1717142400-1717171200@kiezkalender-lichtenberg.de
SUMMARY:Tag der Nachbarn
DESCRIPTION:Wir laden Sie herzlich am 3o.05. zum „Tag der Nachbarn“ von 16 Uhr bis 18 Uhr ein! Kommen Sie vorbei! Wir haben Aktionen für Groß und Klein!
URL:https://kiezkalender-lichtenberg.de/veranstaltung/tag-der-nachbarn/
LOCATION:Kiezspinne FAS e.V. – Nachbarschaftshaus Orangerie\, Schulze-Boysen-Straße 38\, Berlin\, 10365\, Germany
CATEGORIES:Feste
ATTACH;FMTTYPE=image/jpeg:https://kiezkalender-lichtenberg.de/wp-content/uploads/2024/05/Tag_der_Nachbarn_Plakat-A4_2024-1-scaled.jpg
ORGANIZER;CN="Kiezspinne FAS e.V. %E2%80%93 Nachbarschaftshaus Orangerie":MAILTO:info@kiezspinne.de
END:VEVENT
END:VCALENDAR