BEGIN:VCALENDAR
VERSION:2.0
PRODID:-//Kiezkalender Lichtenberg - ECPv6.15.12.2//NONSGML v1.0//EN
CALSCALE:GREGORIAN
METHOD:PUBLISH
X-WR-CALNAME:Kiezkalender Lichtenberg
X-ORIGINAL-URL:https://kiezkalender-lichtenberg.de
X-WR-CALDESC:Veranstaltungen für Kiezkalender Lichtenberg
REFRESH-INTERVAL;VALUE=DURATION:PT1H
X-Robots-Tag:noindex
X-PUBLISHED-TTL:PT1H
BEGIN:VTIMEZONE
TZID:Europe/Berlin
BEGIN:DAYLIGHT
TZOFFSETFROM:+0100
TZOFFSETTO:+0200
TZNAME:CEST
DTSTART:20240331T010000
END:DAYLIGHT
BEGIN:STANDARD
TZOFFSETFROM:+0200
TZOFFSETTO:+0100
TZNAME:CET
DTSTART:20241027T010000
END:STANDARD
BEGIN:DAYLIGHT
TZOFFSETFROM:+0100
TZOFFSETTO:+0200
TZNAME:CEST
DTSTART:20250330T010000
END:DAYLIGHT
BEGIN:STANDARD
TZOFFSETFROM:+0200
TZOFFSETTO:+0100
TZNAME:CET
DTSTART:20251026T010000
END:STANDARD
BEGIN:DAYLIGHT
TZOFFSETFROM:+0100
TZOFFSETTO:+0200
TZNAME:CEST
DTSTART:20260329T010000
END:DAYLIGHT
BEGIN:STANDARD
TZOFFSETFROM:+0200
TZOFFSETTO:+0100
TZNAME:CET
DTSTART:20261025T010000
END:STANDARD
END:VTIMEZONE
BEGIN:VEVENT
DTSTART;TZID=Europe/Berlin:20250614T183000
DTEND;TZID=Europe/Berlin:20250614T220000
DTSTAMP:20260423T145013
CREATED:20250519T194409Z
LAST-MODIFIED:20250522T143842Z
UID:10035992-1749925800-1749938400@kiezkalender-lichtenberg.de
SUMMARY:Wir im Kiez Konzerte
DESCRIPTION:Komm vorbei zum Abendprogramm des Wir im Kiez-Fests am 14. Juni auf dem Münsterlandplatz – es erwarten dich drei großartige Bands mit richtig guter Musik! \n\n\n\n\n\n\n18:30 Uhr – Alex born to be wild \n19:50 Uhr – Lieberlila \n21:00 Uhr – Clash Clash Bang Bang
URL:https://kiezkalender-lichtenberg.de/veranstaltung/wir-im-kiez-konzerte/
LOCATION:Münsterlandplatz\, Münsterlandplatz\, Berlin\, 10317 Berlin\, Germany
CATEGORIES:Feste
ATTACH;FMTTYPE=image/png:https://kiezkalender-lichtenberg.de/wp-content/uploads/2025/05/Wir-im-Kiez-Fest-2025.png
END:VEVENT
END:VCALENDAR