BEGIN:VCALENDAR
VERSION:2.0
PRODID:-//Kiezkalender Lichtenberg - ECPv6.15.12.2//NONSGML v1.0//EN
CALSCALE:GREGORIAN
METHOD:PUBLISH
X-WR-CALNAME:Kiezkalender Lichtenberg
X-ORIGINAL-URL:https://kiezkalender-lichtenberg.de
X-WR-CALDESC:Veranstaltungen für Kiezkalender Lichtenberg
REFRESH-INTERVAL;VALUE=DURATION:PT1H
X-Robots-Tag:noindex
X-PUBLISHED-TTL:PT1H
BEGIN:VTIMEZONE
TZID:Europe/Berlin
BEGIN:DAYLIGHT
TZOFFSETFROM:+0100
TZOFFSETTO:+0200
TZNAME:CEST
DTSTART:20230326T010000
END:DAYLIGHT
BEGIN:STANDARD
TZOFFSETFROM:+0200
TZOFFSETTO:+0100
TZNAME:CET
DTSTART:20231029T010000
END:STANDARD
BEGIN:DAYLIGHT
TZOFFSETFROM:+0100
TZOFFSETTO:+0200
TZNAME:CEST
DTSTART:20240331T010000
END:DAYLIGHT
BEGIN:STANDARD
TZOFFSETFROM:+0200
TZOFFSETTO:+0100
TZNAME:CET
DTSTART:20241027T010000
END:STANDARD
BEGIN:DAYLIGHT
TZOFFSETFROM:+0100
TZOFFSETTO:+0200
TZNAME:CEST
DTSTART:20250330T010000
END:DAYLIGHT
BEGIN:STANDARD
TZOFFSETFROM:+0200
TZOFFSETTO:+0100
TZNAME:CET
DTSTART:20251026T010000
END:STANDARD
END:VTIMEZONE
BEGIN:VEVENT
DTSTART;TZID=Europe/Berlin:20240722T100000
DTEND;TZID=Europe/Berlin:20240722T130000
DTSTAMP:20260420T014701
CREATED:20240702T111737Z
LAST-MODIFIED:20241116T003359Z
UID:10032428-1721642400-1721653200@kiezkalender-lichtenberg.de
SUMMARY:Mosaik-Workshop
DESCRIPTION:Wer Lust hat\, in nur 5 Stunden an zwei Montagen in den Sommerferien unter Anleitung der Künstlerin Cornelia Heisig die Mosaik-Kunst zu erlernen\, ist herzlich im NachbarschaftsTreff an der Seefelder willkommen! Der Kurs ist kostenfrei und für alle Altersgruppen geeignet. \nEs gibt zwei Kurse! Der eine findet 2 x Montag-Vormittag statt\, der andere 2 x Dienstag-Nachmittag. \nEine Anmeldung ist erforderlich\, da es pro Kurs nur 8 Plätze gibt!
URL:https://kiezkalender-lichtenberg.de/veranstaltung/mosaik-workshop-3/
LOCATION:NachbarschaftsTreff an der Seefelder\, Seefelder Str. 50\, Berlin\, 13053\, Germany
CATEGORIES:Kunst,Nachbarschaft,Workshops
ATTACH;FMTTYPE=image/jpeg:https://kiezkalender-lichtenberg.de/wp-content/uploads/2024/07/Einladung-zum-Mosaik-Workshop-in-den-Sommerferien-fuer-alle-Altersgruppen-3.jpg
ORGANIZER;CN="NachbarschaftsTreff an der Seefelder":MAILTO:info@nachbarschaftstreff-seefelder.de
END:VEVENT
BEGIN:VEVENT
DTSTART;TZID=Europe/Berlin:20240723T120000
DTEND;TZID=Europe/Berlin:20240723T140000
DTSTAMP:20260420T014701
CREATED:20230830T082033Z
LAST-MODIFIED:20250312T162448Z
UID:10006500-1721736000-1721743200@kiezkalender-lichtenberg.de
SUMMARY:Kiez-Küche
DESCRIPTION:In Gesellschaft schmeckt es besser! \nBeim gemeinsamen Mittagessen – frisch\, saisonal\, vegetarisch und lecker! gekocht von Thorsten – mit Nachbar:innen ins Gespräch kommen! \nOhne Anmeldung. Einfach vorbei kommen. Wir freuen uns auf euch! \nKostenbeteiligung: 3\,- Euro
URL:https://kiezkalender-lichtenberg.de/veranstaltung/in-gesellschaft-schmeckt-es-besser/2024-07-23/
LOCATION:NachbarschaftsTreff an der Seefelder\, Seefelder Str. 50\, Berlin\, 13053\, Germany
CATEGORIES:Essen
ATTACH;FMTTYPE=image/jpeg:https://kiezkalender-lichtenberg.de/wp-content/uploads/2023/08/kiezkueche.jpg
ORGANIZER;CN="NachbarschaftsTreff an der Seefelder":MAILTO:info@nachbarschaftstreff-seefelder.de
END:VEVENT
BEGIN:VEVENT
DTSTART;TZID=Europe/Berlin:20240723T140000
DTEND;TZID=Europe/Berlin:20240723T170000
DTSTAMP:20260420T014701
CREATED:20240702T110042Z
LAST-MODIFIED:20241116T010847Z
UID:10032426-1721743200-1721754000@kiezkalender-lichtenberg.de
SUMMARY:Mosaik-Workshop
DESCRIPTION:Wer Lust hat\, in nur 5 Stunden an zwei Montagen in den Sommerferien unter Anleitung der Künstlerin Cornelia Heisig die Mosaik-Kunst zu erlernen\, ist herzlich im NachbarschaftsTreff an der Seefelder willkommen! Der Kurs ist kostenfrei und für alle Altersgruppen geeignet. \nEs gibt zwei Kurse! Der eine findet 2 x Montag-Vormittag statt\, der andere 2 x Dienstag-Nachmittag. \nEine Anmeldung ist erforderlich\, da es pro Kurs nur 8 Plätze gibt!
URL:https://kiezkalender-lichtenberg.de/veranstaltung/mosaik-workshop-2/
LOCATION:NachbarschaftsTreff an der Seefelder\, Seefelder Str. 50\, Berlin\, 13053\, Germany
CATEGORIES:Kunst
ATTACH;FMTTYPE=image/jpeg:https://kiezkalender-lichtenberg.de/wp-content/uploads/2024/07/Einladung-zum-Mosaik-Workshop-in-den-Sommerferien-fuer-alle-Altersgruppen-1.jpg
ORGANIZER;CN="NachbarschaftsTreff an der Seefelder":MAILTO:info@nachbarschaftstreff-seefelder.de
END:VEVENT
BEGIN:VEVENT
DTSTART;TZID=Europe/Berlin:20240724T150000
DTEND;TZID=Europe/Berlin:20240724T170000
DTSTAMP:20260420T014701
CREATED:20230830T082458Z
LAST-MODIFIED:20241116T003653Z
UID:10009673-1721833200-1721840400@kiezkalender-lichtenberg.de
SUMMARY:Kiez-Café
DESCRIPTION:Frisch gebackener Kuchen\, Kaffee/Tee und weitere Getränke! \nOhne Anmeldung. Einfach vorbei kommen! Wir freuen uns auf euch! \nKostenbeteiligung: 1\,- bis 2\,- EUR
URL:https://kiezkalender-lichtenberg.de/veranstaltung/kiez-cafe/2024-07-24/
LOCATION:NachbarschaftsTreff an der Seefelder\, Seefelder Str. 50\, Berlin\, 13053\, Germany
ATTACH;FMTTYPE=image/png:https://kiezkalender-lichtenberg.de/wp-content/uploads/2023/08/cafe-7441426_1280.png
ORGANIZER;CN="NachbarschaftsTreff an der Seefelder":MAILTO:info@nachbarschaftstreff-seefelder.de
END:VEVENT
BEGIN:VEVENT
DTSTART;TZID=Europe/Berlin:20240725T130000
DTEND;TZID=Europe/Berlin:20240725T150000
DTSTAMP:20260420T014701
CREATED:20230830T090011Z
LAST-MODIFIED:20250312T145205Z
UID:10035094-1721912400-1721919600@kiezkalender-lichtenberg.de
SUMMARY:Sprachcafé für deutsche Sprache
DESCRIPTION:Ihr möchtet in entspannter Atmosphäre Deutsch üben oder eure Sprachkenntnisse verbessern? Dann kommt zu unserem Sprachcafé. Hier lernt ihr neue Vokabeln und die deutsche Kultur besser kennen. Wir freuen uns auf euch! \nSprachliche Begleitung in Deutsch\, Französisch\, Englisch\, Arabisch und Kurdisch. \nOhne Anmeldung. Einfach vorbeikommen! Das Angebot ist kostenfrei.
URL:https://kiezkalender-lichtenberg.de/veranstaltung/sprachcafe-fuer-deutsche-sprache/2024-07-25/
LOCATION:NachbarschaftsTreff an der Seefelder\, Seefelder Str. 50\, Berlin\, 13053\, Germany
CATEGORIES:Beratung
ATTACH;FMTTYPE=image/jpeg:https://kiezkalender-lichtenberg.de/wp-content/uploads/2023/08/Sprachcafe-fuer-deutsche-Sprache.jpg
ORGANIZER;CN="NachbarschaftsTreff an der Seefelder":MAILTO:info@nachbarschaftstreff-seefelder.de
END:VEVENT
END:VCALENDAR