BEGIN:VCALENDAR
VERSION:2.0
PRODID:-//Kiezkalender Lichtenberg - ECPv6.15.12.2//NONSGML v1.0//EN
CALSCALE:GREGORIAN
METHOD:PUBLISH
X-ORIGINAL-URL:https://kiezkalender-lichtenberg.de
X-WR-CALDESC:Veranstaltungen für Kiezkalender Lichtenberg
REFRESH-INTERVAL;VALUE=DURATION:PT1H
X-Robots-Tag:noindex
X-PUBLISHED-TTL:PT1H
BEGIN:VTIMEZONE
TZID:Europe/Berlin
BEGIN:DAYLIGHT
TZOFFSETFROM:+0100
TZOFFSETTO:+0200
TZNAME:CEST
DTSTART:20250330T010000
END:DAYLIGHT
BEGIN:STANDARD
TZOFFSETFROM:+0200
TZOFFSETTO:+0100
TZNAME:CET
DTSTART:20251026T010000
END:STANDARD
BEGIN:DAYLIGHT
TZOFFSETFROM:+0100
TZOFFSETTO:+0200
TZNAME:CEST
DTSTART:20260329T010000
END:DAYLIGHT
BEGIN:STANDARD
TZOFFSETFROM:+0200
TZOFFSETTO:+0100
TZNAME:CET
DTSTART:20261025T010000
END:STANDARD
BEGIN:DAYLIGHT
TZOFFSETFROM:+0100
TZOFFSETTO:+0200
TZNAME:CEST
DTSTART:20270328T010000
END:DAYLIGHT
BEGIN:STANDARD
TZOFFSETFROM:+0200
TZOFFSETTO:+0100
TZNAME:CET
DTSTART:20271031T010000
END:STANDARD
END:VTIMEZONE
BEGIN:VEVENT
DTSTART;TZID=Europe/Berlin:20260207T110000
DTEND;TZID=Europe/Berlin:20260207T153000
DTSTAMP:20260424T144739
CREATED:20260109T121230Z
LAST-MODIFIED:20260109T121230Z
UID:10043690-1770462000-1770478200@kiezkalender-lichtenberg.de
SUMMARY:WENDO Auffrischungskurs
DESCRIPTION:WENDO Auffrischungskurs am 7.2. von 11-15:30 Uhr. Auch für Neueinsteigerinnen geeignet. Nur für Frauen* und FLINTA+. \nWENDO ist eine Selbstverteidigungskunst für Frauen*. Es geht um Selbstbehauptung und das durchsetzen von Grenzen\, sowie um das Erlernen praktischer Selbstverteidigungstechniken.\nKeine Vorkenntnisse nötig. Bitte anmelden unter frauentreff.undine@vav-lichtenberg.de oder telefonisch unter 030-57799410.
URL:https://kiezkalender-lichtenberg.de/veranstaltung/wendo-auffrischungskurs/
LOCATION:Frauen*treff UNDINE\, Hagenstr. 57 EG EG\, Berlin\, 10365\, Germany
ATTACH;FMTTYPE=image/jpeg:https://kiezkalender-lichtenberg.de/wp-content/uploads/2026/01/WENDO-Auffrischungsworkshop.jpg
END:VEVENT
END:VCALENDAR