BEGIN:VCALENDAR
VERSION:2.0
PRODID:-//Kiezkalender Lichtenberg - ECPv6.15.12.2//NONSGML v1.0//EN
CALSCALE:GREGORIAN
METHOD:PUBLISH
X-WR-CALNAME:Kiezkalender Lichtenberg
X-ORIGINAL-URL:https://kiezkalender-lichtenberg.de
X-WR-CALDESC:Veranstaltungen für Kiezkalender Lichtenberg
REFRESH-INTERVAL;VALUE=DURATION:PT1H
X-Robots-Tag:noindex
X-PUBLISHED-TTL:PT1H
BEGIN:VTIMEZONE
TZID:Europe/Berlin
BEGIN:DAYLIGHT
TZOFFSETFROM:+0100
TZOFFSETTO:+0200
TZNAME:CEST
DTSTART:20250330T010000
END:DAYLIGHT
BEGIN:STANDARD
TZOFFSETFROM:+0200
TZOFFSETTO:+0100
TZNAME:CET
DTSTART:20251026T010000
END:STANDARD
BEGIN:DAYLIGHT
TZOFFSETFROM:+0100
TZOFFSETTO:+0200
TZNAME:CEST
DTSTART:20260329T010000
END:DAYLIGHT
BEGIN:STANDARD
TZOFFSETFROM:+0200
TZOFFSETTO:+0100
TZNAME:CET
DTSTART:20261025T010000
END:STANDARD
BEGIN:DAYLIGHT
TZOFFSETFROM:+0100
TZOFFSETTO:+0200
TZNAME:CEST
DTSTART:20270328T010000
END:DAYLIGHT
BEGIN:STANDARD
TZOFFSETFROM:+0200
TZOFFSETTO:+0100
TZNAME:CET
DTSTART:20271031T010000
END:STANDARD
END:VTIMEZONE
BEGIN:VEVENT
DTSTART;TZID=Europe/Berlin:20261002T080000
DTEND;TZID=Europe/Berlin:20261002T140000
DTSTAMP:20260423T224840
CREATED:20250627T084656Z
LAST-MODIFIED:20250627T084656Z
UID:10038151-1790928000-1790949600@kiezkalender-lichtenberg.de
SUMMARY:Soziales Schreibbüro für Menschen in Lichtenberg\, die Hilfe brauchen und Leistungen erhalten
DESCRIPTION:Jeden Freitag | 8:00 – 14:00 Uhr \nWir helfen Ihnen u.a. kostenlos dabei: \n\nFormulare und Anträge auszufüllen\nTexte zu verstehen\nBeratungsstellen zu finden\nBriefe zu schreiben\nBewerbungen zu erstellen\nSie zu Behörden zu begleiten\n\nKontakt:\nJörn Lautenschläger\, 030 – 610 811 866\, lich@agens-berlin.de
URL:https://kiezkalender-lichtenberg.de/veranstaltung/soziales-schreibbuero-fuer-menschen-in-lichtenberg-die-hilfe-brauchen-und-leistungen-erhalten/2026-10-02/
LOCATION:Stadtteilzentrum Welsekiosk\, Falkenberger Chaussee 136\, Berlin\, 13057\, Germany
CATEGORIES:Beratung,Sprache
ATTACH;FMTTYPE=image/jpeg:https://kiezkalender-lichtenberg.de/wp-content/uploads/2025/06/Screenshot-2025-06-26-101308.jpg
ORGANIZER;CN="Welsekiosk":MAILTO:stz-welsekiosk@vav-hhausen.de
END:VEVENT
BEGIN:VEVENT
DTSTART;TZID=Europe/Berlin:20261009T080000
DTEND;TZID=Europe/Berlin:20261009T140000
DTSTAMP:20260423T224840
CREATED:20250627T084656Z
LAST-MODIFIED:20250627T084656Z
UID:10038152-1791532800-1791554400@kiezkalender-lichtenberg.de
SUMMARY:Soziales Schreibbüro für Menschen in Lichtenberg\, die Hilfe brauchen und Leistungen erhalten
DESCRIPTION:Jeden Freitag | 8:00 – 14:00 Uhr \nWir helfen Ihnen u.a. kostenlos dabei: \n\nFormulare und Anträge auszufüllen\nTexte zu verstehen\nBeratungsstellen zu finden\nBriefe zu schreiben\nBewerbungen zu erstellen\nSie zu Behörden zu begleiten\n\nKontakt:\nJörn Lautenschläger\, 030 – 610 811 866\, lich@agens-berlin.de
URL:https://kiezkalender-lichtenberg.de/veranstaltung/soziales-schreibbuero-fuer-menschen-in-lichtenberg-die-hilfe-brauchen-und-leistungen-erhalten/2026-10-09/
LOCATION:Stadtteilzentrum Welsekiosk\, Falkenberger Chaussee 136\, Berlin\, 13057\, Germany
CATEGORIES:Beratung,Sprache
ATTACH;FMTTYPE=image/jpeg:https://kiezkalender-lichtenberg.de/wp-content/uploads/2025/06/Screenshot-2025-06-26-101308.jpg
ORGANIZER;CN="Welsekiosk":MAILTO:stz-welsekiosk@vav-hhausen.de
END:VEVENT
BEGIN:VEVENT
DTSTART;TZID=Europe/Berlin:20261016T080000
DTEND;TZID=Europe/Berlin:20261016T140000
DTSTAMP:20260423T224840
CREATED:20250627T084656Z
LAST-MODIFIED:20250627T084656Z
UID:10038153-1792137600-1792159200@kiezkalender-lichtenberg.de
SUMMARY:Soziales Schreibbüro für Menschen in Lichtenberg\, die Hilfe brauchen und Leistungen erhalten
DESCRIPTION:Jeden Freitag | 8:00 – 14:00 Uhr \nWir helfen Ihnen u.a. kostenlos dabei: \n\nFormulare und Anträge auszufüllen\nTexte zu verstehen\nBeratungsstellen zu finden\nBriefe zu schreiben\nBewerbungen zu erstellen\nSie zu Behörden zu begleiten\n\nKontakt:\nJörn Lautenschläger\, 030 – 610 811 866\, lich@agens-berlin.de
URL:https://kiezkalender-lichtenberg.de/veranstaltung/soziales-schreibbuero-fuer-menschen-in-lichtenberg-die-hilfe-brauchen-und-leistungen-erhalten/2026-10-16/
LOCATION:Stadtteilzentrum Welsekiosk\, Falkenberger Chaussee 136\, Berlin\, 13057\, Germany
CATEGORIES:Beratung,Sprache
ATTACH;FMTTYPE=image/jpeg:https://kiezkalender-lichtenberg.de/wp-content/uploads/2025/06/Screenshot-2025-06-26-101308.jpg
ORGANIZER;CN="Welsekiosk":MAILTO:stz-welsekiosk@vav-hhausen.de
END:VEVENT
BEGIN:VEVENT
DTSTART;TZID=Europe/Berlin:20261019T130000
DTEND;TZID=Europe/Berlin:20261019T150000
DTSTAMP:20260423T224840
CREATED:20250915T110012Z
LAST-MODIFIED:20250915T110012Z
UID:10040324-1792414800-1792422000@kiezkalender-lichtenberg.de
SUMMARY:Nachbarschaftstreff (mit Nataliia)
DESCRIPTION:Jeden 3. Montag im Monat | 13 – 15 Uhr \nGemeinsam mit deinen Nachbar*innen ins Gespräch kommen\, Deutsch lernen\, Kaffee trinken\, basteln\, spazieren gehen und und und…
URL:https://kiezkalender-lichtenberg.de/veranstaltung/nachbarschaftstreff-mit-nataliia/2026-10-19/
LOCATION:Stadtteilzentrum Welsekiosk\, Falkenberger Chaussee 136\, Berlin\, 13057\, Germany
CATEGORIES:Nachbarschaft,Spaziergang,Sprache
ATTACH;FMTTYPE=image/jpeg:https://kiezkalender-lichtenberg.de/wp-content/uploads/2025/09/Screenshot-2025-09-15-112337.jpg
ORGANIZER;CN="Welsekiosk":MAILTO:stz-welsekiosk@vav-hhausen.de
END:VEVENT
BEGIN:VEVENT
DTSTART;TZID=Europe/Berlin:20261023T080000
DTEND;TZID=Europe/Berlin:20261023T140000
DTSTAMP:20260423T224840
CREATED:20250627T084656Z
LAST-MODIFIED:20250627T084656Z
UID:10038154-1792742400-1792764000@kiezkalender-lichtenberg.de
SUMMARY:Soziales Schreibbüro für Menschen in Lichtenberg\, die Hilfe brauchen und Leistungen erhalten
DESCRIPTION:Jeden Freitag | 8:00 – 14:00 Uhr \nWir helfen Ihnen u.a. kostenlos dabei: \n\nFormulare und Anträge auszufüllen\nTexte zu verstehen\nBeratungsstellen zu finden\nBriefe zu schreiben\nBewerbungen zu erstellen\nSie zu Behörden zu begleiten\n\nKontakt:\nJörn Lautenschläger\, 030 – 610 811 866\, lich@agens-berlin.de
URL:https://kiezkalender-lichtenberg.de/veranstaltung/soziales-schreibbuero-fuer-menschen-in-lichtenberg-die-hilfe-brauchen-und-leistungen-erhalten/2026-10-23/
LOCATION:Stadtteilzentrum Welsekiosk\, Falkenberger Chaussee 136\, Berlin\, 13057\, Germany
CATEGORIES:Beratung,Sprache
ATTACH;FMTTYPE=image/jpeg:https://kiezkalender-lichtenberg.de/wp-content/uploads/2025/06/Screenshot-2025-06-26-101308.jpg
ORGANIZER;CN="Welsekiosk":MAILTO:stz-welsekiosk@vav-hhausen.de
END:VEVENT
BEGIN:VEVENT
DTSTART;TZID=Europe/Berlin:20261030T080000
DTEND;TZID=Europe/Berlin:20261030T140000
DTSTAMP:20260423T224840
CREATED:20250627T084656Z
LAST-MODIFIED:20250627T084656Z
UID:10038155-1793347200-1793368800@kiezkalender-lichtenberg.de
SUMMARY:Soziales Schreibbüro für Menschen in Lichtenberg\, die Hilfe brauchen und Leistungen erhalten
DESCRIPTION:Jeden Freitag | 8:00 – 14:00 Uhr \nWir helfen Ihnen u.a. kostenlos dabei: \n\nFormulare und Anträge auszufüllen\nTexte zu verstehen\nBeratungsstellen zu finden\nBriefe zu schreiben\nBewerbungen zu erstellen\nSie zu Behörden zu begleiten\n\nKontakt:\nJörn Lautenschläger\, 030 – 610 811 866\, lich@agens-berlin.de
URL:https://kiezkalender-lichtenberg.de/veranstaltung/soziales-schreibbuero-fuer-menschen-in-lichtenberg-die-hilfe-brauchen-und-leistungen-erhalten/2026-10-30/
LOCATION:Stadtteilzentrum Welsekiosk\, Falkenberger Chaussee 136\, Berlin\, 13057\, Germany
CATEGORIES:Beratung,Sprache
ATTACH;FMTTYPE=image/jpeg:https://kiezkalender-lichtenberg.de/wp-content/uploads/2025/06/Screenshot-2025-06-26-101308.jpg
ORGANIZER;CN="Welsekiosk":MAILTO:stz-welsekiosk@vav-hhausen.de
END:VEVENT
END:VCALENDAR