BEGIN:VCALENDAR
VERSION:2.0
PRODID:-//Kiezkalender Lichtenberg - ECPv6.15.12.2//NONSGML v1.0//EN
CALSCALE:GREGORIAN
METHOD:PUBLISH
X-ORIGINAL-URL:https://kiezkalender-lichtenberg.de
X-WR-CALDESC:Veranstaltungen für Kiezkalender Lichtenberg
REFRESH-INTERVAL;VALUE=DURATION:PT1H
X-Robots-Tag:noindex
X-PUBLISHED-TTL:PT1H
BEGIN:VTIMEZONE
TZID:Europe/Berlin
BEGIN:DAYLIGHT
TZOFFSETFROM:+0100
TZOFFSETTO:+0200
TZNAME:CEST
DTSTART:20240331T010000
END:DAYLIGHT
BEGIN:STANDARD
TZOFFSETFROM:+0200
TZOFFSETTO:+0100
TZNAME:CET
DTSTART:20241027T010000
END:STANDARD
BEGIN:DAYLIGHT
TZOFFSETFROM:+0100
TZOFFSETTO:+0200
TZNAME:CEST
DTSTART:20250330T010000
END:DAYLIGHT
BEGIN:STANDARD
TZOFFSETFROM:+0200
TZOFFSETTO:+0100
TZNAME:CET
DTSTART:20251026T010000
END:STANDARD
BEGIN:DAYLIGHT
TZOFFSETFROM:+0100
TZOFFSETTO:+0200
TZNAME:CEST
DTSTART:20260329T010000
END:DAYLIGHT
BEGIN:STANDARD
TZOFFSETFROM:+0200
TZOFFSETTO:+0100
TZNAME:CET
DTSTART:20261025T010000
END:STANDARD
END:VTIMEZONE
BEGIN:VEVENT
DTSTART;TZID=Europe/Berlin:20251212T150000
DTEND;TZID=Europe/Berlin:20251212T180000
DTSTAMP:20260423T122937
CREATED:20230829T125824Z
LAST-MODIFIED:20241101T115043Z
UID:10005513-1765551600-1765562400@kiezkalender-lichtenberg.de
SUMMARY:KiezKreativ
DESCRIPTION:Kreativangebot \nfür Alt und Jung\, Anfänger und Fortgeschrittene\njeden 2. und 4. Freitag des Monats um 15 Uhr\nmit Künstler*innen des Graphik-Collegium Berlin e.V. \nDas Angebot findet in Kooperation mit dem Kiezspinne FAS e.V. statt.\nMaterialien wurden finanziert über das Netzwerk der Wärme und den Kiezfonds Lichtenberg. \nAnmeldung:\ngraphik-collegium-berlin@web.de \nKontakt:\nKommunale Begegnungsstätte\nRuschestraße 43 | 10367 Berlin\nLeiterin: Victoria Arndt\nTelefon: (030) 55 923 81\nE-Mail: victoria.arndt@kiezspinne.de
URL:https://kiezkalender-lichtenberg.de/veranstaltung/kiezkreativ/2025-12-12/
LOCATION:Kommunale Begegnungsstätte „Rusche 43“\, Ruschestraße 43\, Berlin\, 10367\, Germany
CATEGORIES:Kunst
ATTACH;FMTTYPE=image/jpeg:https://kiezkalender-lichtenberg.de/wp-content/uploads/2023/08/Plakat_Flyer_KiezKreativ_web.jpg
ORGANIZER;CN="Kommunale Begegnungsst%C3%A4tte Rusche 43":MAILTO:sbs.rusche43@gmx.de
END:VEVENT
BEGIN:VEVENT
DTSTART;TZID=Europe/Berlin:20251212T160000
DTEND;TZID=Europe/Berlin:20251212T180000
DTSTAMP:20260423T122937
CREATED:20251021T132648Z
LAST-MODIFIED:20251021T132648Z
UID:10041359-1765555200-1765562400@kiezkalender-lichtenberg.de
SUMMARY:Repair-Café
DESCRIPTION:Kommen Sie mit Ihrem Problem zu uns:\n• Wir geben Hilfe zur Selbsthilfe\n• Wir helfen\, wenn Sie nicht mehr weiter wissen\n• Mit fachkundiger Hilfe wird auch Ihr altes Schätzchen wieder zum Leben erweckt \nTermine einsehbar unter:\nhttps://www.reparatur-initiativen.de/repair-cafe-berlin-lichtenberg \nGemeinsam leisten wir einen Beitrag zu mehr Nachhaltigkeit!
URL:https://kiezkalender-lichtenberg.de/veranstaltung/repair-cafe-2/2025-12-12/
LOCATION:Nachbarschaftshaus Ostseeviertel\, Ribnitzer Str. 1b\, Berlin\, 13051
CATEGORIES:Nachbarschaft,Workshops
ATTACH;FMTTYPE=image/jpeg:https://kiezkalender-lichtenberg.de/wp-content/uploads/2025/10/Repaircafe-14tg.jpg
END:VEVENT
BEGIN:VEVENT
DTSTART;TZID=Europe/Berlin:20251215T100000
DTEND;TZID=Europe/Berlin:20251215T160000
DTSTAMP:20260423T122937
CREATED:20251126T144714Z
LAST-MODIFIED:20251126T144908Z
UID:10042712-1765792800-1765814400@kiezkalender-lichtenberg.de
SUMMARY:Gemütlich Zusammensein: Brunch\, Basteln und Spielen
DESCRIPTION:Am Montag\, 15.12.2025 lädt der Kieztreff und der Frauen*treff UNDINE die Nachbarschaft in ihre Räumlichkeiten in die Hagenstraße 57 ein\, um zusammen zu spielen\, zu brunchen und zu basteln.\nNatürlich wird da sicherlich auch ein nachbarschaftlicher Austausch stattfinden und die ein oder andere Person hört einfach nur zu und freut sich über das Zusammensein.\nKommt vorbei \n 
URL:https://kiezkalender-lichtenberg.de/veranstaltung/gemuetlich-zusammensein-brunch-basteln-und-spielen/
LOCATION:Kieztreff UNDINE\, Hagenstraße 57\, Berlin\, Berlin\, 10365
CATEGORIES:Beratung,Lebendiger Advent,Nachbarschaft
ATTACH;FMTTYPE=application/pdf:https://kiezkalender-lichtenberg.de/wp-content/uploads/2025/11/A5-15.12.pdf
ORGANIZER;CN="Kieztreff UNDINE%2C Verein f%C3%BCr aktive Vielfalt e.V.":MAILTO:kieztreff.undine@sozialwerk-dfb-berlin.de
END:VEVENT
BEGIN:VEVENT
DTSTART;TZID=Europe/Berlin:20251226T150000
DTEND;TZID=Europe/Berlin:20251226T180000
DTSTAMP:20260423T122937
CREATED:20230829T130122Z
LAST-MODIFIED:20241116T013921Z
UID:10005638-1766761200-1766772000@kiezkalender-lichtenberg.de
SUMMARY:KiezKreativ
DESCRIPTION:Kreativangebot \nfür Alt und Jung\, Anfänger und Fortgeschrittene\njeden 2. und 4. Freitag des Monats um 15 Uhr\nmit Künstler*innen des Graphik-Collegium Berlin e.V. \nDas Angebot findet in Kooperation mit dem Kiezspinne FAS e.V. statt.\nMaterialien wurden finanziert über das Netzwerk der Wärme und den Kiezfonds Lichtenberg. \nAnmeldung:\ngraphik-collegium-berlin@web.de \nKontakt:\nKommunale Begegnungsstätte\nRuschestraße 43 | 10367 Berlin\nLeiterin: Victoria Arndt\nTelefon: (030) 55 923 81\nE-Mail: victoria.arndt@kiezspinne.de
URL:https://kiezkalender-lichtenberg.de/veranstaltung/kiezkreativ-2/2025-12-26/
LOCATION:Kommunale Begegnungsstätte „Rusche 43“\, Ruschestraße 43\, Berlin\, 10367\, Germany
CATEGORIES:Kunst
ATTACH;FMTTYPE=image/jpeg:https://kiezkalender-lichtenberg.de/wp-content/uploads/2023/08/Plakat_Flyer_KiezKreativ_web-1.jpg
ORGANIZER;CN="Kommunale Begegnungsst%C3%A4tte Rusche 43":MAILTO:sbs.rusche43@gmx.de
END:VEVENT
END:VCALENDAR