BEGIN:VCALENDAR
VERSION:2.0
PRODID:-//Kiezkalender Lichtenberg - ECPv6.15.12.2//NONSGML v1.0//EN
CALSCALE:GREGORIAN
METHOD:PUBLISH
X-ORIGINAL-URL:https://kiezkalender-lichtenberg.de
X-WR-CALDESC:Veranstaltungen für Kiezkalender Lichtenberg
REFRESH-INTERVAL;VALUE=DURATION:PT1H
X-Robots-Tag:noindex
X-PUBLISHED-TTL:PT1H
BEGIN:VTIMEZONE
TZID:Europe/Berlin
BEGIN:DAYLIGHT
TZOFFSETFROM:+0100
TZOFFSETTO:+0200
TZNAME:CEST
DTSTART:20250330T010000
END:DAYLIGHT
BEGIN:STANDARD
TZOFFSETFROM:+0200
TZOFFSETTO:+0100
TZNAME:CET
DTSTART:20251026T010000
END:STANDARD
BEGIN:DAYLIGHT
TZOFFSETFROM:+0100
TZOFFSETTO:+0200
TZNAME:CEST
DTSTART:20260329T010000
END:DAYLIGHT
BEGIN:STANDARD
TZOFFSETFROM:+0200
TZOFFSETTO:+0100
TZNAME:CET
DTSTART:20261025T010000
END:STANDARD
BEGIN:DAYLIGHT
TZOFFSETFROM:+0100
TZOFFSETTO:+0200
TZNAME:CEST
DTSTART:20270328T010000
END:DAYLIGHT
BEGIN:STANDARD
TZOFFSETFROM:+0200
TZOFFSETTO:+0100
TZNAME:CET
DTSTART:20271031T010000
END:STANDARD
END:VTIMEZONE
BEGIN:VEVENT
DTSTART;TZID=Europe/Berlin:20260627T090000
DTEND;TZID=Europe/Berlin:20260627T130000
DTSTAMP:20260420T033206
CREATED:20260318T132208Z
LAST-MODIFIED:20260318T132208Z
UID:10046685-1782550800-1782565200@kiezkalender-lichtenberg.de
SUMMARY:Nadel & Faden
DESCRIPTION:In der offenen Handarbeitsgruppe können sich alle mit Freude und Interesse am Nähen\, Stricken\, Häkeln und Sticken treffen um gemeinsam in gemütlicher Runde an Ihren Projekten zu arbeiten. Neue Handarbeitsfreund:innen sind jederzeit willkommen. \nDas Angebot ist kostenlos und eine Anmeldung nicht erforderlich. \nBitte eigenes Material mitbringen.
URL:https://kiezkalender-lichtenberg.de/veranstaltung/nadel-faden/2026-06-27/
LOCATION:Anton-Saefkow-Bibliothek\, \,Anton-Saefkow-Platz 14\, Berlin\, 10369\, Germany
CATEGORIES:Freizeit
ATTACH;FMTTYPE=image/jpeg:https://kiezkalender-lichtenberg.de/wp-content/uploads/2026/03/©pixabay_begobego.jpg
ORGANIZER;CN="Anton-Saefkow-Bibliothek":MAILTO:anton.saefkow.bibliothek@lichtenberg.berlin.de
END:VEVENT
END:VCALENDAR