BEGIN:VCALENDAR
VERSION:2.0
PRODID:-//Kiezkalender Lichtenberg - ECPv6.15.12.2//NONSGML v1.0//EN
CALSCALE:GREGORIAN
METHOD:PUBLISH
X-WR-CALNAME:Kiezkalender Lichtenberg
X-ORIGINAL-URL:https://kiezkalender-lichtenberg.de
X-WR-CALDESC:Veranstaltungen für Kiezkalender Lichtenberg
REFRESH-INTERVAL;VALUE=DURATION:PT1H
X-Robots-Tag:noindex
X-PUBLISHED-TTL:PT1H
BEGIN:VTIMEZONE
TZID:Europe/Berlin
BEGIN:DAYLIGHT
TZOFFSETFROM:+0100
TZOFFSETTO:+0200
TZNAME:CEST
DTSTART:20240331T010000
END:DAYLIGHT
BEGIN:STANDARD
TZOFFSETFROM:+0200
TZOFFSETTO:+0100
TZNAME:CET
DTSTART:20241027T010000
END:STANDARD
BEGIN:DAYLIGHT
TZOFFSETFROM:+0100
TZOFFSETTO:+0200
TZNAME:CEST
DTSTART:20250330T010000
END:DAYLIGHT
BEGIN:STANDARD
TZOFFSETFROM:+0200
TZOFFSETTO:+0100
TZNAME:CET
DTSTART:20251026T010000
END:STANDARD
BEGIN:DAYLIGHT
TZOFFSETFROM:+0100
TZOFFSETTO:+0200
TZNAME:CEST
DTSTART:20260329T010000
END:DAYLIGHT
BEGIN:STANDARD
TZOFFSETFROM:+0200
TZOFFSETTO:+0100
TZNAME:CET
DTSTART:20261025T010000
END:STANDARD
END:VTIMEZONE
BEGIN:VEVENT
DTSTART;TZID=Europe/Berlin:20250611T150000
DTEND;TZID=Europe/Berlin:20250611T170000
DTSTAMP:20260420T054929
CREATED:20250604T100854Z
LAST-MODIFIED:20250604T100854Z
UID:10036296-1749654000-1749661200@kiezkalender-lichtenberg.de
SUMMARY:Fadenfreude - Gemeinsam häkeln oder stricken
DESCRIPTION:Mittwoch\, 11. Juni & 25. Juni | 15 Uhr \nFadenfreude \nFür alle\, die Lust auf Handarbeit\, Wolle und kreative Stunden haben! Egal\, ob Anfänger oder Profi – alle sind herzlich willkommen! \n✨ Gemeinsames Häkeln\, Stricken und Basteln\n✨ Wolle\, Nadeln und vieles mehr – bring gerne\ndeine eigenen Materialien mit! \nKostenfreies Angebot\, ohne Anmeldung.
URL:https://kiezkalender-lichtenberg.de/veranstaltung/fadenfreude-gemeinsam-haekeln-oder-stricken/
LOCATION:Stadtteilzentrum Welsekiosk\, Falkenberger Chaussee 136\, Berlin\, 13057\, Germany
CATEGORIES:Nachbarschaft,Workshops
ATTACH;FMTTYPE=image/jpeg:https://kiezkalender-lichtenberg.de/wp-content/uploads/2025/06/faden.jpg
ORGANIZER;CN="Welsekiosk":MAILTO:stz-welsekiosk@vav-hhausen.de
END:VEVENT
END:VCALENDAR