BEGIN:VCALENDAR
VERSION:2.0
PRODID:-//Kiezkalender Lichtenberg - ECPv6.15.12.2//NONSGML v1.0//EN
CALSCALE:GREGORIAN
METHOD:PUBLISH
X-ORIGINAL-URL:https://kiezkalender-lichtenberg.de
X-WR-CALDESC:Veranstaltungen für Kiezkalender Lichtenberg
REFRESH-INTERVAL;VALUE=DURATION:PT1H
X-Robots-Tag:noindex
X-PUBLISHED-TTL:PT1H
BEGIN:VTIMEZONE
TZID:Europe/Berlin
BEGIN:DAYLIGHT
TZOFFSETFROM:+0100
TZOFFSETTO:+0200
TZNAME:CEST
DTSTART:20250330T010000
END:DAYLIGHT
BEGIN:STANDARD
TZOFFSETFROM:+0200
TZOFFSETTO:+0100
TZNAME:CET
DTSTART:20251026T010000
END:STANDARD
BEGIN:DAYLIGHT
TZOFFSETFROM:+0100
TZOFFSETTO:+0200
TZNAME:CEST
DTSTART:20260329T010000
END:DAYLIGHT
BEGIN:STANDARD
TZOFFSETFROM:+0200
TZOFFSETTO:+0100
TZNAME:CET
DTSTART:20261025T010000
END:STANDARD
BEGIN:DAYLIGHT
TZOFFSETFROM:+0100
TZOFFSETTO:+0200
TZNAME:CEST
DTSTART:20270328T010000
END:DAYLIGHT
BEGIN:STANDARD
TZOFFSETFROM:+0200
TZOFFSETTO:+0100
TZNAME:CET
DTSTART:20271031T010000
END:STANDARD
END:VTIMEZONE
BEGIN:VEVENT
DTSTART;TZID=Europe/Berlin:20260504T080000
DTEND;TZID=Europe/Berlin:20260509T170000
DTSTAMP:20260423T175319
CREATED:20260416T124300Z
LAST-MODIFIED:20260416T124300Z
UID:10049348-1777881600-1778346000@kiezkalender-lichtenberg.de
SUMMARY:Woche der pflegenden Angehörigen in Lichtenberg
DESCRIPTION:Woche der pflegenden Angehörigen in Lichtenberg\nVom 4. bis 10. Mai 2026 findet in Berlin bereits zum achten Mal die Woche der pflegenden Angehörigen statt. In dieser besonderen Woche stehen Sie im Mittelpunkt\, die sich tagtäglich mit viel Engagement\, Kraft und Herz um Ihre Angehörigen kümmern. Wir möchten Ihnen als pflegende An- und Zugehörige unsere tiefe Wertschätzung zeigen und Sie einladen\, an den vielfältigen Veranstaltungen der Aktionswoche teilzunehmen. \n  \nVorsorge und Unterstützung – auch ohne nahe Angehörige \nWann: Montag\, den 04.05.2026 von 14 bis 16 Uhr \nWo: Kiezspinne FAS e.V.\, Schulze-Boysen-Str. 38 10356 Berlin \nReferentinnen: Büro 55+ Gut älter werden in Lichtenberg; AlleFarben Alltagshilfen; Kontaktstelle PflegeEngagement \nBitte melden Sie sich beim Büro 55+ unter 030 9860199955 oder buero55plus@rbo-inmitten.berlin an! \n  \nSpaziergang durch den Stadtpark für Groß und Klein \nWann: Mittwoch\, den 06.05.2026 von 11 bis 12:30 Uhr \nTreffpunkt: Rathaus Lichtenberg\, Möllendorffstraße 6\, 10367 Berlin \nWer: Kontaktstelle PflegeEngagement \nBitte melden Sie sich der KPE unter 030 28472395 oder kpe@kiezspinne.de an! \n  \nPflegende stärken – pflegebedürftige Menschen unterstützen \nWann: Mittwoch\, den 06.05.2026 von 11 bis 17 Uhr \nWo: Königin Elisabeth Herzberge Krankenhaus – Großer Festsaal\, Herzbergstraße 79\, 10365 Berlin \nWer: Königin Elisabeth Herzberge Krankenhaus gGmbH\, Pflegestützpunkte in Lichtenberg\, KOBRA Berlin\, Beratung und Hilfe Postvirale Syndrome und NichtGenesenKids e.V. \n  \nKleine Auszeit vom Pflegealltag \nWann: Samstag\, den 09.05.2026 von 12 bis 15 Uhr \nWo: Stadtteilzentrum Hedwig\, Hedwigstraße 12\, 13053 Berlin \nWer: AG Gute Pflege in Lichtenberg vom GGV \nBitte melden Sie sich der KPE unter 030 28472395 oder kpe@kiezspinne.de an! Betreuung für Ihre Angehörigen mit Demenz vor Ort vorhanden. Bitte bei Anmeldung angeben! \nAlle Veranstaltungen sind kostenlos!
URL:https://kiezkalender-lichtenberg.de/veranstaltung/woche-der-pflegenden-angehoerigen-in-lichtenberg/
LOCATION:Kontaktstelle PflegeEngagement\, Schulze-Boysen-Str.37\, Berlin\, 10365\, Germany
CATEGORIES:Beratung,Essen,Familie,Feste,Freizeit,Gesundheit,Infoveranstaltung,Nachbarschaft,Quiz,Spaziergang
ATTACH;FMTTYPE=image/jpeg:https://kiezkalender-lichtenberg.de/wp-content/uploads/2026/04/0001.jpg
ORGANIZER;CN="Kontaktstelle PflegeEngagement Lichtenberg":MAILTO:kpe@kiezspinne.de
END:VEVENT
BEGIN:VEVENT
DTSTART;TZID=Europe/Berlin:20260504T140000
DTEND;TZID=Europe/Berlin:20260504T160000
DTSTAMP:20260423T175319
CREATED:20260423T121753Z
LAST-MODIFIED:20260423T121753Z
UID:10050202-1777903200-1777910400@kiezkalender-lichtenberg.de
SUMMARY:Woche der pflegenden Angehörige "Vorsorge und Unterstützung - auch ohne nahe Angehörige"
DESCRIPTION:Liebe interessierte Menschen\, pflegende An- und Zugehörige\, \nVom 4. bis 10. Mai 2026 findet in Berlin bereits zum achten Mal die Woche der pflegenden Angehörigen statt (https://www.angehoerigenpflege.berlin/schwerpunkte/woche-der-pflegenden-angehoerigen). In dieser besonderen Woche stehen Sie im\nMittelpunkt\, die sich tagtäglich mit viel Engagement\, Kraft und Herz um Ihre Angehörigen kümmern.\nWir möchten Ihnen als pflegende An- und Zugehörige unsere tiefe Wertschätzung zeigen und Sie einladen\, an den vielfältigen Veranstaltungen\nder Aktionswoche teilzunehmen. \nWas: Vorsorge und Unterstützung – auch ohne nahe Angehörige \nWann: Montag\, den 04.05.2026 von 14 bis 16 Uhr \nWo: Kiezspinne FAS e.V.\, Schulze-Boysen-Str. 38 \n10356 Berlin \nReferentinnen: Büro 55+ Gut älter werden in Lichtenberg; AlleFarben Alltagshilfen; Kontaktstelle PflegeEngagement \nBitte melden Sie sich beim Büro 55+ unter 030 9860199955 oder buero55plus@rbo-inmitten.berlin an!
URL:https://kiezkalender-lichtenberg.de/veranstaltung/woche-der-pflegenden-angehoerige-vorsorge-und-unterstuetzung-auch-ohne-nahe-angehoerige/
LOCATION:Kiezspinne FAS e.V. – Nachbarschaftshaus Orangerie\, Schulze-Boysen-Straße 38\, Berlin\, 10365\, Germany
CATEGORIES:Beratung,Gesundheit,Infoveranstaltung,Nachbarschaft
ATTACH;FMTTYPE=image/jpeg:https://kiezkalender-lichtenberg.de/wp-content/uploads/2026/04/Flyer_Vortrag_Pflegethemen_Mai2026_EMail-1.jpg
ORGANIZER;CN="B%C3%BCro 55+":MAILTO:buero55plus@lbd.berlin
END:VEVENT
BEGIN:VEVENT
DTSTART;TZID=Europe/Berlin:20260506T110000
DTEND;TZID=Europe/Berlin:20260506T170000
DTSTAMP:20260423T175319
CREATED:20260423T123837Z
LAST-MODIFIED:20260423T123837Z
UID:10050204-1778065200-1778086800@kiezkalender-lichtenberg.de
SUMMARY:Woche der pflegenden Angehörigen - „Pflegende stärken – pflegebedürftige Menschen unterstützen.“
DESCRIPTION:„Pflegende stärken – pflegebedürftige Menschen unterstützen.“ \nVeranstaltung im Rahmen der Woche der pflegenden Angehörigen am 06.05.2026 in der Zeit von 11:00Uhr bis 17:00Uhr im Evangelisches Krankenhaus Königin Elisabeth Herzberge\, Herzbergstraße 79\, 10365 Berlin\, Großer Festsaal \nPatient:innen und deren An- und Zugehörige\, (Ehe-) Partner:innen\, (Geschwister-) Kinder\, Enkel oder Freunde – alle\, die Kontakt zu einem pflegebedürftigen An- und Zugehörigen haben und Interessierte sind angesprochen teilzunehmen. \nIm Mittelpunkt stehen folgende Themen: \n– Wege und Optionen für meine individuelle Situation\n– Verbleibende Autonomie pflegebedürftiger Personen erhalten\n– Pflegende Angehörige und Mitmenschen stärken\n– mögliche Leistungen der Pflegeversicherung\n– Praktische Unterstützung und Angebote finden \nReferent:innen: \n– Sozialdienst und Krankenhausseelsorgende des KEH\n– Kati Bauer\, PfiFf: Pflege in Familie fördern\n– Andrea Müller\, Pflegestützpunkt Lichtenberg\n– Jana Spiekermann\, NichtGenesenKids e.V.\, Länderbeirat Berlin\n– Katharina Fabian\, Beratung &amp; Hilfe Postvirale Syndrome\n– Petra Kather-Skibbe\, KOBRA – Fachstelle Vereinbarkeit\nBeruf|Familie|Pflege \nProgramm: \n11:00 Begrüßung\n11:30 – 12:20 Uhr Gut gerüstet – Falls ich (morgen) pflege\, Andrea Müller PSP Lichtenberg\n12:30 – 13:20 Uhr Unterstützungsangebote im KEH für Pflegebedürftige und An- und Zugehörige – Angebote des Sozialdienstes\, der Krankenhausseelsorge\, PfiFf 13:30 – 14:30 Uhr Austausch\, Vernetzung und individuelle Beratungssettings 14:30 – 15:20 Uhr Mein Kind leidet unter ME/ CFS – Wo finde ich Hilfe und Unterstützung (Arbeitstitel)\, Katharina Fabian\, Beratung &amp; Hilfe Postvirale Syndrome\, Jana Spiekermann\, NichtGenesenKids                                                          15:30 – 16:20 Uhr Gut informiert – Job und Pflegeaufgaben verbinden – Gesetzliche Regelungen und betriebliche Möglichkeiten Beschäftigte und Führungskräfte zu unterstützen\n16:20 – 16:45 Uhr Austausch\, Vernetzung und individuelle Beratungssettings\n16:45 Schlusswort
URL:https://kiezkalender-lichtenberg.de/veranstaltung/woche-der-pflegenden-angehoerigen-pflegende-staerken-pflegebeduerftige-menschen-unterstuetzen/
LOCATION:Herzbergstraße 79
CATEGORIES:Gesundheit,Infoveranstaltung,Nachbarschaft
ATTACH;FMTTYPE=image/jpeg:https://kiezkalender-lichtenberg.de/wp-content/uploads/2026/04/WdpA-im-KEH_Poster-2.jpg
ORGANIZER;CN="Pflegest%C3%BCtzpunkte Lichtenberg":MAILTO:kpe@kiezspinne.de
END:VEVENT
BEGIN:VEVENT
DTSTART;TZID=Europe/Berlin:20260506T170000
DTEND;TZID=Europe/Berlin:20260506T180000
DTSTAMP:20260423T175319
CREATED:20260421T094707Z
LAST-MODIFIED:20260421T094707Z
UID:10049623-1778086800-1778090400@kiezkalender-lichtenberg.de
SUMMARY:Kindersport (5-6 Jahre)
DESCRIPTION:Mittwochs von 17.00 – 17.45 Uhr findet im Bewegungsraum des Familienzentrums der Kindersport statt. Kitakinder im Alter von 5-6 Jahren können daran teilnehmen und\nunter fachlicher Anleitung rennen\, balancieren und sich ausprobieren. Ideal für kleine Teamplayer.\nTeilnahme ist nach Kapazität und vorheriger telefonsicher Anmeldung möglich.\nDie Kosten belaufen sich auf monatlich 10\,00 Euro. Sollte dies nicht möglich sein\, sprich uns bitte an.
URL:https://kiezkalender-lichtenberg.de/veranstaltung/kindersport-5-6-jahre/2026-05-06/
LOCATION:Christliches Sozialwerk Berlin eV.\, Landsberger Allee 225\, 13055 Berlin\, Landsberger Allee 225\, Berlin\, 13055
CATEGORIES:Freizeit,Gesundheit,Sport
ATTACH;FMTTYPE=image/png:https://kiezkalender-lichtenberg.de/wp-content/uploads/2026/04/Kindersport_png.png
ORGANIZER;CN="Christliches Sozialwerk Berlin e.V.":MAILTO:Info@christliches-sozialwerk-berlin.de
END:VEVENT
BEGIN:VEVENT
DTSTART;TZID=Europe/Berlin:20260506T180000
DTEND;TZID=Europe/Berlin:20260506T200000
DTSTAMP:20260423T175319
CREATED:20260410T095853Z
LAST-MODIFIED:20260410T095853Z
UID:10048290-1778090400-1778097600@kiezkalender-lichtenberg.de
SUMMARY:Meine Atemreise
DESCRIPTION:ruhige Atem- und Körperarbeit im geschützten Raum\nEntlastung des Nervensystems\nin Kontakt mit sich selbst kommen\nvom Kopf in den Körper gelangen\n\nAb Mai jeden Mittwoch von 18 bis 20 Uhr im Frauen*treff UNDINE\, Hagenstraße 57\, 10365 Berlin. \nAnmeldung unter: frauentreff.undine@vav-lichtenberg.de \nBitte bequeme Kleidung tragen. \n 
URL:https://kiezkalender-lichtenberg.de/veranstaltung/meine-atemreise/2026-05-06/
LOCATION:Frauen*treff UNDINE\, Hagenstr. 57 EG EG\, Berlin\, 10365\, Germany
CATEGORIES:Gesundheit,Workshops
ATTACH;FMTTYPE=image/jpeg:https://kiezkalender-lichtenberg.de/wp-content/uploads/2026/04/Meine-Atemreise.jpg
END:VEVENT
BEGIN:VEVENT
DTSTART;TZID=Europe/Berlin:20260509T120000
DTEND;TZID=Europe/Berlin:20260509T150000
DTSTAMP:20260423T175319
CREATED:20260423T124930Z
LAST-MODIFIED:20260423T124930Z
UID:10050205-1778328000-1778338800@kiezkalender-lichtenberg.de
SUMMARY:Woche der pflegenden Angehörigen - Wir nehmen uns Zeit für Sie! ENTSPANNEN - AUSTAUSCHEN - INFORMIEREN
DESCRIPTION:Wir nehmen uns Zeit für Sie!\nENTSPANNEN – AUSTAUSCHEN – INFORMIEREN \nWir laden Sie herzlich am Samstag\, 9. Mai von 12 bis 15 Uhr zu einer kleinen Auszeit in das Stadtteilzentrum Hedwig ein. \nDer Garten bietet eine entspannte Atmosphäre zum Ankommen\, Durchatmen und Verweilen. Beim gemeinsamen Essen mit musikalischer\nBegleitung\, bei kurzen Entspannungsübungen oder beim Bingo können Sie die Zeit genießen. \nWir stehen Ihnen bei Fragen zur Seite!\nKommen Sie vorbei\, tanken Kraft und lassen es sich gut gehen! \nHerzlichst Ihre AG Gute Pflege in Lichtenberg \nWO: Stadtteilzentrum Hedwig\nHedwigstraße 12\, 13053 Berlin\nZugang über die Hedwigstraße \nAm Faulen See (Tram 27 – 5 Minuten Fußweg)\nOberseestraße (Tram 5 – 10 Minuten Fußweg) \nAnmeldung: Kontaktstelle PflegeEngagement unter 030 28472395 oder kpe@kiezspinne.de\nBetreuung für Ihre Angehörigen mit Demenz vor Ort vorhanden. Bitte bei Anmeldung angeben!
URL:https://kiezkalender-lichtenberg.de/veranstaltung/woche-der-pflegenden-angehoerigen-wir-nehmen-uns-zeit-fuer-sie-entspannen-austauschen-informieren/
LOCATION:Stadtteilzentrum Hedwig\, Hedwigstraße 12\, Berlin\, 13053\, Germany
CATEGORIES:Beratung,Essen,Familie,Feste,Gesundheit,Nachbarschaft
ATTACH;FMTTYPE=image/jpeg:https://kiezkalender-lichtenberg.de/wp-content/uploads/2026/04/KPE-OEA-20260318-Woche-der-pflegenden-Angehoerigen_Plakat_Hedwig_2-1.jpg
ORGANIZER;CN="Kontaktstelle PflegeEngagement Lichtenberg":MAILTO:kpe@kiezspinne.de
END:VEVENT
BEGIN:VEVENT
DTSTART;TZID=Europe/Berlin:20260509T153000
DTEND;TZID=Europe/Berlin:20260509T180000
DTSTAMP:20260423T175319
CREATED:20260410T105712Z
LAST-MODIFIED:20260410T105712Z
UID:10048552-1778340600-1778349600@kiezkalender-lichtenberg.de
SUMMARY:Reiki mit Vansika
DESCRIPTION:Purnam Sadhana\nEin Raum um zu dir zurückzukehren \nWas ist Reiki? \nReiki ist eine japanische Heilpraxis mit über 100 Jahren Tradition. Während einer Sitzung werden die Hände in bestimmten Positionen auf oder über den Körper gelegt\, sodass universelle Energie durch den Praktizierenden zu deinen Energiezentren\, Meridianen und Organen fließt. Diese Energie weiß\, was dein Körper und Geist brauchen. Du liegst einfach entspannt da und lässt die Energie wirken. \nWie Reiki hilft? \n* Fördert tiefe Entspannung • Lindert Stress und Angstzustände • Unterstützt Heilungsprozesse • Stärkt das Immunsystem • Verbessert die Schlafqualität • Reduziert Muskelverspannungen • Gibt Energie und bringt den Körper ins Gleichgewicht. \nWer braucht Reiki? \nReiki ist für jeden und zu jeder Zeit geeignet. Es ist eine sanfte\, nicht-invasive Praxis\, die den Körper verjüngt und Ruhe mitten in einem hektischen Alltag schenkt. Jede Sitzung ist einzigartig und gibt dir genau das\, was du in diesem Moment brauchst. \n  \nAnmeldung: +49 15175794044 (EN)\ninfo@purnamsadhana.com (EN/DE) \nVansika spricht Englisch.
URL:https://kiezkalender-lichtenberg.de/veranstaltung/reiki-mit-vansika-2/2026-05-09/
LOCATION:Frauen*treff UNDINE\, Hagenstr. 57 EG EG\, Berlin\, 10365\, Germany
CATEGORIES:Gesundheit
ATTACH;FMTTYPE=image/jpeg:https://kiezkalender-lichtenberg.de/wp-content/uploads/2026/04/2.jpg
END:VEVENT
END:VCALENDAR