BEGIN:VCALENDAR
VERSION:2.0
PRODID:-//Kiezkalender Lichtenberg - ECPv6.15.12.2//NONSGML v1.0//EN
CALSCALE:GREGORIAN
METHOD:PUBLISH
X-ORIGINAL-URL:https://kiezkalender-lichtenberg.de
X-WR-CALDESC:Veranstaltungen für Kiezkalender Lichtenberg
REFRESH-INTERVAL;VALUE=DURATION:PT1H
X-Robots-Tag:noindex
X-PUBLISHED-TTL:PT1H
BEGIN:VTIMEZONE
TZID:Europe/Berlin
BEGIN:DAYLIGHT
TZOFFSETFROM:+0100
TZOFFSETTO:+0200
TZNAME:CEST
DTSTART:20240331T010000
END:DAYLIGHT
BEGIN:STANDARD
TZOFFSETFROM:+0200
TZOFFSETTO:+0100
TZNAME:CET
DTSTART:20241027T010000
END:STANDARD
BEGIN:DAYLIGHT
TZOFFSETFROM:+0100
TZOFFSETTO:+0200
TZNAME:CEST
DTSTART:20250330T010000
END:DAYLIGHT
BEGIN:STANDARD
TZOFFSETFROM:+0200
TZOFFSETTO:+0100
TZNAME:CET
DTSTART:20251026T010000
END:STANDARD
BEGIN:DAYLIGHT
TZOFFSETFROM:+0100
TZOFFSETTO:+0200
TZNAME:CEST
DTSTART:20260329T010000
END:DAYLIGHT
BEGIN:STANDARD
TZOFFSETFROM:+0200
TZOFFSETTO:+0100
TZNAME:CET
DTSTART:20261025T010000
END:STANDARD
END:VTIMEZONE
BEGIN:VEVENT
DTSTART;TZID=Europe/Berlin:20250626T153000
DTEND;TZID=Europe/Berlin:20250626T164500
DTSTAMP:20260419T173037
CREATED:20250619T154107Z
LAST-MODIFIED:20250619T154107Z
UID:10037953-1750951800-1750956300@kiezkalender-lichtenberg.de
SUMMARY:Tanz- und Körpertherapie für Frauen*
DESCRIPTION:Inklusiv und in einfacher Sprache\nIn diesem Kurs nehmen wir uns den Raum\, ohne Leistungsdruck und Antreiber von Innen oder Außen\, unseren Körper zu spüren. Einfach nur sein und wahrnehmen\, nichts müssen\, nicht bewertet werden. Atmen\, spüren\, eine Bewegung der Freiheit und Liebe entstehen lassen. Dies kann zum Tanz werden\, darf aber auch besinnlich und still bleiben. Jede Bewegung\, die kommt ist\, richtig!\nDer Workshop ist in einfacher Sprache. Es kann sitzend teilgenommen werden. Ziele sind der Abbau von Anspannungen vor allem im Nacken- und Schultergürtel und die Reduktion von Stress. Die Übungen sind sehr sanft und einfach. Vorerfahrung oder besondere Sportlichkeit nicht erforderlich.
URL:https://kiezkalender-lichtenberg.de/veranstaltung/tanz-und-koerpertherapie-fuer-frauen/
LOCATION:Frauen*treff UNDINE\, Hagenstr. 57 EG EG\, Berlin\, 10365\, Germany
CATEGORIES:Gesundheit,Sport,Workshops
ATTACH;FMTTYPE=image/jpeg:https://kiezkalender-lichtenberg.de/wp-content/uploads/2025/06/Tanztherapie-Instapost-juni25.jpg
END:VEVENT
END:VCALENDAR