BEGIN:VCALENDAR
VERSION:2.0
PRODID:-//Kiezkalender Lichtenberg - ECPv6.15.12.2//NONSGML v1.0//EN
CALSCALE:GREGORIAN
METHOD:PUBLISH
X-ORIGINAL-URL:https://kiezkalender-lichtenberg.de
X-WR-CALDESC:Veranstaltungen für Kiezkalender Lichtenberg
REFRESH-INTERVAL;VALUE=DURATION:PT1H
X-Robots-Tag:noindex
X-PUBLISHED-TTL:PT1H
BEGIN:VTIMEZONE
TZID:Europe/Berlin
BEGIN:DAYLIGHT
TZOFFSETFROM:+0100
TZOFFSETTO:+0200
TZNAME:CEST
DTSTART:20240331T010000
END:DAYLIGHT
BEGIN:STANDARD
TZOFFSETFROM:+0200
TZOFFSETTO:+0100
TZNAME:CET
DTSTART:20241027T010000
END:STANDARD
BEGIN:DAYLIGHT
TZOFFSETFROM:+0100
TZOFFSETTO:+0200
TZNAME:CEST
DTSTART:20250330T010000
END:DAYLIGHT
BEGIN:STANDARD
TZOFFSETFROM:+0200
TZOFFSETTO:+0100
TZNAME:CET
DTSTART:20251026T010000
END:STANDARD
BEGIN:DAYLIGHT
TZOFFSETFROM:+0100
TZOFFSETTO:+0200
TZNAME:CEST
DTSTART:20260329T010000
END:DAYLIGHT
BEGIN:STANDARD
TZOFFSETFROM:+0200
TZOFFSETTO:+0100
TZNAME:CET
DTSTART:20261025T010000
END:STANDARD
END:VTIMEZONE
BEGIN:VEVENT
DTSTART;TZID=Europe/Berlin:20251025T163000
DTEND;TZID=Europe/Berlin:20251025T190000
DTSTAMP:20260424T053148
CREATED:20251021T113943Z
LAST-MODIFIED:20251021T114411Z
UID:10041355-1761409800-1761418800@kiezkalender-lichtenberg.de
SUMMARY:2005 -2025 Nachbarschaftshaus Orangerie
DESCRIPTION:Feiern Sie mit uns!\n20 Jahre Orangerie Nachbarschaftshaus mit: \n\nFotoausstellung\nNachhaltigkeitsworkshop\nGlücksrad\nEröffnung „FINDUS“ Tauschschrank\nInfostände\nGegrilltes
URL:https://kiezkalender-lichtenberg.de/veranstaltung/2005-2025-nachbarschaftshaus-orangerie/
LOCATION:Kiezspinne FAS e.V. – Nachbarschaftshaus Orangerie\, Schulze-Boysen-Straße 38\, Berlin\, 10365\, Germany
CATEGORIES:Beratung,Essen,Familie,Feste,Nachbarschaft,Workshops
ATTACH;FMTTYPE=image/jpeg:https://kiezkalender-lichtenberg.de/wp-content/uploads/2025/10/FLYER20.jpg
ORGANIZER;CN="Kiezspinne FAS e.V. %E2%80%93 Nachbarschaftshaus Orangerie":MAILTO:info@kiezspinne.de
END:VEVENT
END:VCALENDAR