BEGIN:VCALENDAR
VERSION:2.0
PRODID:-//Kiezkalender Lichtenberg - ECPv6.15.12.2//NONSGML v1.0//EN
CALSCALE:GREGORIAN
METHOD:PUBLISH
X-ORIGINAL-URL:https://kiezkalender-lichtenberg.de
X-WR-CALDESC:Veranstaltungen für Kiezkalender Lichtenberg
REFRESH-INTERVAL;VALUE=DURATION:PT1H
X-Robots-Tag:noindex
X-PUBLISHED-TTL:PT1H
BEGIN:VTIMEZONE
TZID:Europe/Berlin
BEGIN:DAYLIGHT
TZOFFSETFROM:+0100
TZOFFSETTO:+0200
TZNAME:CEST
DTSTART:20230326T010000
END:DAYLIGHT
BEGIN:STANDARD
TZOFFSETFROM:+0200
TZOFFSETTO:+0100
TZNAME:CET
DTSTART:20231029T010000
END:STANDARD
BEGIN:DAYLIGHT
TZOFFSETFROM:+0100
TZOFFSETTO:+0200
TZNAME:CEST
DTSTART:20240331T010000
END:DAYLIGHT
BEGIN:STANDARD
TZOFFSETFROM:+0200
TZOFFSETTO:+0100
TZNAME:CET
DTSTART:20241027T010000
END:STANDARD
BEGIN:DAYLIGHT
TZOFFSETFROM:+0100
TZOFFSETTO:+0200
TZNAME:CEST
DTSTART:20250330T010000
END:DAYLIGHT
BEGIN:STANDARD
TZOFFSETFROM:+0200
TZOFFSETTO:+0100
TZNAME:CET
DTSTART:20251026T010000
END:STANDARD
END:VTIMEZONE
BEGIN:VEVENT
DTSTART;TZID=Europe/Berlin:20240430T120000
DTEND;TZID=Europe/Berlin:20240430T140000
DTSTAMP:20260421T035849
CREATED:20230830T082033Z
LAST-MODIFIED:20250312T162448Z
UID:10006488-1714478400-1714485600@kiezkalender-lichtenberg.de
SUMMARY:Kiez-Küche
DESCRIPTION:In Gesellschaft schmeckt es besser! \nBeim gemeinsamen Mittagessen – frisch\, saisonal\, vegetarisch und lecker! gekocht von Thorsten – mit Nachbar:innen ins Gespräch kommen! \nOhne Anmeldung. Einfach vorbei kommen. Wir freuen uns auf euch! \nKostenbeteiligung: 3\,- Euro
URL:https://kiezkalender-lichtenberg.de/veranstaltung/in-gesellschaft-schmeckt-es-besser/2024-04-30/
LOCATION:NachbarschaftsTreff an der Seefelder\, Seefelder Str. 50\, Berlin\, 13053\, Germany
CATEGORIES:Essen
ATTACH;FMTTYPE=image/jpeg:https://kiezkalender-lichtenberg.de/wp-content/uploads/2023/08/kiezkueche.jpg
ORGANIZER;CN="NachbarschaftsTreff an der Seefelder":MAILTO:info@nachbarschaftstreff-seefelder.de
END:VEVENT
BEGIN:VEVENT
DTSTART;TZID=Europe/Berlin:20240501T150000
DTEND;TZID=Europe/Berlin:20240501T170000
DTSTAMP:20260421T035849
CREATED:20230830T082458Z
LAST-MODIFIED:20241116T003653Z
UID:10009661-1714575600-1714582800@kiezkalender-lichtenberg.de
SUMMARY:Kiez-Café
DESCRIPTION:Frisch gebackener Kuchen\, Kaffee/Tee und weitere Getränke! \nOhne Anmeldung. Einfach vorbei kommen! Wir freuen uns auf euch! \nKostenbeteiligung: 1\,- bis 2\,- EUR
URL:https://kiezkalender-lichtenberg.de/veranstaltung/kiez-cafe/2024-05-01/
LOCATION:NachbarschaftsTreff an der Seefelder\, Seefelder Str. 50\, Berlin\, 13053\, Germany
ATTACH;FMTTYPE=image/png:https://kiezkalender-lichtenberg.de/wp-content/uploads/2023/08/cafe-7441426_1280.png
ORGANIZER;CN="NachbarschaftsTreff an der Seefelder":MAILTO:info@nachbarschaftstreff-seefelder.de
END:VEVENT
BEGIN:VEVENT
DTSTART;TZID=Europe/Berlin:20240502T100000
DTEND;TZID=Europe/Berlin:20240502T120000
DTSTAMP:20260421T035849
CREATED:20240304T162545Z
LAST-MODIFIED:20241101T113806Z
UID:10016211-1714644000-1714651200@kiezkalender-lichtenberg.de
SUMMARY:Sprachfrühstück
DESCRIPTION:Nahrungsmittelunverträglichkeit und ähnliche Wörter begegnen dir im Alltag und du fragst dich:\nWas bedeutet das? Wie nutzt man das Wort? \nWas sind Artikel (der\, die\, das) und wie benutzt man sie? \nDas und mehr steht im Fokus des Sprachfrühstücks. \nNach einem kurzen Input werden wir bei leckerem Frühstück viel Zeit haben\, um gemeinsam deutsche Sprachpraxis sammeln zu können – und das ganz ohne Druck. \nJedes Sprachlevel ist willkommen. \nDein Kind kannst du mitbringen. Der Indoorspielplatz bietet viel Raum zur Beschäftigung für die Kleinen.
URL:https://kiezkalender-lichtenberg.de/veranstaltung/sprachfruehstueck/2024-05-02/
LOCATION:Christliches Sozialwerk Berlin eV.\, Landsberger Allee 225\, 13055 Berlin\, Landsberger Allee 225\, Berlin\, 13055
CATEGORIES:Beratung,Familie
ATTACH;FMTTYPE=image/jpeg:https://kiezkalender-lichtenberg.de/wp-content/uploads/2024/03/Sprachfruehstueck_Plakat-scaled.jpg
ORGANIZER;CN="Christliches Sozialwerk Berlin e.V.":MAILTO:Info@christliches-sozialwerk-berlin.de
END:VEVENT
END:VCALENDAR