BEGIN:VCALENDAR
VERSION:2.0
PRODID:-//Kiezkalender Lichtenberg - ECPv6.15.12.2//NONSGML v1.0//EN
CALSCALE:GREGORIAN
METHOD:PUBLISH
X-ORIGINAL-URL:https://kiezkalender-lichtenberg.de
X-WR-CALDESC:Veranstaltungen für Kiezkalender Lichtenberg
REFRESH-INTERVAL;VALUE=DURATION:PT1H
X-Robots-Tag:noindex
X-PUBLISHED-TTL:PT1H
BEGIN:VTIMEZONE
TZID:Europe/Berlin
BEGIN:DAYLIGHT
TZOFFSETFROM:+0100
TZOFFSETTO:+0200
TZNAME:CEST
DTSTART:20230326T010000
END:DAYLIGHT
BEGIN:STANDARD
TZOFFSETFROM:+0200
TZOFFSETTO:+0100
TZNAME:CET
DTSTART:20231029T010000
END:STANDARD
BEGIN:DAYLIGHT
TZOFFSETFROM:+0100
TZOFFSETTO:+0200
TZNAME:CEST
DTSTART:20240331T010000
END:DAYLIGHT
BEGIN:STANDARD
TZOFFSETFROM:+0200
TZOFFSETTO:+0100
TZNAME:CET
DTSTART:20241027T010000
END:STANDARD
BEGIN:DAYLIGHT
TZOFFSETFROM:+0100
TZOFFSETTO:+0200
TZNAME:CEST
DTSTART:20250330T010000
END:DAYLIGHT
BEGIN:STANDARD
TZOFFSETFROM:+0200
TZOFFSETTO:+0100
TZNAME:CET
DTSTART:20251026T010000
END:STANDARD
END:VTIMEZONE
BEGIN:VEVENT
DTSTART;TZID=Europe/Berlin:20240102T120000
DTEND;TZID=Europe/Berlin:20240102T140000
DTSTAMP:20260423T135614
CREATED:20230830T082033Z
LAST-MODIFIED:20250312T162448Z
UID:10006471-1704196800-1704204000@kiezkalender-lichtenberg.de
SUMMARY:Kiez-Küche
DESCRIPTION:In Gesellschaft schmeckt es besser! \nBeim gemeinsamen Mittagessen – frisch\, saisonal\, vegetarisch und lecker! gekocht von Thorsten – mit Nachbar:innen ins Gespräch kommen! \nOhne Anmeldung. Einfach vorbei kommen. Wir freuen uns auf euch! \nKostenbeteiligung: 3\,- Euro
URL:https://kiezkalender-lichtenberg.de/veranstaltung/in-gesellschaft-schmeckt-es-besser/2024-01-02/
LOCATION:NachbarschaftsTreff an der Seefelder\, Seefelder Str. 50\, Berlin\, 13053\, Germany
CATEGORIES:Essen
ATTACH;FMTTYPE=image/jpeg:https://kiezkalender-lichtenberg.de/wp-content/uploads/2023/08/kiezkueche.jpg
ORGANIZER;CN="NachbarschaftsTreff an der Seefelder":MAILTO:info@nachbarschaftstreff-seefelder.de
END:VEVENT
BEGIN:VEVENT
DTSTART;TZID=Europe/Berlin:20240103T150000
DTEND;TZID=Europe/Berlin:20240103T170000
DTSTAMP:20260423T135614
CREATED:20230830T082458Z
LAST-MODIFIED:20241116T003653Z
UID:10009644-1704294000-1704301200@kiezkalender-lichtenberg.de
SUMMARY:Kiez-Café
DESCRIPTION:Frisch gebackener Kuchen\, Kaffee/Tee und weitere Getränke! \nOhne Anmeldung. Einfach vorbei kommen! Wir freuen uns auf euch! \nKostenbeteiligung: 1\,- bis 2\,- EUR
URL:https://kiezkalender-lichtenberg.de/veranstaltung/kiez-cafe/2024-01-03/
LOCATION:NachbarschaftsTreff an der Seefelder\, Seefelder Str. 50\, Berlin\, 13053\, Germany
ATTACH;FMTTYPE=image/png:https://kiezkalender-lichtenberg.de/wp-content/uploads/2023/08/cafe-7441426_1280.png
ORGANIZER;CN="NachbarschaftsTreff an der Seefelder":MAILTO:info@nachbarschaftstreff-seefelder.de
END:VEVENT
BEGIN:VEVENT
DTSTART;TZID=Europe/Berlin:20240109T120000
DTEND;TZID=Europe/Berlin:20240109T140000
DTSTAMP:20260423T135614
CREATED:20230830T082033Z
LAST-MODIFIED:20250312T162448Z
UID:10006472-1704801600-1704808800@kiezkalender-lichtenberg.de
SUMMARY:Kiez-Küche
DESCRIPTION:In Gesellschaft schmeckt es besser! \nBeim gemeinsamen Mittagessen – frisch\, saisonal\, vegetarisch und lecker! gekocht von Thorsten – mit Nachbar:innen ins Gespräch kommen! \nOhne Anmeldung. Einfach vorbei kommen. Wir freuen uns auf euch! \nKostenbeteiligung: 3\,- Euro
URL:https://kiezkalender-lichtenberg.de/veranstaltung/in-gesellschaft-schmeckt-es-besser/2024-01-09/
LOCATION:NachbarschaftsTreff an der Seefelder\, Seefelder Str. 50\, Berlin\, 13053\, Germany
CATEGORIES:Essen
ATTACH;FMTTYPE=image/jpeg:https://kiezkalender-lichtenberg.de/wp-content/uploads/2023/08/kiezkueche.jpg
ORGANIZER;CN="NachbarschaftsTreff an der Seefelder":MAILTO:info@nachbarschaftstreff-seefelder.de
END:VEVENT
BEGIN:VEVENT
DTSTART;TZID=Europe/Berlin:20240110T150000
DTEND;TZID=Europe/Berlin:20240110T170000
DTSTAMP:20260423T135614
CREATED:20230830T082458Z
LAST-MODIFIED:20241116T003653Z
UID:10009645-1704898800-1704906000@kiezkalender-lichtenberg.de
SUMMARY:Kiez-Café
DESCRIPTION:Frisch gebackener Kuchen\, Kaffee/Tee und weitere Getränke! \nOhne Anmeldung. Einfach vorbei kommen! Wir freuen uns auf euch! \nKostenbeteiligung: 1\,- bis 2\,- EUR
URL:https://kiezkalender-lichtenberg.de/veranstaltung/kiez-cafe/2024-01-10/
LOCATION:NachbarschaftsTreff an der Seefelder\, Seefelder Str. 50\, Berlin\, 13053\, Germany
ATTACH;FMTTYPE=image/png:https://kiezkalender-lichtenberg.de/wp-content/uploads/2023/08/cafe-7441426_1280.png
ORGANIZER;CN="NachbarschaftsTreff an der Seefelder":MAILTO:info@nachbarschaftstreff-seefelder.de
END:VEVENT
BEGIN:VEVENT
DTSTART;TZID=Europe/Berlin:20240116T120000
DTEND;TZID=Europe/Berlin:20240116T140000
DTSTAMP:20260423T135614
CREATED:20230830T082033Z
LAST-MODIFIED:20250312T162448Z
UID:10006473-1705406400-1705413600@kiezkalender-lichtenberg.de
SUMMARY:Kiez-Küche
DESCRIPTION:In Gesellschaft schmeckt es besser! \nBeim gemeinsamen Mittagessen – frisch\, saisonal\, vegetarisch und lecker! gekocht von Thorsten – mit Nachbar:innen ins Gespräch kommen! \nOhne Anmeldung. Einfach vorbei kommen. Wir freuen uns auf euch! \nKostenbeteiligung: 3\,- Euro
URL:https://kiezkalender-lichtenberg.de/veranstaltung/in-gesellschaft-schmeckt-es-besser/2024-01-16/
LOCATION:NachbarschaftsTreff an der Seefelder\, Seefelder Str. 50\, Berlin\, 13053\, Germany
CATEGORIES:Essen
ATTACH;FMTTYPE=image/jpeg:https://kiezkalender-lichtenberg.de/wp-content/uploads/2023/08/kiezkueche.jpg
ORGANIZER;CN="NachbarschaftsTreff an der Seefelder":MAILTO:info@nachbarschaftstreff-seefelder.de
END:VEVENT
BEGIN:VEVENT
DTSTART;TZID=Europe/Berlin:20240117T150000
DTEND;TZID=Europe/Berlin:20240117T170000
DTSTAMP:20260423T135614
CREATED:20230830T082458Z
LAST-MODIFIED:20241116T003653Z
UID:10009646-1705503600-1705510800@kiezkalender-lichtenberg.de
SUMMARY:Kiez-Café
DESCRIPTION:Frisch gebackener Kuchen\, Kaffee/Tee und weitere Getränke! \nOhne Anmeldung. Einfach vorbei kommen! Wir freuen uns auf euch! \nKostenbeteiligung: 1\,- bis 2\,- EUR
URL:https://kiezkalender-lichtenberg.de/veranstaltung/kiez-cafe/2024-01-17/
LOCATION:NachbarschaftsTreff an der Seefelder\, Seefelder Str. 50\, Berlin\, 13053\, Germany
ATTACH;FMTTYPE=image/png:https://kiezkalender-lichtenberg.de/wp-content/uploads/2023/08/cafe-7441426_1280.png
ORGANIZER;CN="NachbarschaftsTreff an der Seefelder":MAILTO:info@nachbarschaftstreff-seefelder.de
END:VEVENT
BEGIN:VEVENT
DTSTART;TZID=Europe/Berlin:20240123T120000
DTEND;TZID=Europe/Berlin:20240123T140000
DTSTAMP:20260423T135614
CREATED:20230830T082033Z
LAST-MODIFIED:20250312T162448Z
UID:10006474-1706011200-1706018400@kiezkalender-lichtenberg.de
SUMMARY:Kiez-Küche
DESCRIPTION:In Gesellschaft schmeckt es besser! \nBeim gemeinsamen Mittagessen – frisch\, saisonal\, vegetarisch und lecker! gekocht von Thorsten – mit Nachbar:innen ins Gespräch kommen! \nOhne Anmeldung. Einfach vorbei kommen. Wir freuen uns auf euch! \nKostenbeteiligung: 3\,- Euro
URL:https://kiezkalender-lichtenberg.de/veranstaltung/in-gesellschaft-schmeckt-es-besser/2024-01-23/
LOCATION:NachbarschaftsTreff an der Seefelder\, Seefelder Str. 50\, Berlin\, 13053\, Germany
CATEGORIES:Essen
ATTACH;FMTTYPE=image/jpeg:https://kiezkalender-lichtenberg.de/wp-content/uploads/2023/08/kiezkueche.jpg
ORGANIZER;CN="NachbarschaftsTreff an der Seefelder":MAILTO:info@nachbarschaftstreff-seefelder.de
END:VEVENT
BEGIN:VEVENT
DTSTART;TZID=Europe/Berlin:20240124T150000
DTEND;TZID=Europe/Berlin:20240124T170000
DTSTAMP:20260423T135614
CREATED:20230830T082458Z
LAST-MODIFIED:20241116T003653Z
UID:10009647-1706108400-1706115600@kiezkalender-lichtenberg.de
SUMMARY:Kiez-Café
DESCRIPTION:Frisch gebackener Kuchen\, Kaffee/Tee und weitere Getränke! \nOhne Anmeldung. Einfach vorbei kommen! Wir freuen uns auf euch! \nKostenbeteiligung: 1\,- bis 2\,- EUR
URL:https://kiezkalender-lichtenberg.de/veranstaltung/kiez-cafe/2024-01-24/
LOCATION:NachbarschaftsTreff an der Seefelder\, Seefelder Str. 50\, Berlin\, 13053\, Germany
ATTACH;FMTTYPE=image/png:https://kiezkalender-lichtenberg.de/wp-content/uploads/2023/08/cafe-7441426_1280.png
ORGANIZER;CN="NachbarschaftsTreff an der Seefelder":MAILTO:info@nachbarschaftstreff-seefelder.de
END:VEVENT
BEGIN:VEVENT
DTSTART;TZID=Europe/Berlin:20240130T120000
DTEND;TZID=Europe/Berlin:20240130T140000
DTSTAMP:20260423T135614
CREATED:20230830T082033Z
LAST-MODIFIED:20250312T162448Z
UID:10006475-1706616000-1706623200@kiezkalender-lichtenberg.de
SUMMARY:Kiez-Küche
DESCRIPTION:In Gesellschaft schmeckt es besser! \nBeim gemeinsamen Mittagessen – frisch\, saisonal\, vegetarisch und lecker! gekocht von Thorsten – mit Nachbar:innen ins Gespräch kommen! \nOhne Anmeldung. Einfach vorbei kommen. Wir freuen uns auf euch! \nKostenbeteiligung: 3\,- Euro
URL:https://kiezkalender-lichtenberg.de/veranstaltung/in-gesellschaft-schmeckt-es-besser/2024-01-30/
LOCATION:NachbarschaftsTreff an der Seefelder\, Seefelder Str. 50\, Berlin\, 13053\, Germany
CATEGORIES:Essen
ATTACH;FMTTYPE=image/jpeg:https://kiezkalender-lichtenberg.de/wp-content/uploads/2023/08/kiezkueche.jpg
ORGANIZER;CN="NachbarschaftsTreff an der Seefelder":MAILTO:info@nachbarschaftstreff-seefelder.de
END:VEVENT
BEGIN:VEVENT
DTSTART;TZID=Europe/Berlin:20240131T150000
DTEND;TZID=Europe/Berlin:20240131T170000
DTSTAMP:20260423T135614
CREATED:20230830T082458Z
LAST-MODIFIED:20241116T003653Z
UID:10009648-1706713200-1706720400@kiezkalender-lichtenberg.de
SUMMARY:Kiez-Café
DESCRIPTION:Frisch gebackener Kuchen\, Kaffee/Tee und weitere Getränke! \nOhne Anmeldung. Einfach vorbei kommen! Wir freuen uns auf euch! \nKostenbeteiligung: 1\,- bis 2\,- EUR
URL:https://kiezkalender-lichtenberg.de/veranstaltung/kiez-cafe/2024-01-31/
LOCATION:NachbarschaftsTreff an der Seefelder\, Seefelder Str. 50\, Berlin\, 13053\, Germany
ATTACH;FMTTYPE=image/png:https://kiezkalender-lichtenberg.de/wp-content/uploads/2023/08/cafe-7441426_1280.png
ORGANIZER;CN="NachbarschaftsTreff an der Seefelder":MAILTO:info@nachbarschaftstreff-seefelder.de
END:VEVENT
END:VCALENDAR