BEGIN:VCALENDAR
VERSION:2.0
PRODID:-//Kiezkalender Lichtenberg - ECPv6.15.12.2//NONSGML v1.0//EN
CALSCALE:GREGORIAN
METHOD:PUBLISH
X-ORIGINAL-URL:https://kiezkalender-lichtenberg.de
X-WR-CALDESC:Veranstaltungen für Kiezkalender Lichtenberg
REFRESH-INTERVAL;VALUE=DURATION:PT1H
X-Robots-Tag:noindex
X-PUBLISHED-TTL:PT1H
BEGIN:VTIMEZONE
TZID:Europe/Berlin
BEGIN:DAYLIGHT
TZOFFSETFROM:+0100
TZOFFSETTO:+0200
TZNAME:CEST
DTSTART:20240331T010000
END:DAYLIGHT
BEGIN:STANDARD
TZOFFSETFROM:+0200
TZOFFSETTO:+0100
TZNAME:CET
DTSTART:20241027T010000
END:STANDARD
BEGIN:DAYLIGHT
TZOFFSETFROM:+0100
TZOFFSETTO:+0200
TZNAME:CEST
DTSTART:20250330T010000
END:DAYLIGHT
BEGIN:STANDARD
TZOFFSETFROM:+0200
TZOFFSETTO:+0100
TZNAME:CET
DTSTART:20251026T010000
END:STANDARD
BEGIN:DAYLIGHT
TZOFFSETFROM:+0100
TZOFFSETTO:+0200
TZNAME:CEST
DTSTART:20260329T010000
END:DAYLIGHT
BEGIN:STANDARD
TZOFFSETFROM:+0200
TZOFFSETTO:+0100
TZNAME:CET
DTSTART:20261025T010000
END:STANDARD
END:VTIMEZONE
BEGIN:VEVENT
DTSTART;TZID=Europe/Berlin:20250912T080000
DTEND;TZID=Europe/Berlin:20251001T170000
DTSTAMP:20260423T122646
CREATED:20250820T090528Z
LAST-MODIFIED:20250820T093905Z
UID:10039698-1757664000-1759338000@kiezkalender-lichtenberg.de
SUMMARY:Wanderausstellung "Konfetti im Kopf" im Rahmen der Lichtenberger Woche der Demenz
DESCRIPTION:om 12.09. bis 1.10. findet in der Kiezspinne die Wanderausstellung „Konfetti im Kopf“ statt.  Die Wanderausstellung ist eine Initiative\, die 2009 entstanden ist. Sie dient der Sensibilisierung und dem Verständnis von Menschen mit Demenz. Sie nutzt die Kraft von Kunst und Kultur\, um Brücken zu bauen und eine positive Auseinandersetzung mit dem Thema zu fördern. Den Bildern des bekannten Fotografen Michael Hagedorn gelingt es\, in vielfältiger Weise berührende Momente vom Leben mit Demenz aufzugreifen. Sie ist dabei einfühlsam und macht Mut. \n\n\n\n\n\n\n 
URL:https://kiezkalender-lichtenberg.de/veranstaltung/wanderausstellung-konfetti-im-kopf-im-rahmen-der-lichtenberger-woche-der-demenz/
LOCATION:Kiezspinne FAS e.V. – Nachbarschaftshaus Orangerie\, Schulze-Boysen-Straße 38\, Berlin\, 10365\, Germany
CATEGORIES:Nachbarschaft
ATTACH;FMTTYPE=image/jpeg:https://kiezkalender-lichtenberg.de/wp-content/uploads/2025/08/0002-1-scaled.jpg
ORGANIZER;CN="Kontaktstelle Horizont":MAILTO:selbsthilfe.synapse@kiezspinne.de
END:VEVENT
BEGIN:VEVENT
DTSTART;TZID=Europe/Berlin:20250915T130000
DTEND;TZID=Europe/Berlin:20250915T150000
DTSTAMP:20260423T122646
CREATED:20250915T110012Z
LAST-MODIFIED:20250915T110012Z
UID:10040311-1757941200-1757948400@kiezkalender-lichtenberg.de
SUMMARY:Nachbarschaftstreff (mit Nataliia)
DESCRIPTION:Jeden 3. Montag im Monat | 13 – 15 Uhr \nGemeinsam mit deinen Nachbar*innen ins Gespräch kommen\, Deutsch lernen\, Kaffee trinken\, basteln\, spazieren gehen und und und…
URL:https://kiezkalender-lichtenberg.de/veranstaltung/nachbarschaftstreff-mit-nataliia/2025-09-15/
LOCATION:Stadtteilzentrum Welsekiosk\, Falkenberger Chaussee 136\, Berlin\, 13057\, Germany
CATEGORIES:Nachbarschaft,Spaziergang,Sprache
ATTACH;FMTTYPE=image/jpeg:https://kiezkalender-lichtenberg.de/wp-content/uploads/2025/09/Screenshot-2025-09-15-112337.jpg
ORGANIZER;CN="Welsekiosk":MAILTO:stz-welsekiosk@vav-hhausen.de
END:VEVENT
BEGIN:VEVENT
DTSTART;TZID=Europe/Berlin:20250916T130000
DTEND;TZID=Europe/Berlin:20250916T150000
DTSTAMP:20260423T122646
CREATED:20250611T095420Z
LAST-MODIFIED:20250611T095420Z
UID:10037702-1758027600-1758034800@kiezkalender-lichtenberg.de
SUMMARY:Sprechstunde der Kontaktstelle PflegeEngagement
DESCRIPTION:Wir wollen pflegende und sorgende An- und Zugehörige wohnortnah unterstützen und entlasten: \n– durch Gruppenangebote (Gesprächs- und Aktivgruppen)\n– durch einen ehrenamtlichen Besuchsdienst (keine pflegerischen/ haushaltsnahen Dienstleistungen/ Begleitungen zu Ärzten usw.)\n– Entlastungsgespräche\n– Informationsveranstaltungen rund um das Thema Pflege\, Alter und Gesundheit\n– Unterstützung bei der Gründung von Netzwerken und Nachbarschaftsinitiatíve \nSprechzeiten: \nSchulze-Boysen-Str. 37\, 2. OG rechts gegenüber der Kiezspinne \nDienstag: 13-15 Uhr \nDonnerstag: 10-12 Uhr und nach telefonischer Vereinbarung \nWir kommen auch zu Ihnen nach Hause und beraten online per Zoom! \nTelefon: 030/28 47 23 95  \nMail: kpe@kiezspinne.de \nHomepage: www.kpe-lichtenberg.de \nHaben Sie Mut und melden Sie sich gerne bei uns! Wir freuen uns auch über ehrenamtliches Engagement!
URL:https://kiezkalender-lichtenberg.de/veranstaltung/sprechstunde-der-kontaktstelle-pflegeengagement/2025-09-16/
LOCATION:Kontaktstelle PflegeEngagement\, Schulze-Boysen-Str.37\, Berlin\, 10365\, Germany
CATEGORIES:Beratung,Familie,Gesundheit
ATTACH;FMTTYPE=image/jpeg:https://kiezkalender-lichtenberg.de/wp-content/uploads/2025/06/Tuerschild_SB-1.jpg
ORGANIZER;CN="Kontaktstelle PflegeEngagement Lichtenberg":MAILTO:kpe@kiezspinne.de
END:VEVENT
BEGIN:VEVENT
DTSTART;TZID=Europe/Berlin:20250918T100000
DTEND;TZID=Europe/Berlin:20250918T120000
DTSTAMP:20260423T122646
CREATED:20250604T105836Z
LAST-MODIFIED:20250604T105836Z
UID:10037092-1758189600-1758196800@kiezkalender-lichtenberg.de
SUMMARY:Büro 55+ - gut älter werden in Lichtenberg
DESCRIPTION:Sprechzeit im Stadtteilzentrum “Welsekiosk” \nBüro 55+ – gut älter werden in Lichtenberg \nWir beraten und unterstützen Sie bei Fragen rund um Gesundheit\, Pflege/Versorgung\, Freizeit und Ehrenamt. \nWann: Jeden 3. Donnerstag im Monat\, 10.00 – 12.00 Uhr\nWo: Falkenberger Chaussee 136 in 13057 Berlin\nmit vorheriger telefonischer Anmeldung: buero55plus@lbd.berlin oder 030 – 98 60 19 99 55
URL:https://kiezkalender-lichtenberg.de/veranstaltung/buero-55-gut-aelter-werden-in-lichtenberg/2025-09-18/
LOCATION:Stadtteilzentrum Welsekiosk\, Falkenberger Chaussee 136\, Berlin\, 13057\, Germany
CATEGORIES:Beratung,Familie,Gesundheit
ATTACH;FMTTYPE=image/jpeg:https://kiezkalender-lichtenberg.de/wp-content/uploads/2025/06/55.jpg
ORGANIZER;CN="Welsekiosk":MAILTO:stz-welsekiosk@vav-hhausen.de
END:VEVENT
BEGIN:VEVENT
DTSTART;TZID=Europe/Berlin:20250918T100000
DTEND;TZID=Europe/Berlin:20250918T130000
DTSTAMP:20260423T122646
CREATED:20250811T124529Z
LAST-MODIFIED:20250811T124529Z
UID:10039687-1758189600-1758200400@kiezkalender-lichtenberg.de
SUMMARY:Tag der offenen Türen in der Kontaktstelle PflegeEngagement
DESCRIPTION:Die Kontaktstelle PflegeEngagement in Berlin Lichtenberg öffnet für pflegende Angehörige und alle Interessierten ihre Türen! Pflegezeit ist Lebenszeit – Zum Tag der offenen Tür stellt sich die Kontaktstelle PflegeEngagement Lichtenberg mit ihren Angeboten vor. Wir freuen uns\, Sie zum Tag der offenen Tür einzuladen\, an dem Sie Einblicke in unsere Arbeit erhalten und beantworten Ihre Fragen zum Thema Pflege\, Selbsthilfe und geben Tipps\, wie Selbstfürsorge auch im Pflegealltag gelingen kann. Die Veranstaltung steht jedem offen\, der sich für das Thema „sorgende und pflegende Angehörige“ oder ein ehrenamtliches Engagement interessiert.
URL:https://kiezkalender-lichtenberg.de/veranstaltung/tag-der-offenen-tueren-in-der-kontaktstelle-pflegeengagement-3/
LOCATION:Kontaktstelle PflegeEngagement\, Schulze-Boysen-Str.37\, Berlin\, 10365\, Germany
CATEGORIES:Beratung,Gesundheit,Nachbarschaft
ATTACH;FMTTYPE=image/png:https://kiezkalender-lichtenberg.de/wp-content/uploads/2025/08/KPE_Lichtenberg-1.png
ORGANIZER;CN="Kontaktstelle PflegeEngagement Lichtenberg":MAILTO:kpe@kiezspinne.de
END:VEVENT
BEGIN:VEVENT
DTSTART;TZID=Europe/Berlin:20250918T163000
DTEND;TZID=Europe/Berlin:20250918T190000
DTSTAMP:20260423T122646
CREATED:20250811T131549Z
LAST-MODIFIED:20250811T151323Z
UID:10039688-1758213000-1758222000@kiezkalender-lichtenberg.de
SUMMARY:Kühlschrankmagnete selber machen
DESCRIPTION:Eine Veranstaltung im Rahmen der Lichtenberger Woche der Generationen und Freiwilligentage \nAm 18. September 2025 16:30 – 19:00 Uhr stellen wir mit einer Buttonmaschine Kühlschrankmagnete selber her. \nEs gibt Getränke und kleine Snacks bei denen alle Generationen schnacken können. \nStadtteilkoordination ALLi\, Fanningerstraße 33\, 10365 Berlin – Alt-Lichtenberg
URL:https://kiezkalender-lichtenberg.de/veranstaltung/kuehlschrankmagnete-selber-machen/
LOCATION:Stadtteilbüro Alt-Lichtenberg\, Fanningerstraße 33\, Berlin\, Berlin\, 10365\, Germany
CATEGORIES:Familie,Kunst,Nachbarschaft,Workshops
ATTACH;FMTTYPE=image/jpeg:https://kiezkalender-lichtenberg.de/wp-content/uploads/2025/08/18.September-2025-1630-1900-Uhr-4.jpg
ORGANIZER;CN="Stadtteilkoordination Alt-Lichtenberg":MAILTO:mareike.hadeler@kiezspinne.de
END:VEVENT
BEGIN:VEVENT
DTSTART;TZID=Europe/Berlin:20250919T080000
DTEND;TZID=Europe/Berlin:20251002T170000
DTSTAMP:20260423T122646
CREATED:20250820T085830Z
LAST-MODIFIED:20251007T140730Z
UID:10039697-1758268800-1759424400@kiezkalender-lichtenberg.de
SUMMARY:Lichtenberger Woche der Demenz vom 19.09. bis 28.09. in Lichtenberg
DESCRIPTION:Die Aktionswoche ist das Ergebnis der Zusammenarbeit Lichtenberger Akteure im Netzwerk Demenz unter Leitung des Projektes „DemenzLicht“\, der Bezirklichen Leitstelle Demenzfreundliche Kommune Lichtenberg. Gemeinsam leisten wir unseren Beitrag zur nationalen Demenzstrategie und arbeiten an einer Verbesserung der Versorgung von Menschen mit Demenz. Es ist uns wichtig ihre Möglichkeiten zur gesellschaftlichen Teilhabe zu stärken sowie deren Angehöre zu unterstützen. \nWeitere Informationen finden Sie hier: https://www.malteser.de/standorte/berlin/demenzarbeit/bezirkliche-leitstelle-demenzfreundliche-kommune-lichtenberg.html
URL:https://kiezkalender-lichtenberg.de/veranstaltung/lichtenberger-woche-der-demenz-vom-19-09-bis-28-09-in-lichtenberg-2/
CATEGORIES:Gesundheit
ATTACH;FMTTYPE=image/jpeg:https://kiezkalender-lichtenberg.de/wp-content/uploads/2025/08/0001-scaled.jpg
ORGANIZER;CN="DemenzLicht":MAILTO:Leitstelle-Demenzfreundliches-Lichtenberg@malteser.org Nachricht senden
END:VEVENT
BEGIN:VEVENT
DTSTART;TZID=Europe/Berlin:20250920T150000
DTEND;TZID=Europe/Berlin:20250920T190000
DTSTAMP:20260423T122646
CREATED:20250912T131204Z
LAST-MODIFIED:20250912T131204Z
UID:10039785-1758380400-1758394800@kiezkalender-lichtenberg.de
SUMMARY:Temporäre Spielstraße
DESCRIPTION:Kommt raus zum Spielen\, Kicken und Flanieren. \nTemporäre Spielstraße am Samstag\, 20. September \n15-19 Uhr\n \nin der Gotlindestraße (Schottstraße bis Atzpodienstraße).
URL:https://kiezkalender-lichtenberg.de/veranstaltung/temporaere-spielstrasse/
LOCATION:Gotlindestraße
CATEGORIES:Familie,Feste,Nachbarschaft
ATTACH;FMTTYPE=image/jpeg:https://kiezkalender-lichtenberg.de/wp-content/uploads/2025/09/Lichte_Gotlinde_Social_Media.jpg
END:VEVENT
END:VCALENDAR