BEGIN:VCALENDAR
VERSION:2.0
PRODID:-//Kiezkalender Lichtenberg - ECPv6.15.12.2//NONSGML v1.0//EN
CALSCALE:GREGORIAN
METHOD:PUBLISH
X-WR-CALNAME:Kiezkalender Lichtenberg
X-ORIGINAL-URL:https://kiezkalender-lichtenberg.de
X-WR-CALDESC:Veranstaltungen für Kiezkalender Lichtenberg
REFRESH-INTERVAL;VALUE=DURATION:PT1H
X-Robots-Tag:noindex
X-PUBLISHED-TTL:PT1H
BEGIN:VTIMEZONE
TZID:Europe/Berlin
BEGIN:DAYLIGHT
TZOFFSETFROM:+0100
TZOFFSETTO:+0200
TZNAME:CEST
DTSTART:20240331T010000
END:DAYLIGHT
BEGIN:STANDARD
TZOFFSETFROM:+0200
TZOFFSETTO:+0100
TZNAME:CET
DTSTART:20241027T010000
END:STANDARD
BEGIN:DAYLIGHT
TZOFFSETFROM:+0100
TZOFFSETTO:+0200
TZNAME:CEST
DTSTART:20250330T010000
END:DAYLIGHT
BEGIN:STANDARD
TZOFFSETFROM:+0200
TZOFFSETTO:+0100
TZNAME:CET
DTSTART:20251026T010000
END:STANDARD
BEGIN:DAYLIGHT
TZOFFSETFROM:+0100
TZOFFSETTO:+0200
TZNAME:CEST
DTSTART:20260329T010000
END:DAYLIGHT
BEGIN:STANDARD
TZOFFSETFROM:+0200
TZOFFSETTO:+0100
TZNAME:CET
DTSTART:20261025T010000
END:STANDARD
END:VTIMEZONE
BEGIN:VEVENT
DTSTART;TZID=Europe/Berlin:20250819T130000
DTEND;TZID=Europe/Berlin:20250819T150000
DTSTAMP:20260426T044151
CREATED:20250611T095420Z
LAST-MODIFIED:20250611T095420Z
UID:10037698-1755608400-1755615600@kiezkalender-lichtenberg.de
SUMMARY:Sprechstunde der Kontaktstelle PflegeEngagement
DESCRIPTION:Wir wollen pflegende und sorgende An- und Zugehörige wohnortnah unterstützen und entlasten: \n– durch Gruppenangebote (Gesprächs- und Aktivgruppen)\n– durch einen ehrenamtlichen Besuchsdienst (keine pflegerischen/ haushaltsnahen Dienstleistungen/ Begleitungen zu Ärzten usw.)\n– Entlastungsgespräche\n– Informationsveranstaltungen rund um das Thema Pflege\, Alter und Gesundheit\n– Unterstützung bei der Gründung von Netzwerken und Nachbarschaftsinitiatíve \nSprechzeiten: \nSchulze-Boysen-Str. 37\, 2. OG rechts gegenüber der Kiezspinne \nDienstag: 13-15 Uhr \nDonnerstag: 10-12 Uhr und nach telefonischer Vereinbarung \nWir kommen auch zu Ihnen nach Hause und beraten online per Zoom! \nTelefon: 030/28 47 23 95  \nMail: kpe@kiezspinne.de \nHomepage: www.kpe-lichtenberg.de \nHaben Sie Mut und melden Sie sich gerne bei uns! Wir freuen uns auch über ehrenamtliches Engagement!
URL:https://kiezkalender-lichtenberg.de/veranstaltung/sprechstunde-der-kontaktstelle-pflegeengagement/2025-08-19/
LOCATION:Kontaktstelle PflegeEngagement\, Schulze-Boysen-Str.37\, Berlin\, 10365\, Germany
CATEGORIES:Beratung,Familie,Gesundheit
ATTACH;FMTTYPE=image/jpeg:https://kiezkalender-lichtenberg.de/wp-content/uploads/2025/06/Tuerschild_SB-1.jpg
ORGANIZER;CN="Kontaktstelle PflegeEngagement Lichtenberg":MAILTO:kpe@kiezspinne.de
END:VEVENT
BEGIN:VEVENT
DTSTART;TZID=Europe/Berlin:20250821T100000
DTEND;TZID=Europe/Berlin:20250821T120000
DTSTAMP:20260426T044151
CREATED:20250604T105836Z
LAST-MODIFIED:20250604T105836Z
UID:10037091-1755770400-1755777600@kiezkalender-lichtenberg.de
SUMMARY:Büro 55+ - gut älter werden in Lichtenberg
DESCRIPTION:Sprechzeit im Stadtteilzentrum “Welsekiosk” \nBüro 55+ – gut älter werden in Lichtenberg \nWir beraten und unterstützen Sie bei Fragen rund um Gesundheit\, Pflege/Versorgung\, Freizeit und Ehrenamt. \nWann: Jeden 3. Donnerstag im Monat\, 10.00 – 12.00 Uhr\nWo: Falkenberger Chaussee 136 in 13057 Berlin\nmit vorheriger telefonischer Anmeldung: buero55plus@lbd.berlin oder 030 – 98 60 19 99 55
URL:https://kiezkalender-lichtenberg.de/veranstaltung/buero-55-gut-aelter-werden-in-lichtenberg/2025-08-21/
LOCATION:Stadtteilzentrum Welsekiosk\, Falkenberger Chaussee 136\, Berlin\, 13057\, Germany
CATEGORIES:Beratung,Familie,Gesundheit
ATTACH;FMTTYPE=image/jpeg:https://kiezkalender-lichtenberg.de/wp-content/uploads/2025/06/55.jpg
ORGANIZER;CN="Welsekiosk":MAILTO:stz-welsekiosk@vav-hhausen.de
END:VEVENT
BEGIN:VEVENT
DTSTART;TZID=Europe/Berlin:20250821T173000
DTEND;TZID=Europe/Berlin:20250821T190000
DTSTAMP:20260426T044151
CREATED:20250806T134846Z
LAST-MODIFIED:20250806T134846Z
UID:10039668-1755797400-1755802800@kiezkalender-lichtenberg.de
SUMMARY:Gemeinschaftsgarten
DESCRIPTION:🌱 Neuer Gemeinschaftsgarten im Fennpfuhl – Infoveranstaltung \nBald entsteht ein Gemeinschaftsgarten auf der Brachfläche zwischen der Paul-Junius-Straße 52 und der Alfred-Jung-Straße 18 – und du kannst von Anfang an mitgestalten! \n🌿 Was? Infoveranstaltung zum neuen Gartenprojekt\n📅 Wann? Donnerstag\, 21.08.2025\, um 17.30 Uhr\n📍 Wo? Begegnungsstätte RoBertO\, Paul-Junius-Straße 64A\, 10369 Berlin \nEgal ob mit grünem Daumen oder einfach Lust auf Gemeinschaft – komm vorbei und erfahre mehr!
URL:https://kiezkalender-lichtenberg.de/veranstaltung/gemeinschaftsgarten/
LOCATION:Begegnungsstäte RoBertO\, Paul-Junius-Str. 64A\, 10369 Berlin\, Berlin\, Germany
CATEGORIES:Nachbarschaft
ATTACH;FMTTYPE=image/png:https://kiezkalender-lichtenberg.de/wp-content/uploads/2025/08/Gemeinschaftgarten_August.png
ORGANIZER;CN="Stadtteilkoordination Fennpfuhl":MAILTO:kegler@rbo-inmitten.berlin
END:VEVENT
END:VCALENDAR