BEGIN:VCALENDAR
VERSION:2.0
PRODID:-//Kiezkalender Lichtenberg - ECPv6.15.12.2//NONSGML v1.0//EN
CALSCALE:GREGORIAN
METHOD:PUBLISH
X-WR-CALNAME:Kiezkalender Lichtenberg
X-ORIGINAL-URL:https://kiezkalender-lichtenberg.de
X-WR-CALDESC:Veranstaltungen für Kiezkalender Lichtenberg
REFRESH-INTERVAL;VALUE=DURATION:PT1H
X-Robots-Tag:noindex
X-PUBLISHED-TTL:PT1H
BEGIN:VTIMEZONE
TZID:Europe/Berlin
BEGIN:DAYLIGHT
TZOFFSETFROM:+0100
TZOFFSETTO:+0200
TZNAME:CEST
DTSTART:20240331T010000
END:DAYLIGHT
BEGIN:STANDARD
TZOFFSETFROM:+0200
TZOFFSETTO:+0100
TZNAME:CET
DTSTART:20241027T010000
END:STANDARD
BEGIN:DAYLIGHT
TZOFFSETFROM:+0100
TZOFFSETTO:+0200
TZNAME:CEST
DTSTART:20250330T010000
END:DAYLIGHT
BEGIN:STANDARD
TZOFFSETFROM:+0200
TZOFFSETTO:+0100
TZNAME:CET
DTSTART:20251026T010000
END:STANDARD
BEGIN:DAYLIGHT
TZOFFSETFROM:+0100
TZOFFSETTO:+0200
TZNAME:CEST
DTSTART:20260329T010000
END:DAYLIGHT
BEGIN:STANDARD
TZOFFSETFROM:+0200
TZOFFSETTO:+0100
TZNAME:CET
DTSTART:20261025T010000
END:STANDARD
END:VTIMEZONE
BEGIN:VEVENT
DTSTART;TZID=Europe/Berlin:20250519T130000
DTEND;TZID=Europe/Berlin:20250519T170000
DTSTAMP:20260424T065409
CREATED:20250506T133345Z
LAST-MODIFIED:20250506T133345Z
UID:10035915-1747659600-1747674000@kiezkalender-lichtenberg.de
SUMMARY:Tag der offenen Türen im Rahmen der Aktionswoche Selbsthilfe 2025 am 19.05. ab 13 Uhr in der Kontaktstelle PflegeEngagement
DESCRIPTION:Tag der offenen Türen im Rahmen der Aktionswoche Selbsthilfe 2025 am 19.05. ab 13 Uhr in der Kontaktstelle PflegeEngagement\n\n\nPflegezeit ist Lebenszeit – Zum Tag der offenen Tür stellt sich die Kontaktstelle PflegeEngagement Lichtenberg mit ihren Angeboten vor. Wir freuen uns\, Sie zum Tag der offenen Tür einzuladen\, an dem Sie Einblicke in unsere Arbeit erhalten und beantworten Ihre Fragen zum Thema Pflege\, Selbsthilfe und geben Tipps\, wie Selbstfürsorge auch im Pflegealltag gelingen kann. Die Veranstaltung steht jedem offen\, der sich für das Thema „sorgende und pflegende Angehörige“ interessiert. Weitere Infos unter: https://www.der-paritaetische.de/themen/gesundheit-teilhabe-und-pflege/aktionswoche-selbsthilfe-2025/
URL:https://kiezkalender-lichtenberg.de/veranstaltung/tag-der-offenen-tueren-im-rahmen-der-aktionswoche-selbsthilfe-2025-am-19-05-ab-13-uhr-in-der-kontaktstelle-pflegeengagement/
LOCATION:Kontaktstelle PflegeEngagement\, Schulze-Boysen-Str.37\, Berlin\, 10365\, Germany
ATTACH;FMTTYPE=image/png:https://kiezkalender-lichtenberg.de/wp-content/uploads/2025/05/KPE_Lichtenberg.png
ORGANIZER;CN="Kontaktstelle PflegeEngagement Lichtenberg":MAILTO:kpe@kiezspinne.de
END:VEVENT
BEGIN:VEVENT
DTSTART;TZID=Europe/Berlin:20250521T110000
DTEND;TZID=Europe/Berlin:20250521T130000
DTSTAMP:20260424T065409
CREATED:20250428T084303Z
LAST-MODIFIED:20250428T084303Z
UID:10035889-1747825200-1747832400@kiezkalender-lichtenberg.de
SUMMARY:Spaziergang durch den Welsekiez
DESCRIPTION:Wir erkunden den Welsekiez\, entdecken geheime Orte und tauschen uns mit der Nachbarschaft aus. Alle sind herzlich willkommen.\nTreffpunkt: 11 Uhr im STZ Welsekiosk
URL:https://kiezkalender-lichtenberg.de/veranstaltung/spaziergang-durch-den-welsekiez/
LOCATION:Stadtteilzentrum Welsekiosk\, Falkenberger Chaussee 136\, Berlin\, 13057\, Germany
CATEGORIES:Sport
ATTACH;FMTTYPE=image/jpeg:https://kiezkalender-lichtenberg.de/wp-content/uploads/2025/04/Screenshot-2025-04-28-102616.jpeg
ORGANIZER;CN="Welsekiosk":MAILTO:stz-welsekiosk@vav-hhausen.de
END:VEVENT
BEGIN:VEVENT
DTSTART;TZID=Europe/Berlin:20250522T100000
DTEND;TZID=Europe/Berlin:20250522T200000
DTSTAMP:20260424T065409
CREATED:20250520T073804Z
LAST-MODIFIED:20250520T073804Z
UID:10035995-1747908000-1747944000@kiezkalender-lichtenberg.de
SUMMARY:30 Jahre Lichtenberger Sozialtage – Gemeinsam für ein starkes Miteinander!
DESCRIPTION:Am 22. und 23. Mai 2025 verwandelt sich das Linden-Center Berlin (Prerower Platz 1) in Hohenschönhausen jeweils von 10:00 bis 20:00 Uhr in einen lebendigen Treffpunkt für Austausch\, Inspiration und gelebte Solidarität. \nUnter dem Motto „Lichtenberg leben\, Gemeinschaft stärken“ erwartet euch ein buntes und kostenfreies Programm für alle Altersgruppen – mit Infoständen\, spannenden Projekten\, Mitmachaktionen und einem vielfältigen Bühnenprogramm. \n🎶 Freut euch auf Live-Musik von Marianne Neumann\, dem Hanoi Ensemble\, dem Chor „Friedrichsfelder Spätsommer“\, Theater- und Tanzaufführungen sowie das beliebte Tränkler’s Puppentheater. \n📌 Die feierliche Eröffnung findet am Donnerstag\, 22. Mai\, um 10:00 Uhr statt.\n💬 Am Freitag\, 23. Mai\, laden die BVV-Fraktionen ab 16:00 Uhr zu Sprechstunden ein – eine tolle Gelegenheit\, direkt mit der Bezirkspolitik ins Gespräch zu kommen! \nKommt vorbei\, erlebt Gemeinschaft und entdeckt\, wie vielfältig soziales Engagement in Lichtenberg ist! 💬💙\n#Lichtenberg #Sozialtage2025 #GemeinschaftStärken #LindenCenter #BerlinEvents
URL:https://kiezkalender-lichtenberg.de/veranstaltung/30-jahre-lichtenberger-sozialtage-gemeinsam-fuer-ein-starkes-miteinander/
CATEGORIES:Nachbarschaft
ATTACH;FMTTYPE=image/png:https://kiezkalender-lichtenberg.de/wp-content/uploads/2025/05/Sozialtage-2025.png
END:VEVENT
BEGIN:VEVENT
DTSTART;TZID=Europe/Berlin:20250523T100000
DTEND;TZID=Europe/Berlin:20250523T200000
DTSTAMP:20260424T065409
CREATED:20250520T073929Z
LAST-MODIFIED:20250520T073929Z
UID:10035996-1747994400-1748030400@kiezkalender-lichtenberg.de
SUMMARY:30 Jahre Lichtenberger Sozialtage – Gemeinsam für ein starkes Miteinander!
DESCRIPTION:Am 22. und 23. Mai 2025 verwandelt sich das Linden-Center Berlin (Prerower Platz 1) in Hohenschönhausen jeweils von 10:00 bis 20:00 Uhr in einen lebendigen Treffpunkt für Austausch\, Inspiration und gelebte Solidarität. \nUnter dem Motto „Lichtenberg leben\, Gemeinschaft stärken“ erwartet euch ein buntes und kostenfreies Programm für alle Altersgruppen – mit Infoständen\, spannenden Projekten\, Mitmachaktionen und einem vielfältigen Bühnenprogramm. \n🎶 Freut euch auf Live-Musik von Marianne Neumann\, dem Hanoi Ensemble\, dem Chor „Friedrichsfelder Spätsommer“\, Theater- und Tanzaufführungen sowie das beliebte Tränkler’s Puppentheater. \n📌 Die feierliche Eröffnung findet am Donnerstag\, 22. Mai\, um 10:00 Uhr statt.\n💬 Am Freitag\, 23. Mai\, laden die BVV-Fraktionen ab 16:00 Uhr zu Sprechstunden ein – eine tolle Gelegenheit\, direkt mit der Bezirkspolitik ins Gespräch zu kommen! \nKommt vorbei\, erlebt Gemeinschaft und entdeckt\, wie vielfältig soziales Engagement in Lichtenberg ist! 💬💙\n#Lichtenberg #Sozialtage2025 #GemeinschaftStärken #LindenCenter #BerlinEvents
URL:https://kiezkalender-lichtenberg.de/veranstaltung/30-jahre-lichtenberger-sozialtage-gemeinsam-fuer-ein-starkes-miteinander-2/
CATEGORIES:Nachbarschaft
ATTACH;FMTTYPE=image/png:https://kiezkalender-lichtenberg.de/wp-content/uploads/2025/05/Sozialtage-2025-1.png
END:VEVENT
BEGIN:VEVENT
DTSTART;TZID=Europe/Berlin:20250523T150000
DTEND;TZID=Europe/Berlin:20250523T180000
DTSTAMP:20260424T065409
CREATED:20250428T095601Z
LAST-MODIFIED:20250428T095601Z
UID:10035890-1748012400-1748023200@kiezkalender-lichtenberg.de
SUMMARY:Fest der Nachbarschaft
DESCRIPTION:Wir feiern Nachbarschaft im Welsekiez! Mit Hüpfburg\, Kinderschminken\, Live Musik\, Kreativ- und Flohmarkt\, Eis und Grill. \nKommt vorbei und feiert mit – auf der Wiese vor dem Ärztehaus Falkenberger Chaussee 136\, 13057 Berlin
URL:https://kiezkalender-lichtenberg.de/veranstaltung/fest-der-nachbarschaft/
LOCATION:Stadtteilzentrum Welsekiosk\, Falkenberger Chaussee 136\, Berlin\, 13057\, Germany
CATEGORIES:Feste
ATTACH;FMTTYPE=image/jpeg:https://kiezkalender-lichtenberg.de/wp-content/uploads/2025/04/Screenshot-2025-04-28-114422.jpeg
ORGANIZER;CN="Welsekiosk":MAILTO:stz-welsekiosk@vav-hhausen.de
END:VEVENT
END:VCALENDAR