BEGIN:VCALENDAR
VERSION:2.0
PRODID:-//Kiezkalender Lichtenberg - ECPv6.15.12.2//NONSGML v1.0//EN
CALSCALE:GREGORIAN
METHOD:PUBLISH
X-ORIGINAL-URL:https://kiezkalender-lichtenberg.de
X-WR-CALDESC:Veranstaltungen für Kiezkalender Lichtenberg
REFRESH-INTERVAL;VALUE=DURATION:PT1H
X-Robots-Tag:noindex
X-PUBLISHED-TTL:PT1H
BEGIN:VTIMEZONE
TZID:Europe/Berlin
BEGIN:DAYLIGHT
TZOFFSETFROM:+0100
TZOFFSETTO:+0200
TZNAME:CEST
DTSTART:20250330T010000
END:DAYLIGHT
BEGIN:STANDARD
TZOFFSETFROM:+0200
TZOFFSETTO:+0100
TZNAME:CET
DTSTART:20251026T010000
END:STANDARD
BEGIN:DAYLIGHT
TZOFFSETFROM:+0100
TZOFFSETTO:+0200
TZNAME:CEST
DTSTART:20260329T010000
END:DAYLIGHT
BEGIN:STANDARD
TZOFFSETFROM:+0200
TZOFFSETTO:+0100
TZNAME:CET
DTSTART:20261025T010000
END:STANDARD
BEGIN:DAYLIGHT
TZOFFSETFROM:+0100
TZOFFSETTO:+0200
TZNAME:CEST
DTSTART:20270328T010000
END:DAYLIGHT
BEGIN:STANDARD
TZOFFSETFROM:+0200
TZOFFSETTO:+0100
TZNAME:CET
DTSTART:20271031T010000
END:STANDARD
END:VTIMEZONE
BEGIN:VEVENT
DTSTART;TZID=Europe/Berlin:20260413T130000
DTEND;TZID=Europe/Berlin:20260413T150000
DTSTAMP:20260422T234949
CREATED:20250627T085703Z
LAST-MODIFIED:20250627T085703Z
UID:10038387-1776085200-1776092400@kiezkalender-lichtenberg.de
SUMMARY:Unterstützung für Familien durch Stadtteilmütter (russisch\, romänisch\, serbo-kroatisch)
DESCRIPTION:Montags | 13-15 Uhr \n\noffene Sprechstunde\nsprachgestützte Begleitungen\nHausbesuche und Informationen\nzu Themen wie Kita\, Schule\,\nGesundheit\, Sprachentwicklung\,\nErziehungsfragen …\n\n  \nБесплатная помощь семьям \n\nЧасы открытых консультаций\nСопровождение с поддержкой языка\nпосещение на дому\, информация по таким темам\, как\nдетский сад\, школа\, бюро по делам молодежи\,\nразвитие речи\, здоровье\, вопросы образования и т. д.
URL:https://kiezkalender-lichtenberg.de/veranstaltung/unterstuetzung-fuer-familien-durch-stadtteilmuetter-russisch-romaenisch-serbo-kroatisch/2026-04-13/
LOCATION:Stadtteilzentrum Welsekiosk\, Falkenberger Chaussee 136\, Berlin\, 13057\, Germany
CATEGORIES:Beratung,Familie,Sprache
ATTACH;FMTTYPE=image/jpeg:https://kiezkalender-lichtenberg.de/wp-content/uploads/2025/06/Screenshot-2025-06-25-100329.jpg
ORGANIZER;CN="Welsekiosk":MAILTO:stz-welsekiosk@vav-hhausen.de
END:VEVENT
BEGIN:VEVENT
DTSTART;TZID=Europe/Berlin:20260414T140000
DTEND;TZID=Europe/Berlin:20260414T170000
DTSTAMP:20260422T234949
CREATED:20250604T103058Z
LAST-MODIFIED:20250604T103058Z
UID:10036343-1776175200-1776186000@kiezkalender-lichtenberg.de
SUMMARY:Hausaufgabenhilfe für Grundschulkinder
DESCRIPTION:Wir unterstützen euch bei euren Hausaufgaben\, lernen mit euch für Tests/Klausuren oder üben gemeinsam lesen. Keine Anmeldung erforderlich.
URL:https://kiezkalender-lichtenberg.de/veranstaltung/hausaufgabenhilfe-fuer-grundschulkinder/2026-04-14/
LOCATION:Stadtteilzentrum Welsekiosk\, Falkenberger Chaussee 136\, Berlin\, 13057\, Germany
ATTACH;FMTTYPE=image/jpeg:https://kiezkalender-lichtenberg.de/wp-content/uploads/2025/06/ha-hilfe.jpg
ORGANIZER;CN="Welsekiosk":MAILTO:stz-welsekiosk@vav-hhausen.de
END:VEVENT
BEGIN:VEVENT
DTSTART;TZID=Europe/Berlin:20260414T160000
DTEND;TZID=Europe/Berlin:20260414T180000
DTSTAMP:20260422T234949
CREATED:20260310T094856Z
LAST-MODIFIED:20260310T094856Z
UID:10046586-1776182400-1776189600@kiezkalender-lichtenberg.de
SUMMARY:AlphaZeit – mit Spielen lernen
DESCRIPTION:Wir spielen\, basteln und lernen lesen\, schreiben und Deutsch!\nEs gibt Tee und Kaffee! Keine Prüfung!\nAlle Menschen sind willkommen! \nbarrierearm | kostenlos
URL:https://kiezkalender-lichtenberg.de/veranstaltung/alphazeit-mit-spielen-lernen/2026-04-14/
LOCATION:Stadtteilzentrum Welsekiosk\, Falkenberger Chaussee 136\, Berlin\, 13057\, Germany
CATEGORIES:Beratung,Sprache
ATTACH;FMTTYPE=image/jpeg:https://kiezkalender-lichtenberg.de/wp-content/uploads/2026/03/Screenshot-2026-03-10-104443.jpg
ORGANIZER;CN="Welsekiosk":MAILTO:stz-welsekiosk@vav-hhausen.de
END:VEVENT
BEGIN:VEVENT
DTSTART;TZID=Europe/Berlin:20260415T100000
DTEND;TZID=Europe/Berlin:20260415T130000
DTSTAMP:20260422T234949
CREATED:20250604T103436Z
LAST-MODIFIED:20250604T103436Z
UID:10036605-1776247200-1776258000@kiezkalender-lichtenberg.de
SUMMARY:Kiez-Café to go
DESCRIPTION:Lust auf eine kleine Auszeit\, nette Gespräche und frischen Kaffee im Freien?\nDer mobile Kaffeeklatsch bringt Nachbar:innen zusammen – komm vorbei und genieß eine schöne Zeit im Welsekiez! \nTreffpunkt wird auf Aushängen und bei Instagram bekannt gegeben.
URL:https://kiezkalender-lichtenberg.de/veranstaltung/kiez-cafe-to-go/2026-04-15/
LOCATION:Stadtteilzentrum Welsekiosk\, Falkenberger Chaussee 136\, Berlin\, 13057\, Germany
CATEGORIES:Nachbarschaft
ATTACH;FMTTYPE=image/jpeg:https://kiezkalender-lichtenberg.de/wp-content/uploads/2025/06/kiezcafe.jpg
ORGANIZER;CN="Welsekiosk":MAILTO:stz-welsekiosk@vav-hhausen.de
END:VEVENT
BEGIN:VEVENT
DTSTART;TZID=Europe/Berlin:20260415T130000
DTEND;TZID=Europe/Berlin:20260415T153000
DTSTAMP:20260422T234949
CREATED:20250915T103940Z
LAST-MODIFIED:20250915T103940Z
UID:10039819-1776258000-1776267000@kiezkalender-lichtenberg.de
SUMMARY:Offener Nachbarschaftstreff für Menschen mit und ohne Behinderung
DESCRIPTION:Was erwartet dich?\n– Offene Gespräche und Austausch zu Themen\, die uns bewegen\n– Vernetzung mit anderen Menschen Unterstützung und gegenseitige Hilfe in einer freundlichen Atmosphäre\n– Gemeinsame Aktivitäten und kreative Angebote (je nach Interesse) \nAlle sind willkommen – egal\, ob du Unterstützung suchst oder einfach nur neue Leute kennenlernen möchtest!
URL:https://kiezkalender-lichtenberg.de/veranstaltung/offener-nachbarschaftstreff-fuer-menschen-mit-und-ohne-behinderung/2026-04-15/
LOCATION:Stadtteilzentrum Welsekiosk\, Falkenberger Chaussee 136\, Berlin\, 13057\, Germany
CATEGORIES:Beratung,Essen,Gesundheit,Nachbarschaft
ATTACH;FMTTYPE=image/jpeg:https://kiezkalender-lichtenberg.de/wp-content/uploads/2025/09/Screenshot-2025-09-15-112358.jpg
ORGANIZER;CN="Welsekiosk":MAILTO:stz-welsekiosk@vav-hhausen.de
END:VEVENT
BEGIN:VEVENT
DTSTART;TZID=Europe/Berlin:20260416T100000
DTEND;TZID=Europe/Berlin:20260416T120000
DTSTAMP:20260422T234949
CREATED:20250604T105836Z
LAST-MODIFIED:20250604T105836Z
UID:10037099-1776333600-1776340800@kiezkalender-lichtenberg.de
SUMMARY:Büro 55+ - gut älter werden in Lichtenberg
DESCRIPTION:Sprechzeit im Stadtteilzentrum “Welsekiosk” \nBüro 55+ – gut älter werden in Lichtenberg \nWir beraten und unterstützen Sie bei Fragen rund um Gesundheit\, Pflege/Versorgung\, Freizeit und Ehrenamt. \nWann: Jeden 3. Donnerstag im Monat\, 10.00 – 12.00 Uhr\nWo: Falkenberger Chaussee 136 in 13057 Berlin\nmit vorheriger telefonischer Anmeldung: buero55plus@lbd.berlin oder 030 – 98 60 19 99 55
URL:https://kiezkalender-lichtenberg.de/veranstaltung/buero-55-gut-aelter-werden-in-lichtenberg/2026-04-16/
LOCATION:Stadtteilzentrum Welsekiosk\, Falkenberger Chaussee 136\, Berlin\, 13057\, Germany
CATEGORIES:Beratung,Familie,Gesundheit
ATTACH;FMTTYPE=image/jpeg:https://kiezkalender-lichtenberg.de/wp-content/uploads/2025/06/55.jpg
ORGANIZER;CN="Welsekiosk":MAILTO:stz-welsekiosk@vav-hhausen.de
END:VEVENT
BEGIN:VEVENT
DTSTART;TZID=Europe/Berlin:20260416T143000
DTEND;TZID=Europe/Berlin:20260416T160000
DTSTAMP:20260422T234949
CREATED:20251006T111339Z
LAST-MODIFIED:20251006T111339Z
UID:10041016-1776349800-1776355200@kiezkalender-lichtenberg.de
SUMMARY:Bewegung mit Yoga-Elementen für Menschen mit und ohne Demenz
DESCRIPTION:Bewegung mit Yoga-Elementen für Menschen mit und ohne Demenz\njeden 3. Donnerstag im Monat\, 14.30 – 16. 00 Uhr \nMit Tanja\nYogalehrerin – Entspannungstherapeutin – Fachkraft für\nMassage und Wellness \nYoga ist eine Kombination aus Körper-\, Atem- und Meditationsübungen. Gemeinsam lernen Sie mit Tanja:\nGelenke zu mobilisieren\, sich zu Dehnen und damit Flexibilität zu erhalten\, Entspannungstechniken\, Atemübungen und vieles mehr. \nInformationen und Anmeldung:\n0152 22 55 16 63\nmesserschmidt@rbo-inmitten.berlin \n💰kostenfrei
URL:https://kiezkalender-lichtenberg.de/veranstaltung/bewegung-mit-yoga-elementen-fuer-menschen-mit-und-ohne-demenz/2026-04-16/
LOCATION:Stadtteilzentrum Welsekiosk\, Falkenberger Chaussee 136\, Berlin\, 13057\, Germany
CATEGORIES:Gesundheit,Sport
ATTACH;FMTTYPE=image/jpeg:https://kiezkalender-lichtenberg.de/wp-content/uploads/2025/10/yoga.jpg
ORGANIZER;CN="Welsekiosk":MAILTO:stz-welsekiosk@vav-hhausen.de
END:VEVENT
BEGIN:VEVENT
DTSTART;TZID=Europe/Berlin:20260417T080000
DTEND;TZID=Europe/Berlin:20260417T140000
DTSTAMP:20260422T234949
CREATED:20250627T084656Z
LAST-MODIFIED:20250627T084656Z
UID:10038127-1776412800-1776434400@kiezkalender-lichtenberg.de
SUMMARY:Soziales Schreibbüro für Menschen in Lichtenberg\, die Hilfe brauchen und Leistungen erhalten
DESCRIPTION:Jeden Freitag | 8:00 – 14:00 Uhr \nWir helfen Ihnen u.a. kostenlos dabei: \n\nFormulare und Anträge auszufüllen\nTexte zu verstehen\nBeratungsstellen zu finden\nBriefe zu schreiben\nBewerbungen zu erstellen\nSie zu Behörden zu begleiten\n\nKontakt:\nJörn Lautenschläger\, 030 – 610 811 866\, lich@agens-berlin.de
URL:https://kiezkalender-lichtenberg.de/veranstaltung/soziales-schreibbuero-fuer-menschen-in-lichtenberg-die-hilfe-brauchen-und-leistungen-erhalten/2026-04-17/
LOCATION:Stadtteilzentrum Welsekiosk\, Falkenberger Chaussee 136\, Berlin\, 13057\, Germany
CATEGORIES:Beratung,Sprache
ATTACH;FMTTYPE=image/jpeg:https://kiezkalender-lichtenberg.de/wp-content/uploads/2025/06/Screenshot-2025-06-26-101308.jpg
ORGANIZER;CN="Welsekiosk":MAILTO:stz-welsekiosk@vav-hhausen.de
END:VEVENT
END:VCALENDAR