BEGIN:VCALENDAR
VERSION:2.0
PRODID:-//Kiezkalender Lichtenberg - ECPv6.15.12.2//NONSGML v1.0//EN
CALSCALE:GREGORIAN
METHOD:PUBLISH
X-WR-CALNAME:Kiezkalender Lichtenberg
X-ORIGINAL-URL:https://kiezkalender-lichtenberg.de
X-WR-CALDESC:Veranstaltungen für Kiezkalender Lichtenberg
REFRESH-INTERVAL;VALUE=DURATION:PT1H
X-Robots-Tag:noindex
X-PUBLISHED-TTL:PT1H
BEGIN:VTIMEZONE
TZID:Europe/Berlin
BEGIN:DAYLIGHT
TZOFFSETFROM:+0100
TZOFFSETTO:+0200
TZNAME:CEST
DTSTART:20230326T010000
END:DAYLIGHT
BEGIN:STANDARD
TZOFFSETFROM:+0200
TZOFFSETTO:+0100
TZNAME:CET
DTSTART:20231029T010000
END:STANDARD
BEGIN:DAYLIGHT
TZOFFSETFROM:+0100
TZOFFSETTO:+0200
TZNAME:CEST
DTSTART:20240331T010000
END:DAYLIGHT
BEGIN:STANDARD
TZOFFSETFROM:+0200
TZOFFSETTO:+0100
TZNAME:CET
DTSTART:20241027T010000
END:STANDARD
BEGIN:DAYLIGHT
TZOFFSETFROM:+0100
TZOFFSETTO:+0200
TZNAME:CEST
DTSTART:20250330T010000
END:DAYLIGHT
BEGIN:STANDARD
TZOFFSETFROM:+0200
TZOFFSETTO:+0100
TZNAME:CET
DTSTART:20251026T010000
END:STANDARD
END:VTIMEZONE
BEGIN:VEVENT
DTSTART;TZID=Europe/Berlin:20240921T190000
DTEND;TZID=Europe/Berlin:20240921T210000
DTSTAMP:20260424T011228
CREATED:20240906T100255Z
LAST-MODIFIED:20240906T100255Z
UID:10032588-1726945200-1726952400@kiezkalender-lichtenberg.de
SUMMARY:QUEER GELESEN - Eine Bühne\, zwei Formate
DESCRIPTION:Offene Lesebühne\nAn diesem Abend haben alle Menschen die Möglichkeit ihre eigenen Texte einem Publikum vorzustellen. \nDu hast weitere Fragen oder würdest gerne etwas bei der offenen Lesebühne vortragen?\nDann melde dich gerne via Email!\ninfo@queergelesen.berlin \nUnterstützt wird diese Veranstaltung durch die Kiezfonds Alt-Lichtenberg
URL:https://kiezkalender-lichtenberg.de/veranstaltung/queer-gelesen-eine-buehne-zwei-formate/
LOCATION:Maggie\, Frankfurter Allee 205\, Berlin\, Berlin\, 10365\, Germany
CATEGORIES:Kunst
END:VEVENT
END:VCALENDAR