BEGIN:VCALENDAR
VERSION:2.0
PRODID:-//Kiezkalender Lichtenberg - ECPv6.15.12.2//NONSGML v1.0//EN
CALSCALE:GREGORIAN
METHOD:PUBLISH
X-WR-CALNAME:Kiezkalender Lichtenberg
X-ORIGINAL-URL:https://kiezkalender-lichtenberg.de
X-WR-CALDESC:Veranstaltungen für Kiezkalender Lichtenberg
REFRESH-INTERVAL;VALUE=DURATION:PT1H
X-Robots-Tag:noindex
X-PUBLISHED-TTL:PT1H
BEGIN:VTIMEZONE
TZID:Europe/Berlin
BEGIN:DAYLIGHT
TZOFFSETFROM:+0100
TZOFFSETTO:+0200
TZNAME:CEST
DTSTART:20250330T010000
END:DAYLIGHT
BEGIN:STANDARD
TZOFFSETFROM:+0200
TZOFFSETTO:+0100
TZNAME:CET
DTSTART:20251026T010000
END:STANDARD
BEGIN:DAYLIGHT
TZOFFSETFROM:+0100
TZOFFSETTO:+0200
TZNAME:CEST
DTSTART:20260329T010000
END:DAYLIGHT
BEGIN:STANDARD
TZOFFSETFROM:+0200
TZOFFSETTO:+0100
TZNAME:CET
DTSTART:20261025T010000
END:STANDARD
BEGIN:DAYLIGHT
TZOFFSETFROM:+0100
TZOFFSETTO:+0200
TZNAME:CEST
DTSTART:20270328T010000
END:DAYLIGHT
BEGIN:STANDARD
TZOFFSETFROM:+0200
TZOFFSETTO:+0100
TZNAME:CET
DTSTART:20271031T010000
END:STANDARD
BEGIN:DAYLIGHT
TZOFFSETFROM:+0100
TZOFFSETTO:+0200
TZNAME:CEST
DTSTART:20280326T010000
END:DAYLIGHT
BEGIN:STANDARD
TZOFFSETFROM:+0200
TZOFFSETTO:+0100
TZNAME:CET
DTSTART:20281029T010000
END:STANDARD
END:VTIMEZONE
BEGIN:VEVENT
DTSTART;TZID=Europe/Berlin:20260313T090000
DTEND;TZID=Europe/Berlin:20261223T130000
DTSTAMP:20260423T014312
CREATED:20260309T121448Z
LAST-MODIFIED:20260309T121448Z
UID:10046284-1773392400-1798030800@kiezkalender-lichtenberg.de
SUMMARY:Mobiles Familienbüro - Beratung für Eltern und Kinder
DESCRIPTION:Das Familienbüro Lichtenberg ist eine Kooperation zwischen dem Bezirksamt Lichtenberg und dem freien Träger der Jugendhilfe pad gGmbH. \nWir verstehen uns als zentrale Anlaufstelle für alle werdenden Eltern\, Familien und deren Angehörige im Bezirk Lichtenberg und als Eingangsbereich zum Jugendamt. Im Familienbüro informieren und beraten wir zu Themen und Fragen rund um die Familie und zu den Leistungen und Angeboten des Jugendamtes. Wir vermitteln Kontakte und informieren zu familienbezogenen Angeboten und Hilfen im Bezirk. \n*Unser Beratungsangebot ist kostenfrei\, vertraulich und auf Wunsch anonym.* \nWeitere Informationen hier.
URL:https://kiezkalender-lichtenberg.de/veranstaltung/mobiles-familienbuero-beratung-fuer-eltern-und-kinder/2026-03-13/
LOCATION:Bodo-Uhse-Bibliothek\, Erich-Kurz-Straße 9\, Berlin\, 10319
CATEGORIES:Beratung,Familie
END:VEVENT
BEGIN:VEVENT
DTSTART;TZID=Europe/Berlin:20260320T090000
DTEND;TZID=Europe/Berlin:20261230T130000
DTSTAMP:20260423T014312
CREATED:20260309T121448Z
LAST-MODIFIED:20260309T121448Z
UID:10046285-1773997200-1798635600@kiezkalender-lichtenberg.de
SUMMARY:Mobiles Familienbüro - Beratung für Eltern und Kinder
DESCRIPTION:Das Familienbüro Lichtenberg ist eine Kooperation zwischen dem Bezirksamt Lichtenberg und dem freien Träger der Jugendhilfe pad gGmbH. \nWir verstehen uns als zentrale Anlaufstelle für alle werdenden Eltern\, Familien und deren Angehörige im Bezirk Lichtenberg und als Eingangsbereich zum Jugendamt. Im Familienbüro informieren und beraten wir zu Themen und Fragen rund um die Familie und zu den Leistungen und Angeboten des Jugendamtes. Wir vermitteln Kontakte und informieren zu familienbezogenen Angeboten und Hilfen im Bezirk. \n*Unser Beratungsangebot ist kostenfrei\, vertraulich und auf Wunsch anonym.* \nWeitere Informationen hier.
URL:https://kiezkalender-lichtenberg.de/veranstaltung/mobiles-familienbuero-beratung-fuer-eltern-und-kinder/2026-03-20/
LOCATION:Bodo-Uhse-Bibliothek\, Erich-Kurz-Straße 9\, Berlin\, 10319
CATEGORIES:Beratung,Familie
END:VEVENT
BEGIN:VEVENT
DTSTART;TZID=Europe/Berlin:20260327T090000
DTEND;TZID=Europe/Berlin:20270106T130000
DTSTAMP:20260423T014312
CREATED:20260309T121448Z
LAST-MODIFIED:20260309T121448Z
UID:10046286-1774602000-1799240400@kiezkalender-lichtenberg.de
SUMMARY:Mobiles Familienbüro - Beratung für Eltern und Kinder
DESCRIPTION:Das Familienbüro Lichtenberg ist eine Kooperation zwischen dem Bezirksamt Lichtenberg und dem freien Träger der Jugendhilfe pad gGmbH. \nWir verstehen uns als zentrale Anlaufstelle für alle werdenden Eltern\, Familien und deren Angehörige im Bezirk Lichtenberg und als Eingangsbereich zum Jugendamt. Im Familienbüro informieren und beraten wir zu Themen und Fragen rund um die Familie und zu den Leistungen und Angeboten des Jugendamtes. Wir vermitteln Kontakte und informieren zu familienbezogenen Angeboten und Hilfen im Bezirk. \n*Unser Beratungsangebot ist kostenfrei\, vertraulich und auf Wunsch anonym.* \nWeitere Informationen hier.
URL:https://kiezkalender-lichtenberg.de/veranstaltung/mobiles-familienbuero-beratung-fuer-eltern-und-kinder/2026-03-27/
LOCATION:Bodo-Uhse-Bibliothek\, Erich-Kurz-Straße 9\, Berlin\, 10319
CATEGORIES:Beratung,Familie
END:VEVENT
BEGIN:VEVENT
DTSTART;TZID=Europe/Berlin:20260410T090000
DTEND;TZID=Europe/Berlin:20270120T120000
DTSTAMP:20260423T014312
CREATED:20260309T121448Z
LAST-MODIFIED:20260309T121448Z
UID:10046287-1775811600-1800446400@kiezkalender-lichtenberg.de
SUMMARY:Mobiles Familienbüro - Beratung für Eltern und Kinder
DESCRIPTION:Das Familienbüro Lichtenberg ist eine Kooperation zwischen dem Bezirksamt Lichtenberg und dem freien Träger der Jugendhilfe pad gGmbH. \nWir verstehen uns als zentrale Anlaufstelle für alle werdenden Eltern\, Familien und deren Angehörige im Bezirk Lichtenberg und als Eingangsbereich zum Jugendamt. Im Familienbüro informieren und beraten wir zu Themen und Fragen rund um die Familie und zu den Leistungen und Angeboten des Jugendamtes. Wir vermitteln Kontakte und informieren zu familienbezogenen Angeboten und Hilfen im Bezirk. \n*Unser Beratungsangebot ist kostenfrei\, vertraulich und auf Wunsch anonym.* \nWeitere Informationen hier.
URL:https://kiezkalender-lichtenberg.de/veranstaltung/mobiles-familienbuero-beratung-fuer-eltern-und-kinder/2026-04-10/
LOCATION:Bodo-Uhse-Bibliothek\, Erich-Kurz-Straße 9\, Berlin\, 10319
CATEGORIES:Beratung,Familie
END:VEVENT
BEGIN:VEVENT
DTSTART;TZID=Europe/Berlin:20260417T090000
DTEND;TZID=Europe/Berlin:20270127T120000
DTSTAMP:20260423T014312
CREATED:20260309T121448Z
LAST-MODIFIED:20260309T121448Z
UID:10046288-1776416400-1801051200@kiezkalender-lichtenberg.de
SUMMARY:Mobiles Familienbüro - Beratung für Eltern und Kinder
DESCRIPTION:Das Familienbüro Lichtenberg ist eine Kooperation zwischen dem Bezirksamt Lichtenberg und dem freien Träger der Jugendhilfe pad gGmbH. \nWir verstehen uns als zentrale Anlaufstelle für alle werdenden Eltern\, Familien und deren Angehörige im Bezirk Lichtenberg und als Eingangsbereich zum Jugendamt. Im Familienbüro informieren und beraten wir zu Themen und Fragen rund um die Familie und zu den Leistungen und Angeboten des Jugendamtes. Wir vermitteln Kontakte und informieren zu familienbezogenen Angeboten und Hilfen im Bezirk. \n*Unser Beratungsangebot ist kostenfrei\, vertraulich und auf Wunsch anonym.* \nWeitere Informationen hier.
URL:https://kiezkalender-lichtenberg.de/veranstaltung/mobiles-familienbuero-beratung-fuer-eltern-und-kinder/2026-04-17/
LOCATION:Bodo-Uhse-Bibliothek\, Erich-Kurz-Straße 9\, Berlin\, 10319
CATEGORIES:Beratung,Familie
END:VEVENT
BEGIN:VEVENT
DTSTART;TZID=Europe/Berlin:20260423T100000
DTEND;TZID=Europe/Berlin:20260423T120000
DTSTAMP:20260423T014312
CREATED:20231012T142151Z
LAST-MODIFIED:20231012T142151Z
UID:10011969-1776938400-1776945600@kiezkalender-lichtenberg.de
SUMMARY:Donnerstagsmalerinnen
DESCRIPTION:Teilen Sie Ihre Leidenschaft unter Gleichgesinnten und lassen sich inspirieren. \n  \nSchauen Sie vorbei! \nIn der Kommunalen Begegnungsstätte „Rusche 43“ können zudem Getränke und ein kleiner Imbiss erworben werden. \n  \nKontakt und Fragen\n☎️ 030/ 55 923 81\n📧 sbs.rusche43@gmx.de\n📍 Ruschestraße 43\, 10367 Berlin
URL:https://kiezkalender-lichtenberg.de/veranstaltung/donnerstagsmalerinnen/2026-04-23/
LOCATION:Kommunale Begegnungsstätte „Rusche 43“\, Ruschestraße 43\, Berlin\, 10367\, Germany
CATEGORIES:Kunst
ATTACH;FMTTYPE=image/jpeg:https://kiezkalender-lichtenberg.de/wp-content/uploads/2023/10/Regelm.-Angebote-Do.-Maler-2023-scaled.jpg
ORGANIZER;CN="Kommunale Begegnungsst%C3%A4tte Rusche 43":MAILTO:sbs.rusche43@gmx.de
END:VEVENT
BEGIN:VEVENT
DTSTART;TZID=Europe/Berlin:20260423T100000
DTEND;TZID=Europe/Berlin:20260423T120000
DTSTAMP:20260423T014312
CREATED:20260410T114541Z
LAST-MODIFIED:20260410T121140Z
UID:10048810-1776938400-1776945600@kiezkalender-lichtenberg.de
SUMMARY:Europäische Krabbelgruppe im Familienzentrum aufatmen
DESCRIPTION:Die Krabbelgruppe ist für Kinder im Alter ab ca. 4 Monaten bis 3 Jahren geeignet.\nDu bist auch herzlich willkommen\, wenn dein Kind noch nicht krabbelt. \nDurch Spielen\, Bewegen\, Krabbeln und den Kontakt zu anderen Kindern wird die gesunde Entwicklung deines Kindes gefördert. \nDiese Krabbelgruppe hat den besonderen Schwerpunkt auf europäische Sprachen und Kultur. In unserem etwa halbstündigen Programm singen wir zusammen Lieder auf verschiedenen Sprachen und tauschen uns über Kultur und Traditionen aus verschiedenen Ländern und Hintergründen aus. Durch das gemeinsame Singen kann dein Kind sein Gefühl für Sprache und Rhythmus verbessern und durch gemeinsames Spielen und Lachen mit dir seine Beziehung zu dir vertiefen.\nDie europäische Krabbelgruppe hat das Ziel\, den interkulturellen Austausch und Lernen zu fördern. Dabei stehen die Werte Toleranz\, Solidarität\, Vielfalt und Zusammenhalt im Mittelpunkt. \nDie Krabbelgruppe ist für alle Familien geeignet\, die Freude am interkulturellen Austausch und Sprachen haben. \nNach dem halbstündigen Programm besteht die Möglichkeit\, sich mit anderen Eltern bei Tee und Kaffee auszutauschen.
URL:https://kiezkalender-lichtenberg.de/veranstaltung/europaeische-krabbelgruppe-im-familienzentrum-aufatmen/2026-04-23/
LOCATION:aufatmen\, Schottstraße 2\, Berlin\, Berlin\, 10365
ATTACH;FMTTYPE=image/png:https://kiezkalender-lichtenberg.de/wp-content/uploads/2026/04/EU-Krabbelgruppe.png
ORGANIZER;CN="aufatmen":MAILTO:info@aufatmen-lichtenberg.de
END:VEVENT
BEGIN:VEVENT
DTSTART;TZID=Europe/Berlin:20260423T103000
DTEND;TZID=Europe/Berlin:20260423T120000
DTSTAMP:20260423T014312
CREATED:20260105T105237Z
LAST-MODIFIED:20260105T105237Z
UID:10043060-1776940200-1776945600@kiezkalender-lichtenberg.de
SUMMARY:Kiezbrunch
DESCRIPTION:Kiezbrunch: Neujahrsauftakt \nWir möchten das Jahr mit unserem neuen Angebot mit Euch begrüßen. Wir werden ein paar Leckereien vor Ort haben. Ihr seid herzlich eingeladen euren Lieblingsaufschnitt\, -obst\, -saft oder ähnliches mitzubringen. Für die bessere Planung meldet euch gern an! Wir freuen uns auf Euch!
URL:https://kiezkalender-lichtenberg.de/veranstaltung/kiezbrunch/2026-04-23/
LOCATION:AWO-Margaretentreff\, Zacherstr. 52\, Berlin\, 10317
CATEGORIES:Essen
ATTACH;FMTTYPE=image/png:https://kiezkalender-lichtenberg.de/wp-content/uploads/2026/01/Foto_Plakat_Kiezbrunch.png
ORGANIZER;CN="Begleitprojekt AGNES":MAILTO:begleitprojekt-agnes@awo-suedost.de
END:VEVENT
BEGIN:VEVENT
DTSTART;TZID=Europe/Berlin:20260423T130000
DTEND;TZID=Europe/Berlin:20260423T150000
DTSTAMP:20260423T014312
CREATED:20230830T090011Z
LAST-MODIFIED:20250312T145205Z
UID:10035185-1776949200-1776956400@kiezkalender-lichtenberg.de
SUMMARY:Sprachcafé für deutsche Sprache
DESCRIPTION:Ihr möchtet in entspannter Atmosphäre Deutsch üben oder eure Sprachkenntnisse verbessern? Dann kommt zu unserem Sprachcafé. Hier lernt ihr neue Vokabeln und die deutsche Kultur besser kennen. Wir freuen uns auf euch! \nSprachliche Begleitung in Deutsch\, Französisch\, Englisch\, Arabisch und Kurdisch. \nOhne Anmeldung. Einfach vorbeikommen! Das Angebot ist kostenfrei.
URL:https://kiezkalender-lichtenberg.de/veranstaltung/sprachcafe-fuer-deutsche-sprache/2026-04-23/
LOCATION:NachbarschaftsTreff an der Seefelder\, Seefelder Str. 50\, Berlin\, 13053\, Germany
CATEGORIES:Beratung
ATTACH;FMTTYPE=image/jpeg:https://kiezkalender-lichtenberg.de/wp-content/uploads/2023/08/Sprachcafe-fuer-deutsche-Sprache.jpg
ORGANIZER;CN="NachbarschaftsTreff an der Seefelder":MAILTO:info@nachbarschaftstreff-seefelder.de
END:VEVENT
BEGIN:VEVENT
DTSTART;TZID=Europe/Berlin:20260423T140000
DTEND;TZID=Europe/Berlin:20260423T173000
DTSTAMP:20260423T014312
CREATED:20260303T105440Z
LAST-MODIFIED:20260303T105440Z
UID:10045027-1776952800-1776965400@kiezkalender-lichtenberg.de
SUMMARY:Familiencafé
DESCRIPTION:Hier können Familien mit ihren Kindern den Nachmittag verbringen. \nKaffee\, Tee und frisch gebackener Kuchen ist auf Spendenbasis erhältlich.\nDie Kleinkindern (0-6 Jahre) können den Indoorspielplatz nutzen\, während Eltern sich austauschen und miteinander vernetzen! \nBei schönem Wetter kann man auch auf der Terrasse sitzen.
URL:https://kiezkalender-lichtenberg.de/veranstaltung/familiencafe-3/2026-04-23/
LOCATION:Christliches Sozialwerk Berlin eV.\, Landsberger Allee 225\, 13055 Berlin\, Landsberger Allee 225\, Berlin\, 13055
CATEGORIES:Essen,Familie,Nachbarschaft
ATTACH;FMTTYPE=image/png:https://kiezkalender-lichtenberg.de/wp-content/uploads/2026/03/CSW-Familiencafe.png
ORGANIZER;CN="Christliches Sozialwerk Berlin e.V.":MAILTO:Info@christliches-sozialwerk-berlin.de
END:VEVENT
BEGIN:VEVENT
DTSTART;TZID=Europe/Berlin:20260423T150000
DTEND;TZID=Europe/Berlin:20260423T170000
DTSTAMP:20260423T014312
CREATED:20251025T101333Z
LAST-MODIFIED:20251028T141738Z
UID:10041517-1776956400-1776963600@kiezkalender-lichtenberg.de
SUMMARY:Kinder-Winter-Café im Interkulturellen Garten
DESCRIPTION:Wann? Jeden Donnerstag 15.00 – 17.00 Uhr\nvon Oktober bis Mai.\nNicht an Feiertagen \nWo? Interkultureller Garten Lichtenberg\, Liebenwalderstraße 12\, 13055 Berlin \nDas Kinder-Winter-Café für Kinder ab 7 Jahren findet drinnen statt. \nWir spielen\, basteln oder kochen zusammen und haben jede Menge Spaß. \nKommt vorbei und bringt Eure Freund:innen und Geschwister mit! \nAlle sind willkommen! \nEine Anmeldung ist nicht notwendig. \nDas Kinder-Winter-Café ist kostenlos.
URL:https://kiezkalender-lichtenberg.de/veranstaltung/kinder-winter-cafe-im-interkulturellen-garten/2026-04-23/
LOCATION:Interkultureller Garten Lichtenberg\, Liebenwalderstraße 12\, Berlin\, 13055
ATTACH;FMTTYPE=image/jpeg:https://kiezkalender-lichtenberg.de/wp-content/uploads/2025/10/2025-Kinder-Winter-Cafe-IKG.jpg
END:VEVENT
BEGIN:VEVENT
DTSTART;TZID=Europe/Berlin:20260423T150000
DTEND;TZID=Europe/Berlin:20260423T180000
DTSTAMP:20260423T014312
CREATED:20251022T124948Z
LAST-MODIFIED:20260227T124733Z
UID:10043706-1776956400-1776967200@kiezkalender-lichtenberg.de
SUMMARY:Pasta Workshop
DESCRIPTION:Lasst uns rumnudeln!\nGemeinsam stellen wir aus wenigen Zutaten leckere Pasta in verschiedenen Varianten selbst her und kosten sie natürlich auch. \nBitte um Anmeldung. \nUnkostenbeitrag: 3 Euro \nIn Kooperation mit dem Frauenprojekt Lichtenberg
URL:https://kiezkalender-lichtenberg.de/veranstaltung/pasta-workshop-7/2026-04-23/
LOCATION:Stadtteilzentrum Welsekiosk\, Falkenberger Chaussee 136\, Berlin\, 13057\, Germany
CATEGORIES:Essen,Familie,Nachbarschaft,Workshops
ATTACH;FMTTYPE=image/jpeg:https://kiezkalender-lichtenberg.de/wp-content/uploads/2025/10/Events.jpg
ORGANIZER;CN="Welsekiosk":MAILTO:stz-welsekiosk@vav-hhausen.de
END:VEVENT
BEGIN:VEVENT
DTSTART;TZID=Europe/Berlin:20260423T153000
DTEND;TZID=Europe/Berlin:20260423T170000
DTSTAMP:20260423T014312
CREATED:20260410T120930Z
LAST-MODIFIED:20260410T120930Z
UID:10049331-1776958200-1776963600@kiezkalender-lichtenberg.de
SUMMARY:EU-Nachmittag im Familienzentrum aufatmen
DESCRIPTION:Einmal im Monat finden unsere Europanachmittage statt\, an denen ein europäisches Land im Vordergrund steht. An diesen Tagen gibt es passend zum Thema ein paar Spezialitäten aus dem Land\, sowie Spiele\, Geschichten und ein kreatives Angebot. \nKommt einfach vorbei. Eine Anmeldung ist nicht nötig. Kommt ihr selbst aus einem europäischen Land oder seid mit einem europäischen Land sehr verbunden? Dann sprecht uns gern an und wir können „euer“ Land an einem der Nachmittage vorstellen. \n  \nDas Land im Fokus am 23.04.: die Niederlande!
URL:https://kiezkalender-lichtenberg.de/veranstaltung/eu-nachmittag-im-familienzentrum-aufatmen/
LOCATION:aufatmen\, Schottstraße 2\, Berlin\, Berlin\, 10365
ATTACH;FMTTYPE=image/jpeg:https://kiezkalender-lichtenberg.de/wp-content/uploads/2026/04/EU-Nachmittage.jpg
ORGANIZER;CN="aufatmen":MAILTO:info@aufatmen-lichtenberg.de
END:VEVENT
BEGIN:VEVENT
DTSTART;TZID=Europe/Berlin:20260423T160000
DTEND;TZID=Europe/Berlin:20260423T170000
DTSTAMP:20260423T014312
CREATED:20260316T112055Z
LAST-MODIFIED:20260316T112055Z
UID:10046595-1776960000-1776963600@kiezkalender-lichtenberg.de
SUMMARY:Lesewelt-Vorlesestunde
DESCRIPTION:Lesewelt Berlin e.V. organisiert regelmäßig Vorlesestunden für Kinder zwischen vier und zwölf Jahren in vielen Berliner Bibliotheken. Die Vorlesestunden führen ehrenamtliche Vorleserinnen und Vorleser durch. In der Bodo-Uhse-Bibliothek findet sie alle zwei Wochen statt. Der Besuch der Vorlesestunden dauert eine Stunde und ist für die Kinder kostenlos. Eine Anmeldung ist nicht erforderlich.
URL:https://kiezkalender-lichtenberg.de/veranstaltung/lesewelt-vorlesestunde/2026-04-23/
LOCATION:Bodo-Uhse-Bibliothek\, Erich-Kurz-Straße 9\, Berlin\, 10319
CATEGORIES:Familie,Lesung
END:VEVENT
BEGIN:VEVENT
DTSTART;TZID=Europe/Berlin:20260423T163000
DTEND;TZID=Europe/Berlin:20260423T170000
DTSTAMP:20260423T014312
CREATED:20260410T115151Z
LAST-MODIFIED:20260410T121104Z
UID:10049071-1776961800-1776963600@kiezkalender-lichtenberg.de
SUMMARY:Mehrsprachiges Vorleseangebot im Familienzentrum aufatmen
DESCRIPTION:Das mehrsprachige Vorleseangebot findet wöchentlich am Donnerstagnachmittag von 16:30 -17:00 Uhr statt. Es werden Geschichten sowohl auf Deutsch als auch von Muttersprachler:innen auf ihren Sprachen vorgelesen. \nGemeinsam werden die Wörter der Geschichte auf den verschiedenen Sprachen wiederholt. \nWenn du Muttersprachler:in einer europäischen Sprache bist oder diese sehr gut beherrschst\, bist du herzlich eingeladen\, eine Geschichte auf deiner Sprache vorzulesen.
URL:https://kiezkalender-lichtenberg.de/veranstaltung/mehrsprachiges-vorleseangebot-im-familienzentrum-aufatmen/2026-04-23/
LOCATION:aufatmen\, Schottstraße 2\, Berlin\, Berlin\, 10365
ATTACH;FMTTYPE=image/png:https://kiezkalender-lichtenberg.de/wp-content/uploads/2026/04/EU-Vorlesen.png
ORGANIZER;CN="aufatmen":MAILTO:info@aufatmen-lichtenberg.de
END:VEVENT
BEGIN:VEVENT
DTSTART;TZID=Europe/Berlin:20260423T163000
DTEND;TZID=Europe/Berlin:20260423T174500
DTSTAMP:20260423T014312
CREATED:20260327T134903Z
LAST-MODIFIED:20260327T134903Z
UID:10046716-1776961800-1776966300@kiezkalender-lichtenberg.de
SUMMARY:Tanztherapie
DESCRIPTION:Tanz- und Körpertherapie für Frauen* \nInklusiv und in einfacher Sprache \nInhalte: Entspannung in Bewegung\, Abbau von Stress und Druck\, Raum für Gefühle\, Gemeinschaft und Verbundenheit\, Selbstregulation und Regulation des Nervensystems\, Stärkung des Selbstwertgefühls und der Selbstbestimmung. \nOhne Druck und ohne Bewertung. \nVorerfahrung oder besondere Sportlichkeit nicht erforderlich. \n  \n23.4. von 16:30 bis 17:45
URL:https://kiezkalender-lichtenberg.de/veranstaltung/tanztherapie-3/
LOCATION:Frauen*treff UNDINE\, Hagenstr. 57 EG EG\, Berlin\, 10365\, Germany
CATEGORIES:Gesundheit,Sport
ATTACH;FMTTYPE=image/jpeg:https://kiezkalender-lichtenberg.de/wp-content/uploads/2026/03/Tanztherapie-4_26.jpg
END:VEVENT
BEGIN:VEVENT
DTSTART;TZID=Europe/Berlin:20260423T173000
DTEND;TZID=Europe/Berlin:20260423T190000
DTSTAMP:20260423T014312
CREATED:20260416T122922Z
LAST-MODIFIED:20260416T122922Z
UID:10049347-1776965400-1776970800@kiezkalender-lichtenberg.de
SUMMARY:Demenz und Beschäftigungs-möglichkeiten in der Häuslichkeit
DESCRIPTION:Demenz und Beschäftigungsmöglichkeiten in der Häuslichkeit\nDie Demenzexpertin Petra Stunkat informiert Angehörige\nüber Beschäftigungsmöglichkeiten für Menschen mit\nDemenz im eigenen Zuhause. Die Angebote sollen die\nschwierigen Verhaltensweisen der Kranken positiv beein-\nflussen und andererseits ihre Stimmung verbessern und Le-\nbensfreude wecken. \nDie Veranstaltung ist kostenlos! \nAnmeldung vor Ort\, telefonisch unter 030 / 555 67 19 oder per\nMail an Egon.Erwin.Kisch.Bibliothek@lichtenberg.berlin.de \nEgon-Erwin-Kisch-Bibliothek\nFrankfurter Allee 149 | 10365 Berlin | Tel. 030 / 555 67 19
URL:https://kiezkalender-lichtenberg.de/veranstaltung/demenz-und-beschaeftigungs-moeglichkeiten-in-der-haeuslichkeit/
LOCATION:Egon-Erwin-Kisch-Bibliothek\, Frankfurter Allee 149\, Berlin\, 10365\, Berlin\, Germany
CATEGORIES:Beratung,Gesundheit,Infoveranstaltung,Nachbarschaft
ATTACH;FMTTYPE=image/jpeg:https://kiezkalender-lichtenberg.de/wp-content/uploads/2026/04/Plakat-Demenz_Final-1.jpg
ORGANIZER;CN="Kontaktstelle PflegeEngagement Lichtenberg":MAILTO:kpe@kiezspinne.de
END:VEVENT
BEGIN:VEVENT
DTSTART;TZID=Europe/Berlin:20260423T180000
DTEND;TZID=Europe/Berlin:20260423T190000
DTSTAMP:20260423T014312
CREATED:20250731T133735Z
LAST-MODIFIED:20250731T134434Z
UID:10039111-1776967200-1776970800@kiezkalender-lichtenberg.de
SUMMARY:Silent Book Club Berlin Fennpfuhl
DESCRIPTION:Der Trend zum Lesen erlebt derzeit eine erfreuliche Renaissance – unter anderem dank gestiegener Lesefreude sowie einem wachsenden Bewusstsein für Achtsamkeit und Selbstfürsorge. Damit wächst auch das Interesse an Buchclubs und Lesezirkeln.\nDer Silent Book Club® bietet hierbei eine besondere Variante: Hier steht das stille Lesen im Mittelpunkt. In gemütlicher Atmosphäre treffen sich die Teilnehmenden\, lesen eine Stunde lang in Stille ihre eigene\, selbst gewählte Lektüre und können anschließend bei Wunsch ins Gespräch kommen oder einfach weiterlesen.\nAugenmerk ist hier vor allem die Freude am Lesen und der Austausch von Gleichgesinnten.\nWir laden alle herzlich ein\, Teil dieser besonderen Lesegemeinschaft zu werden.\nDer Auftakt zum neuen Buchclub ist am 25. September 2025 um 18 Uhr und findet danach jeden 4. Donnerstag im Monat statt. \nEintritt frei | keine Anmeldung erforderlich \nSilent Book Club® ist eine eingetragene Marke der Silent Book Club Limited Liability Company.
URL:https://kiezkalender-lichtenberg.de/veranstaltung/silent-book-club-berlin-fennpfuhl/2026-04-23/
LOCATION:Anton-Saefkow-Bibliothek\, \,Anton-Saefkow-Platz 14\, Berlin\, 10369\, Germany
ATTACH;FMTTYPE=image/png:https://kiezkalender-lichtenberg.de/wp-content/uploads/2025/07/©Canva-scaled.png
ORGANIZER;CN="Anton-Saefkow-Bibliothek":MAILTO:anton.saefkow.bibliothek@lichtenberg.berlin.de
END:VEVENT
END:VCALENDAR