BEGIN:VCALENDAR
VERSION:2.0
PRODID:-//Kiezkalender Lichtenberg - ECPv6.15.12.2//NONSGML v1.0//EN
CALSCALE:GREGORIAN
METHOD:PUBLISH
X-ORIGINAL-URL:https://kiezkalender-lichtenberg.de
X-WR-CALDESC:Veranstaltungen für Kiezkalender Lichtenberg
REFRESH-INTERVAL;VALUE=DURATION:PT1H
X-Robots-Tag:noindex
X-PUBLISHED-TTL:PT1H
BEGIN:VTIMEZONE
TZID:Europe/Berlin
BEGIN:DAYLIGHT
TZOFFSETFROM:+0100
TZOFFSETTO:+0200
TZNAME:CEST
DTSTART:20250330T010000
END:DAYLIGHT
BEGIN:STANDARD
TZOFFSETFROM:+0200
TZOFFSETTO:+0100
TZNAME:CET
DTSTART:20251026T010000
END:STANDARD
BEGIN:DAYLIGHT
TZOFFSETFROM:+0100
TZOFFSETTO:+0200
TZNAME:CEST
DTSTART:20260329T010000
END:DAYLIGHT
BEGIN:STANDARD
TZOFFSETFROM:+0200
TZOFFSETTO:+0100
TZNAME:CET
DTSTART:20261025T010000
END:STANDARD
BEGIN:DAYLIGHT
TZOFFSETFROM:+0100
TZOFFSETTO:+0200
TZNAME:CEST
DTSTART:20270328T010000
END:DAYLIGHT
BEGIN:STANDARD
TZOFFSETFROM:+0200
TZOFFSETTO:+0100
TZNAME:CET
DTSTART:20271031T010000
END:STANDARD
END:VTIMEZONE
BEGIN:VEVENT
DTSTART;TZID=Europe/Berlin:20260308T100000
DTEND;TZID=Europe/Berlin:20260308T140000
DTSTAMP:20260421T144143
CREATED:20260225T121744Z
LAST-MODIFIED:20260225T121744Z
UID:10044681-1772964000-1772978400@kiezkalender-lichtenberg.de
SUMMARY:Frauenbrunch zum Frauentag
DESCRIPTION:Wir laden euch herzlich zum Frauen Brunch zum Frauentag in Familienzentrum Die Brücke ein.
URL:https://kiezkalender-lichtenberg.de/veranstaltung/frauenbrunch-zum-frauentag/
LOCATION:Familienzentrum Die Brücke\, Gensinger Str 58\, Berlin\, 10315\, Germany
CATEGORIES:Essen,Feste,Nachbarschaft
END:VEVENT
BEGIN:VEVENT
DTSTART;TZID=Europe/Berlin:20260308T190000
DTEND;TZID=Europe/Berlin:20260308T220000
DTSTAMP:20260421T144143
CREATED:20260105T152819Z
LAST-MODIFIED:20260105T152819Z
UID:10041096-1772996400-1773007200@kiezkalender-lichtenberg.de
SUMMARY:Jazz und Swing Session in Lichtenberg
DESCRIPTION:2026 Neuer Start – Neuer Veranstalter – Gleicher Ort \nund immer noch Jazz und Swing Session in Lichtenberg! \nJeden Sonntag von 19 – 22 Uhr \nBeginnend mit einem kurzen Konzert startet die Jam-Session um 20 Uhr im interkosmos – café.bar.utopie. \nBringt eure Instrumente mit und steigt ein. \n(Fanningerstraße 47\, 10365 Berlin\, Nahe S und U-Bahn Lichtenberg\, Ecke Siegfriedstraße)
URL:https://kiezkalender-lichtenberg.de/veranstaltung/baldwins-jam-die-jazz-und-swing-session-in-lichtenberg-2/2026-03-08/
CATEGORIES:Kunst,Nachbarschaft
END:VEVENT
END:VCALENDAR