BEGIN:VCALENDAR
VERSION:2.0
PRODID:-//Kiezkalender Lichtenberg - ECPv6.15.12.2//NONSGML v1.0//EN
CALSCALE:GREGORIAN
METHOD:PUBLISH
X-ORIGINAL-URL:https://kiezkalender-lichtenberg.de
X-WR-CALDESC:Veranstaltungen für Kiezkalender Lichtenberg
REFRESH-INTERVAL;VALUE=DURATION:PT1H
X-Robots-Tag:noindex
X-PUBLISHED-TTL:PT1H
BEGIN:VTIMEZONE
TZID:Europe/Berlin
BEGIN:DAYLIGHT
TZOFFSETFROM:+0100
TZOFFSETTO:+0200
TZNAME:CEST
DTSTART:20230326T010000
END:DAYLIGHT
BEGIN:STANDARD
TZOFFSETFROM:+0200
TZOFFSETTO:+0100
TZNAME:CET
DTSTART:20231029T010000
END:STANDARD
BEGIN:DAYLIGHT
TZOFFSETFROM:+0100
TZOFFSETTO:+0200
TZNAME:CEST
DTSTART:20240331T010000
END:DAYLIGHT
BEGIN:STANDARD
TZOFFSETFROM:+0200
TZOFFSETTO:+0100
TZNAME:CET
DTSTART:20241027T010000
END:STANDARD
BEGIN:DAYLIGHT
TZOFFSETFROM:+0100
TZOFFSETTO:+0200
TZNAME:CEST
DTSTART:20250330T010000
END:DAYLIGHT
BEGIN:STANDARD
TZOFFSETFROM:+0200
TZOFFSETTO:+0100
TZNAME:CET
DTSTART:20251026T010000
END:STANDARD
END:VTIMEZONE
BEGIN:VEVENT
DTSTART;TZID=Europe/Berlin:20241018T093000
DTEND;TZID=Europe/Berlin:20241018T103000
DTSTAMP:20260423T184222
CREATED:20230830T080614Z
LAST-MODIFIED:20250312T155757Z
UID:10023709-1729243800-1729247400@kiezkalender-lichtenberg.de
SUMMARY:Yoga für Frauen 60+
DESCRIPTION:Yoga-Kurs für Frauen mit und ohne Vorerfahrung.
URL:https://kiezkalender-lichtenberg.de/veranstaltung/yoga-fuer-frauen-60/2024-10-18/
LOCATION:NachbarschaftsTreff an der Seefelder\, Seefelder Str. 50\, Berlin\, 13053\, Germany
CATEGORIES:Sport
ATTACH;FMTTYPE=image/jpeg:https://kiezkalender-lichtenberg.de/wp-content/uploads/2023/08/yoga.jpg
ORGANIZER;CN="NachbarschaftsTreff an der Seefelder":MAILTO:info@nachbarschaftstreff-seefelder.de
END:VEVENT
BEGIN:VEVENT
DTSTART;TZID=Europe/Berlin:20241018T100000
DTEND;TZID=Europe/Berlin:20241018T110000
DTSTAMP:20260423T184222
CREATED:20231012T143016Z
LAST-MODIFIED:20231012T143016Z
UID:10012212-1729245600-1729249200@kiezkalender-lichtenberg.de
SUMMARY:Sportgruppe Senior:innen
DESCRIPTION:Seien Sie gemeinsam aktiv und halten sich fit \n  \nSchauen Sie vorbei! \nIn der Kommunalen Begegnungsstätte „Rusche 43“ können zudem Getränke und ein kleiner Imbiss erworben werden. \n  \nKontakt und Fragen\n☎️ 030/ 55 923 81\n📧 sbs.rusche43@gmx.de\n📍 Ruschestraße 43\, 10367 Berlin
URL:https://kiezkalender-lichtenberg.de/veranstaltung/sportgruppe-seniorinnen/2024-10-18/
LOCATION:Kommunale Begegnungsstätte „Rusche 43“\, Ruschestraße 43\, Berlin\, 10367\, Germany
CATEGORIES:Sport
ATTACH;FMTTYPE=image/jpeg:https://kiezkalender-lichtenberg.de/wp-content/uploads/2023/10/Regelm.-Angebote-Sport-2023-scaled.jpg
ORGANIZER;CN="Kommunale Begegnungsst%C3%A4tte Rusche 43":MAILTO:sbs.rusche43@gmx.de
END:VEVENT
BEGIN:VEVENT
DTSTART;TZID=Europe/Berlin:20241018T170000
DTEND;TZID=Europe/Berlin:20241018T210000
DTSTAMP:20260423T184222
CREATED:20241010T190319Z
LAST-MODIFIED:20241010T191108Z
UID:10032672-1729270800-1729285200@kiezkalender-lichtenberg.de
SUMMARY:Laternenumzug – Dein Licht für Deinen Kiez
DESCRIPTION:„Dein Licht für Deinen Kiez“ heißt es am 18. Oktober\, wenn Groß und Klein mit bunten Laternen in Hohenschönhausen Süd um die Häuser ziehen. \nBevor der Laternenumzug um 18 Uhr vor der Kita NEO in der Liebenwalder Straße 18 startet\, können hier bereits ab 17 Uhr Laternen gebastelt werden.\nDa die Plätze und Materialien begrenzt sind\, wird um Anmeldung bis zum 11. Oktober gebeten: mail an unterwegs(at)sozdia.de\nAber natürlich können auch eigene Laternen mitgebracht werden. \nDer Laternenumzug wird durch einen Fanfarenzug musikalisch begleitet und natürlich das eine oder andere Laternen-Lied angestimmt. \nNach dem Umzug sind alle herzlich in den Interkulturellen Garten eingeladen (Liebenwalder Straße 12-18)\, den Tag gemeinsam mit Punsch\, Suppe\, Stockbrot und Live-Musik von PlaGu ausklingen zu lassen. \nEintritt frei
URL:https://kiezkalender-lichtenberg.de/veranstaltung/laternenumzug-dein-licht-fuer-deinen-kiez/
LOCATION:Interkultureller Garten Lichtenberg\, Liebenwalderstraße 12\, Berlin\, 13055
ATTACH;FMTTYPE=image/jpeg:https://kiezkalender-lichtenberg.de/wp-content/uploads/2024/10/A5_plakat_laternenumzug_2024.jpg
ORGANIZER;CN="Unterwegs in Hohensch%C3%B6nhausen S%C3%BCd":MAILTO:unterwegs@sozdia.de
END:VEVENT
END:VCALENDAR