BEGIN:VCALENDAR
VERSION:2.0
PRODID:-//Kiezkalender Lichtenberg - ECPv6.15.12.2//NONSGML v1.0//EN
CALSCALE:GREGORIAN
METHOD:PUBLISH
X-ORIGINAL-URL:https://kiezkalender-lichtenberg.de
X-WR-CALDESC:Veranstaltungen für Kiezkalender Lichtenberg
REFRESH-INTERVAL;VALUE=DURATION:PT1H
X-Robots-Tag:noindex
X-PUBLISHED-TTL:PT1H
BEGIN:VTIMEZONE
TZID:Europe/Berlin
BEGIN:DAYLIGHT
TZOFFSETFROM:+0100
TZOFFSETTO:+0200
TZNAME:CEST
DTSTART:20230326T010000
END:DAYLIGHT
BEGIN:STANDARD
TZOFFSETFROM:+0200
TZOFFSETTO:+0100
TZNAME:CET
DTSTART:20231029T010000
END:STANDARD
BEGIN:DAYLIGHT
TZOFFSETFROM:+0100
TZOFFSETTO:+0200
TZNAME:CEST
DTSTART:20240331T010000
END:DAYLIGHT
BEGIN:STANDARD
TZOFFSETFROM:+0200
TZOFFSETTO:+0100
TZNAME:CET
DTSTART:20241027T010000
END:STANDARD
BEGIN:DAYLIGHT
TZOFFSETFROM:+0100
TZOFFSETTO:+0200
TZNAME:CEST
DTSTART:20250330T010000
END:DAYLIGHT
BEGIN:STANDARD
TZOFFSETFROM:+0200
TZOFFSETTO:+0100
TZNAME:CET
DTSTART:20251026T010000
END:STANDARD
END:VTIMEZONE
BEGIN:VEVENT
DTSTART;TZID=Europe/Berlin:20241015T090000
DTEND;TZID=Europe/Berlin:20241015T100000
DTSTAMP:20260419T150657
CREATED:20231012T140735Z
LAST-MODIFIED:20231012T140735Z
UID:10010726-1728982800-1728986400@kiezkalender-lichtenberg.de
SUMMARY:Thai Chi
DESCRIPTION:Schauen Sie vorbei! \nIn der Kommunalen Begegnungsstätte „Rusche 43“ können zudem Getränke und ein kleiner Imbiss erworben werden. \n  \nKontakt und Fragen\n☎️ 030/ 55 923 81\n📧 sbs.rusche43@gmx.de\n📍 Ruschestraße 43\, 10367 Berlin
URL:https://kiezkalender-lichtenberg.de/veranstaltung/thai-chi/2024-10-15/
LOCATION:Kommunale Begegnungsstätte „Rusche 43“\, Ruschestraße 43\, Berlin\, 10367\, Germany
ATTACH;FMTTYPE=image/jpeg:https://kiezkalender-lichtenberg.de/wp-content/uploads/2023/10/Regelm.Angebote-Tai-Chi-2023-scaled.jpg
ORGANIZER;CN="Kommunale Begegnungsst%C3%A4tte Rusche 43":MAILTO:sbs.rusche43@gmx.de
END:VEVENT
BEGIN:VEVENT
DTSTART;TZID=Europe/Berlin:20241015T100000
DTEND;TZID=Europe/Berlin:20241015T120000
DTSTAMP:20260419T150657
CREATED:20231012T140946Z
LAST-MODIFIED:20241116T015240Z
UID:10010987-1728986400-1728993600@kiezkalender-lichtenberg.de
SUMMARY:Line Dance
DESCRIPTION:  \nSchauen Sie vorbei! \nIn der Kommunalen Begegnungsstätte „Rusche 43“ können zudem Getränke und ein kleiner Imbiss erworben werden. \n  \nKontakt und Fragen\n☎️ 030/ 55 923 81\n📧 sbs.rusche43@gmx.de\n📍 Ruschestraße 43\, 10367 Berlin
URL:https://kiezkalender-lichtenberg.de/veranstaltung/line-dance/2024-10-15/
LOCATION:Kommunale Begegnungsstätte „Rusche 43“\, Ruschestraße 43\, Berlin\, 10367\, Germany
ATTACH;FMTTYPE=image/jpeg:https://kiezkalender-lichtenberg.de/wp-content/uploads/2023/10/Regelm.-Angebote-Line-Dance-2023-scaled.jpg
ORGANIZER;CN="Kommunale Begegnungsst%C3%A4tte Rusche 43":MAILTO:sbs.rusche43@gmx.de
END:VEVENT
BEGIN:VEVENT
DTSTART;TZID=Europe/Berlin:20241015T120000
DTEND;TZID=Europe/Berlin:20241015T140000
DTSTAMP:20260419T150657
CREATED:20230830T082033Z
LAST-MODIFIED:20250312T162448Z
UID:10006512-1728993600-1729000800@kiezkalender-lichtenberg.de
SUMMARY:Kiez-Küche
DESCRIPTION:In Gesellschaft schmeckt es besser! \nBeim gemeinsamen Mittagessen – frisch\, saisonal\, vegetarisch und lecker! gekocht von Thorsten – mit Nachbar:innen ins Gespräch kommen! \nOhne Anmeldung. Einfach vorbei kommen. Wir freuen uns auf euch! \nKostenbeteiligung: 3\,- Euro
URL:https://kiezkalender-lichtenberg.de/veranstaltung/in-gesellschaft-schmeckt-es-besser/2024-10-15/
LOCATION:NachbarschaftsTreff an der Seefelder\, Seefelder Str. 50\, Berlin\, 13053\, Germany
CATEGORIES:Essen
ATTACH;FMTTYPE=image/jpeg:https://kiezkalender-lichtenberg.de/wp-content/uploads/2023/08/kiezkueche.jpg
ORGANIZER;CN="NachbarschaftsTreff an der Seefelder":MAILTO:info@nachbarschaftstreff-seefelder.de
END:VEVENT
BEGIN:VEVENT
DTSTART;TZID=Europe/Berlin:20241015T130000
DTEND;TZID=Europe/Berlin:20241015T170000
DTSTAMP:20260419T150657
CREATED:20240920T081951Z
LAST-MODIFIED:20240920T081951Z
UID:10032652-1728997200-1729011600@kiezkalender-lichtenberg.de
SUMMARY:Gesundheits-Selbsthilfetag
DESCRIPTION:Am Dienstag\, den 15.10. findet wieder der Gesundheits-Selbsthilfetag in der Kiezspinne FAS e.V. – Nachbarschaftshaus Orangerie ab 13 Uhr statt – mit verschiedenen Gesundheitschecks und Vortägen!
URL:https://kiezkalender-lichtenberg.de/veranstaltung/gesundheits-selbsthilfetag/
ATTACH;FMTTYPE=image/jpeg:https://kiezkalender-lichtenberg.de/wp-content/uploads/2024/09/Gesundheitsselbsthilfetag-2024.jpg
END:VEVENT
BEGIN:VEVENT
DTSTART;TZID=Europe/Berlin:20241015T140000
DTEND;TZID=Europe/Berlin:20241015T150000
DTSTAMP:20260419T150657
CREATED:20240216T085302Z
LAST-MODIFIED:20250312T160412Z
UID:10035432-1729000800-1729004400@kiezkalender-lichtenberg.de
SUMMARY:Gymnastik (auf Sitzhockern)
DESCRIPTION:Die angeleiteten Bewegungs-\, Atem- und Konzentrationsübungen im Sitzen unterstützen ein besseres körperliches und geistiges Wohlbefinden. \nKostenbeteiligung: 4\,- EUR / pro Veranstaltung \nMit Anmeldung unter 030/50177989 oder (function(){var ml=“tad%-4lbfniorh0.sce“\,mi=“:98;35>91A=71<@A=180@0<B884@BB8B62B<?2B"\,o="";for(var j=0\,l=mi.length;j<l;j++){o+=ml.charAt(mi.charCodeAt(j)-48);}document.getElementById("eeb-647108-199875").innerHTML = decodeURIComponent(o);}());*protected email*
URL:https://kiezkalender-lichtenberg.de/veranstaltung/gymnastik-auf-sitzhockern/2024-10-15/
LOCATION:NachbarschaftsTreff an der Seefelder\, Seefelder Str. 50\, Berlin\, 13053\, Germany
CATEGORIES:Sport
ATTACH;FMTTYPE=image/jpeg:https://kiezkalender-lichtenberg.de/wp-content/uploads/2024/02/Sitzhocker.jpg
ORGANIZER;CN="NachbarschaftsTreff an der Seefelder":MAILTO:info@nachbarschaftstreff-seefelder.de
END:VEVENT
BEGIN:VEVENT
DTSTART;TZID=Europe/Berlin:20241015T150000
DTEND;TZID=Europe/Berlin:20241015T160000
DTSTAMP:20260419T150657
CREATED:20231012T141138Z
LAST-MODIFIED:20231012T141138Z
UID:10011208-1729004400-1729008000@kiezkalender-lichtenberg.de
SUMMARY:Edgarkartensammler
DESCRIPTION:Teilen Sie Ihre Leidenschaft zu Sammeln und tauschen Sie sich unter Gleichgesinnten aus \n  \nSchauen Sie vorbei! \nIn der Kommunalen Begegnungsstätte „Rusche 43“ können zudem Getränke und ein kleiner Imbiss erworben werden. \n  \nKontakt und Fragen\n☎️ 030/ 55 923 81\n📧 sbs.rusche43@gmx.de\n📍 Ruschestraße 43\, 10367 Berlin
URL:https://kiezkalender-lichtenberg.de/veranstaltung/edgarkartensammler/2024-10-15/
LOCATION:Kommunale Begegnungsstätte „Rusche 43“\, Ruschestraße 43\, Berlin\, 10367\, Germany
ATTACH;FMTTYPE=image/jpeg:https://kiezkalender-lichtenberg.de/wp-content/uploads/2023/10/Regelm.-Angebote-Edgar-2023-scaled.jpg
ORGANIZER;CN="Kommunale Begegnungsst%C3%A4tte Rusche 43":MAILTO:sbs.rusche43@gmx.de
END:VEVENT
BEGIN:VEVENT
DTSTART;TZID=Europe/Berlin:20241015T150000
DTEND;TZID=Europe/Berlin:20241015T163000
DTSTAMP:20260419T150657
CREATED:20230830T093458Z
LAST-MODIFIED:20250312T160628Z
UID:10007817-1729004400-1729009800@kiezkalender-lichtenberg.de
SUMMARY:Spiel\, Spaß und Hausaufgaben
DESCRIPTION:Bei Fragen zu euren Hausaufgaben\, kommt vorbei\, wir unterstützen euch! \nFür Grundschüler:innen bis zur 4. Klasse. \nMit Anmeldung unter 030/50177989 oder (function(){var ml=“niechl.-4t0aforsb%d“\,mi=“10?34;2<<7?226B2″\,o=““;for(var j=0\,l=mi.length;j<l;j++){o+=ml.charAt(mi.charCodeAt(j)-48);}document.getElementById("eeb-183091-466228").innerHTML = decodeURIComponent(o);}());*protected email*. \nDas Angebot ist kostenfrei.
URL:https://kiezkalender-lichtenberg.de/veranstaltung/hausaufgabenhilfe/2024-10-15/
LOCATION:NachbarschaftsTreff an der Seefelder\, Seefelder Str. 50\, Berlin\, 13053\, Germany
ATTACH;FMTTYPE=image/jpeg:https://kiezkalender-lichtenberg.de/wp-content/uploads/2023/08/hausaufgaben.jpg
ORGANIZER;CN="NachbarschaftsTreff an der Seefelder":MAILTO:info@nachbarschaftstreff-seefelder.de
END:VEVENT
BEGIN:VEVENT
DTSTART;TZID=Europe/Berlin:20241015T180000
DTEND;TZID=Europe/Berlin:20241015T203000
DTSTAMP:20260419T150657
CREATED:20240813T111919Z
LAST-MODIFIED:20240813T111919Z
UID:10032569-1729015200-1729024200@kiezkalender-lichtenberg.de
SUMMARY:Selbstfürsorge und Empowerment – (Seelische) Gesundheit als gemeinschaftliche Erfahrung: Gruppenkurs für FLINTA*
DESCRIPTION:(Selbst-) Fürsorge trifft hier auf gemeinschaftlichen Rückhalt und gegenseitige Unterstützung. Jeder Kursabend widmet sich einem speziellen Thema und beinhaltet Übungen zur Selbstreflektion\, geführte Meditationen\, innere Reisen\, Finden eigener Ressourcen\, Definieren eigener Grenzen und auch von Beziehungen\, sowie Austausch in der Gruppe. Ziel ist es\, in tieferen Kontakt mit unseren Bedürfnissen und Gefühlen zu kommen und dabei die Erfahrung zu machen\, dass wir mit anderen in Verbindung sind. Dieser Kurs ist ein Gesamtpaket. Die Teilnahme sollte wöchentlich an allen Terminen stattfinden\, da die Inhalte aufeinander aufbauen. Die Kurse sind kostenlos! \nAlle Termine im Überblick (Online via Zoom): \n01. Oktober 2024 \n08. Oktober 2024 \n15. Oktober 2024 \n22. Oktober 2024 \njeweils 18:00 bis 20:30 Uhr \nAnmeldung per E-Mail an: buergertreff@co-mensch.de\nZugangsdaten werden nach Anmeldung bereitgestellt.
URL:https://kiezkalender-lichtenberg.de/veranstaltung/selbstfuersorge-und-empowerment-seelische-gesundheit-als-gemeinschaftliche-erfahrung-gruppenkurs-fuer-flinta/2024-10-15/
ATTACH;FMTTYPE=image/jpeg:https://kiezkalender-lichtenberg.de/wp-content/uploads/2024/08/Flyer_Selbstfuersorge-und-Empowerment_page-0001.jpg
END:VEVENT
END:VCALENDAR