BEGIN:VCALENDAR
VERSION:2.0
PRODID:-//Kiezkalender Lichtenberg - ECPv6.15.12.2//NONSGML v1.0//EN
CALSCALE:GREGORIAN
METHOD:PUBLISH
X-WR-CALNAME:Kiezkalender Lichtenberg
X-ORIGINAL-URL:https://kiezkalender-lichtenberg.de
X-WR-CALDESC:Veranstaltungen für Kiezkalender Lichtenberg
REFRESH-INTERVAL;VALUE=DURATION:PT1H
X-Robots-Tag:noindex
X-PUBLISHED-TTL:PT1H
BEGIN:VTIMEZONE
TZID:Europe/Berlin
BEGIN:DAYLIGHT
TZOFFSETFROM:+0100
TZOFFSETTO:+0200
TZNAME:CEST
DTSTART:20220327T010000
END:DAYLIGHT
BEGIN:STANDARD
TZOFFSETFROM:+0200
TZOFFSETTO:+0100
TZNAME:CET
DTSTART:20221030T010000
END:STANDARD
BEGIN:DAYLIGHT
TZOFFSETFROM:+0100
TZOFFSETTO:+0200
TZNAME:CEST
DTSTART:20230326T010000
END:DAYLIGHT
BEGIN:STANDARD
TZOFFSETFROM:+0200
TZOFFSETTO:+0100
TZNAME:CET
DTSTART:20231029T010000
END:STANDARD
BEGIN:DAYLIGHT
TZOFFSETFROM:+0100
TZOFFSETTO:+0200
TZNAME:CEST
DTSTART:20240331T010000
END:DAYLIGHT
BEGIN:STANDARD
TZOFFSETFROM:+0200
TZOFFSETTO:+0100
TZNAME:CET
DTSTART:20241027T010000
END:STANDARD
END:VTIMEZONE
BEGIN:VEVENT
DTSTART;TZID=Europe/Berlin:20231108T090000
DTEND;TZID=Europe/Berlin:20231108T110000
DTSTAMP:20260423T141605
CREATED:20231012T141400Z
LAST-MODIFIED:20231012T141400Z
UID:10011259-1699434000-1699441200@kiezkalender-lichtenberg.de
SUMMARY:Handarbeit und Basteln
DESCRIPTION:Teilen Sie Ihre Leidenschaft unter Gleichgesinnten und lassen sich inspirieren. \n  \nSchauen Sie vorbei! \nIn der Kommunalen Begegnungsstätte „Rusche 43“ können zudem Getränke und ein kleiner Imbiss erworben werden. \n  \nKontakt und Fragen\n☎️ 030/ 55 923 81\n📧 sbs.rusche43@gmx.de\n📍 Ruschestraße 43\, 10367 Berlin
URL:https://kiezkalender-lichtenberg.de/veranstaltung/handarbeit-und-basteln/2023-11-08/
LOCATION:Kommunale Begegnungsstätte „Rusche 43“\, Ruschestraße 43\, Berlin\, 10367\, Germany
ATTACH;FMTTYPE=image/jpeg:https://kiezkalender-lichtenberg.de/wp-content/uploads/2023/10/Regelm.-Angebote-Basteln-2023-1-scaled.jpg
ORGANIZER;CN="Kommunale Begegnungsst%C3%A4tte Rusche 43":MAILTO:sbs.rusche43@gmx.de
END:VEVENT
BEGIN:VEVENT
DTSTART;TZID=Europe/Berlin:20231108T100000
DTEND;TZID=Europe/Berlin:20231108T110000
DTSTAMP:20260423T141605
CREATED:20231012T141608Z
LAST-MODIFIED:20231012T141609Z
UID:10011520-1699437600-1699441200@kiezkalender-lichtenberg.de
SUMMARY:Seniorengymnastik
DESCRIPTION:Treiben Sie ein wenig Sport unter Gleichgesinnten \n  \nSchauen Sie vorbei! \nIn der Kommunalen Begegnungsstätte „Rusche 43“ können zudem Getränke und ein kleiner Imbiss erworben werden. \n  \nKontakt und Fragen\n☎️ 030/ 55 923 81\n📧 sbs.rusche43@gmx.de\n📍 Ruschestraße 43\, 10367 Berlin
URL:https://kiezkalender-lichtenberg.de/veranstaltung/seniorengymnastik/2023-11-08/
LOCATION:Kommunale Begegnungsstätte „Rusche 43“\, Ruschestraße 43\, Berlin\, 10367\, Germany
ATTACH;FMTTYPE=image/jpeg:https://kiezkalender-lichtenberg.de/wp-content/uploads/2023/10/Regelm.-Angebote-Gymnastik-2023-1-scaled.jpg
ORGANIZER;CN="Kommunale Begegnungsst%C3%A4tte Rusche 43":MAILTO:sbs.rusche43@gmx.de
END:VEVENT
BEGIN:VEVENT
DTSTART;TZID=Europe/Berlin:20231108T143000
DTEND;TZID=Europe/Berlin:20231108T160000
DTSTAMP:20260423T141605
CREATED:20231011T120551Z
LAST-MODIFIED:20241116T004754Z
UID:10010167-1699453800-1699459200@kiezkalender-lichtenberg.de
SUMMARY:Lichtenberger Operettenkreis
DESCRIPTION:08.11.2023\, 14:30 – ca. 16:00 Uhr \n„Udo Jürgens”\, ein Porträt in Liedern (1934-2014) \nVortragender: Klaus-Jürgen Böhme \nVeranstaltungsort: Kommunale Begegnungsstätte „Rusche 43”\, Ruschestraße 43\, 10365 Berlin \nKostenbeitrag: 4\,00€ \nKontakt und Anmeldung\n☎️ 030/ 55 923 81\n📧 sbs.rusche43@gmx.de\n📍 Ruschestraße 43\, 10367 Berlin
URL:https://kiezkalender-lichtenberg.de/veranstaltung/lichtenberger-operettenkreis-6/
CATEGORIES:Kunst
ATTACH;FMTTYPE=image/jpeg:https://kiezkalender-lichtenberg.de/wp-content/uploads/2023/10/Operettenkreis-8-Nov-2023-scaled.jpg
ORGANIZER;CN="Kommunale Begegnungsst%C3%A4tte Rusche 43":MAILTO:sbs.rusche43@gmx.de
END:VEVENT
BEGIN:VEVENT
DTSTART;TZID=Europe/Berlin:20231108T150000
DTEND;TZID=Europe/Berlin:20231108T170000
DTSTAMP:20260423T141605
CREATED:20230830T082458Z
LAST-MODIFIED:20241116T003653Z
UID:10009636-1699455600-1699462800@kiezkalender-lichtenberg.de
SUMMARY:Kiez-Café
DESCRIPTION:Frisch gebackener Kuchen\, Kaffee/Tee und weitere Getränke! \nOhne Anmeldung. Einfach vorbei kommen! Wir freuen uns auf euch! \nKostenbeteiligung: 1\,- bis 2\,- EUR
URL:https://kiezkalender-lichtenberg.de/veranstaltung/kiez-cafe/2023-11-08/
LOCATION:NachbarschaftsTreff an der Seefelder\, Seefelder Str. 50\, Berlin\, 13053\, Germany
ATTACH;FMTTYPE=image/png:https://kiezkalender-lichtenberg.de/wp-content/uploads/2023/08/cafe-7441426_1280.png
ORGANIZER;CN="NachbarschaftsTreff an der Seefelder":MAILTO:info@nachbarschaftstreff-seefelder.de
END:VEVENT
BEGIN:VEVENT
DTSTART;TZID=Europe/Berlin:20231108T153000
DTEND;TZID=Europe/Berlin:20231108T183000
DTSTAMP:20260423T141605
CREATED:20230830T103503Z
LAST-MODIFIED:20250312T164249Z
UID:10008292-1699457400-1699468200@kiezkalender-lichtenberg.de
SUMMARY:Mieter- und Sozialberatung
DESCRIPTION:Unterstützung bei Fragen zu Anträgen (z.B. Wohngeld\, WBS & Mietzuschuss\, Grundsicherung / ALG II\, Einkommensbescheinigung nach § 9 WoFG)\, Beratung bei Mietschulden\, Vermittlung zu weiterführenden Stellen. Bitte die für die Beratung notwendigen Unterlagen mitbringen. Ohne Anmeldung. Das Angebot ist kostenfrei. In Kooperation mit Gesoplan.
URL:https://kiezkalender-lichtenberg.de/veranstaltung/mieter-und-sozialberatung/2023-11-08/
LOCATION:NachbarschaftsTreff an der Seefelder\, Seefelder Str. 50\, Berlin\, 13053\, Germany
ATTACH;FMTTYPE=image/jpeg:https://kiezkalender-lichtenberg.de/wp-content/uploads/2023/08/Mieterberatung.jpg
END:VEVENT
BEGIN:VEVENT
DTSTART;TZID=Europe/Berlin:20231108T160000
DTEND;TZID=Europe/Berlin:20231108T200000
DTSTAMP:20260423T141605
CREATED:20231019T084739Z
LAST-MODIFIED:20241116T014338Z
UID:10012966-1699459200-1699473600@kiezkalender-lichtenberg.de
SUMMARY:Weltküche
DESCRIPTION:Jeden Monat bereiten wir gemeinsam eine Köstlichkeit aus einer anderen Küche zu und verspeisen diese im Anschluss zusammen. Dieses Mal stehen Spezialitäten aus der kurdisch-arabischen Küche auf dem Speiseplan: Wir werden mit dem spinatähnlichen Gemüse Mlochia kochen und lernen Teigtaschen zu wickeln. \nWir bitten um Anmeldung\, damit wir besser planen können.
URL:https://kiezkalender-lichtenberg.de/veranstaltung/weltkueche-2/
LOCATION:BI\, Neustrelitzer Straße 63\, Berlin\, 13055
CATEGORIES:Kunst
ATTACH;FMTTYPE=image/png:https://kiezkalender-lichtenberg.de/wp-content/uploads/2023/10/Weltkueche-November.png
ORGANIZER;CN="B%C3%BCrgerinitiative Ausl%C3%A4ndische Mitb%C3%BCrgerInnen e.V.":MAILTO:info@bi-berlin.org
END:VEVENT
BEGIN:VEVENT
DTSTART;TZID=Europe/Berlin:20231108T170000
DTEND;TZID=Europe/Berlin:20231108T183000
DTSTAMP:20260423T141605
CREATED:20230830T103906Z
LAST-MODIFIED:20250312T164354Z
UID:10008554-1699462800-1699468200@kiezkalender-lichtenberg.de
SUMMARY:Rechtliche Mieterberatung mit Rechtsanwältin
DESCRIPTION:Beratung zu Themen wie Heiz- und Betriebskostenabrechnung\, Kündigung\, Kündigungsschutz\, Räumungsklage\, Mietaufhebungsvertrag\, Modernisierungsankündigung u.v.m. Ohne Anmeldung. Das Angebot ist kostenfrei.
URL:https://kiezkalender-lichtenberg.de/veranstaltung/rechtliche-mieterberatung-mit-rechtsanwaeltin/2023-11-08/
LOCATION:NachbarschaftsTreff an der Seefelder\, Seefelder Str. 50\, Berlin\, 13053\, Germany
ATTACH;FMTTYPE=image/jpeg:https://kiezkalender-lichtenberg.de/wp-content/uploads/2023/08/Mieterberatung-1.jpg
END:VEVENT
END:VCALENDAR