BEGIN:VCALENDAR
VERSION:2.0
PRODID:-//Kiezkalender Lichtenberg - ECPv6.15.12.2//NONSGML v1.0//EN
CALSCALE:GREGORIAN
METHOD:PUBLISH
X-WR-CALNAME:Kiezkalender Lichtenberg
X-ORIGINAL-URL:https://kiezkalender-lichtenberg.de
X-WR-CALDESC:Veranstaltungen für Kiezkalender Lichtenberg
REFRESH-INTERVAL;VALUE=DURATION:PT1H
X-Robots-Tag:noindex
X-PUBLISHED-TTL:PT1H
BEGIN:VTIMEZONE
TZID:Europe/Berlin
BEGIN:DAYLIGHT
TZOFFSETFROM:+0100
TZOFFSETTO:+0200
TZNAME:CEST
DTSTART:20210328T010000
END:DAYLIGHT
BEGIN:STANDARD
TZOFFSETFROM:+0200
TZOFFSETTO:+0100
TZNAME:CET
DTSTART:20211031T010000
END:STANDARD
BEGIN:DAYLIGHT
TZOFFSETFROM:+0100
TZOFFSETTO:+0200
TZNAME:CEST
DTSTART:20220327T010000
END:DAYLIGHT
BEGIN:STANDARD
TZOFFSETFROM:+0200
TZOFFSETTO:+0100
TZNAME:CET
DTSTART:20221030T010000
END:STANDARD
BEGIN:DAYLIGHT
TZOFFSETFROM:+0100
TZOFFSETTO:+0200
TZNAME:CEST
DTSTART:20230326T010000
END:DAYLIGHT
BEGIN:STANDARD
TZOFFSETFROM:+0200
TZOFFSETTO:+0100
TZNAME:CET
DTSTART:20231029T010000
END:STANDARD
END:VTIMEZONE
BEGIN:VEVENT
DTSTART;TZID=Europe/Berlin:20220629T120000
DTEND;TZID=Europe/Berlin:20220629T140000
DTSTAMP:20260425T031322
CREATED:20220625T190810Z
LAST-MODIFIED:20220625T190810Z
UID:10004025-1656504000-1656511200@kiezkalender-lichtenberg.de
SUMMARY:Ein offenes Ohr für alle
DESCRIPTION:Ein offenes Ohr für alle.\nEinzelgespräche über Hilfe im Alltag oder Unterstützung bei der Entwicklung von Nachbarschaftsprojekten.\nBitte unter 577 99 419 oder -11 anmelden.
URL:https://kiezkalender-lichtenberg.de/veranstaltung/ein-offenes-ohr-fuer-alle-2/
LOCATION:Berlin
CATEGORIES:Beratung
ATTACH;FMTTYPE=image/jpeg:https://kiezkalender-lichtenberg.de/wp-content/uploads/2022/06/Undine-Aw9nw3.tmp_.jpg
ORGANIZER;CN="Kieztreff UNDINE im SOZIALWERK des dfb (Dachverband)":MAILTO:kieztreff.undine@sozialwerk-dfb-berlin.de
END:VEVENT
BEGIN:VEVENT
DTSTART;TZID=Europe/Berlin:20220629T130000
DTEND;TZID=Europe/Berlin:20220629T140000
DTSTAMP:20260425T031322
CREATED:20220625T190811Z
LAST-MODIFIED:20220625T190811Z
UID:10004026-1656507600-1656511200@kiezkalender-lichtenberg.de
SUMMARY:Frauensportgruppe
DESCRIPTION:Frauensportgruppe 2proBeweglich“ mit Frau Böhmert.
URL:https://kiezkalender-lichtenberg.de/veranstaltung/frauensportgruppe/
LOCATION:HolzHaus\, Gotlindestraße 38\, Berlin\, 10365\, Germany
CATEGORIES:Sport
ATTACH;FMTTYPE=image/jpeg:https://kiezkalender-lichtenberg.de/wp-content/uploads/2022/06/Frauentreff-WSFYWL.tmp_.jpg
ORGANIZER;CN="Frauentreff Alt-Lichtenberg im SOZIALWERK des dfb (Dachverband) e.V.":MAILTO:frauentreff.alt-lichtenberg@sozialwerk-dfb-berlin.de
END:VEVENT
BEGIN:VEVENT
DTSTART;TZID=Europe/Berlin:20220629T160000
DTEND;TZID=Europe/Berlin:20220629T180000
DTSTAMP:20260425T031322
CREATED:20220625T190811Z
LAST-MODIFIED:20220625T190811Z
UID:10004027-1656518400-1656525600@kiezkalender-lichtenberg.de
SUMMARY:Familiennachmittag in der Kiezspinne
DESCRIPTION:Familiennachmittag Kiezspinne mit Sport\, Spielen und Basteln.
URL:https://kiezkalender-lichtenberg.de/veranstaltung/familiennachmittag-in-der-kiezspinne-2/
LOCATION:Berlin
CATEGORIES:Familie
ATTACH;FMTTYPE=image/jpeg:https://kiezkalender-lichtenberg.de/wp-content/uploads/2022/06/Familiennachmittag-Kiezspinne-bnxUtE.tmp_.jpg
END:VEVENT
BEGIN:VEVENT
DTSTART;TZID=Europe/Berlin:20220629T160000
DTEND;TZID=Europe/Berlin:20220629T180000
DTSTAMP:20260425T031322
CREATED:20220625T190811Z
LAST-MODIFIED:20220625T190811Z
UID:10004028-1656518400-1656525600@kiezkalender-lichtenberg.de
SUMMARY:Kunst-Koffer im UNDINE-Garten
DESCRIPTION:„Kunst-Koffer in Alt-Lichtenberg“ ist ein offenes Angebot für Kinder bis 12 Jahren. \n \nDu kannst jederzeit einsteigen und unter freiem Himmel nach Lust und Laune malen\, gestalten und kreativ sein.\nDie Materialien stehen Dir frei zur Verfügung. In unserem UNDINE-Garten könnt ihr mit Malfarben\, Töpferton\, Holz und Naturmaterialien gestalten. \nIn Kooperation mit dem Stadtteilzentrum Lichtenberg-Nord.\n \nEs ist keine Voranmeldung erforderlich. Komm einfach vorbei — wir freuen uns auf Dich! 
URL:https://kiezkalender-lichtenberg.de/veranstaltung/kunst-koffer-im-undine-garten/
LOCATION:Berlin
CATEGORIES:Familie,Kunst
ATTACH;FMTTYPE=image/png:https://kiezkalender-lichtenberg.de/wp-content/uploads/2022/06/Kunst-Koffer-Freiaplatz-und-Undine-J1Y8pT.tmp_.png
ORGANIZER;CN="Kieztreff UNDINE im SOZIALWERK des dfb (Dachverband)":MAILTO:kieztreff.undine@sozialwerk-dfb-berlin.de
END:VEVENT
BEGIN:VEVENT
DTSTART;TZID=Europe/Berlin:20220629T180000
DTEND;TZID=Europe/Berlin:20220629T200000
DTSTAMP:20260425T031322
CREATED:20220625T190812Z
LAST-MODIFIED:20220625T190812Z
UID:10004029-1656525600-1656532800@kiezkalender-lichtenberg.de
SUMMARY:Trans* mit Kind - Informations- und Diskussionsabend
DESCRIPTION:Trans* mit Kind – Informations- und Diskussionsabend\nBis heute nehmen viele an\, dass sich Trans*geschlechtlichkeit und Elternsein ausschließen. Doch das ist falsch. \nTrans* und nicht-binäre Personen wollen Kinder aufziehen oder tun dies bereits. Dabei stehen sie oft vor \ngroßen Herausforderungen. \nDer Bundesverband Trans* hat die Broschüre „Trans* mit Kind! – Tipps für trans* und nicht-binäre Personen \nmit Kind(ern) oder Kinderwunsch“ herausgebracht. Diese Broschüre wird bei dieser Veranstaltung vorgestellt. \nIm anschließenden Gespräch mit Kalle Hümpfner und Eno Liedtke wird es Raum geben\, um allgemeine Fragen \nzu Trans*geschlechtlichkeit und geschlechtlicher Vielfalt zu klären. \nEingeladen sind alle\, die beruflich mit (Regenbogen-)Familien in Kontakt kommen.\nEine Veranstaltung des Runden Tisches für politische Bildung. \nDie Teilnahme ist kostenlos\, wegen begrenzter Plätze wird jedoch um vorherige Anmeldung unter \nmarcel_dieckmann@licht-blicke.org gebeten.\nAusführliche Ankündigung findet sich hier .\nDie Veranstaltenden behalten sich vor\, von ihrem Hausrecht Gebrauch zu machen und Personen\, die rechtsextremen \nParteien oder Organisationen angehören\, der rechtsextremen Szene zuzuordnen sind oder bereits in der Vergangenheit \ndurch transfeindliche\, rassistische\, nationalistische\, antisemitische oder sonstige menschenverachtenden Äußerungen in Erscheinung getreten sind\, den Zutritt zur Veranstaltung zu verwehren oder von dieser auszuschließen.
URL:https://kiezkalender-lichtenberg.de/veranstaltung/trans-mit-kind-informations-und-diskussionsabend/
LOCATION:Berlin
CATEGORIES:Beratung,Familie
ATTACH;FMTTYPE=image/png:https://kiezkalender-lichtenberg.de/wp-content/uploads/2022/06/Transgender-Veranstaltung-Undine-ZPcV7t.tmp_.png
ORGANIZER;CN="Kieztreff UNDINE im SOZIALWERK des dfb (Dachverband)":MAILTO:kieztreff.undine@sozialwerk-dfb-berlin.de
END:VEVENT
END:VCALENDAR