BEGIN:VCALENDAR
VERSION:2.0
PRODID:-//Kiezkalender Lichtenberg - ECPv6.15.12.2//NONSGML v1.0//EN
CALSCALE:GREGORIAN
METHOD:PUBLISH
X-ORIGINAL-URL:https://kiezkalender-lichtenberg.de
X-WR-CALDESC:Veranstaltungen für Kiezkalender Lichtenberg
REFRESH-INTERVAL;VALUE=DURATION:PT1H
X-Robots-Tag:noindex
X-PUBLISHED-TTL:PT1H
BEGIN:VTIMEZONE
TZID:Europe/Berlin
BEGIN:DAYLIGHT
TZOFFSETFROM:+0100
TZOFFSETTO:+0200
TZNAME:CEST
DTSTART:20210328T010000
END:DAYLIGHT
BEGIN:STANDARD
TZOFFSETFROM:+0200
TZOFFSETTO:+0100
TZNAME:CET
DTSTART:20211031T010000
END:STANDARD
BEGIN:DAYLIGHT
TZOFFSETFROM:+0100
TZOFFSETTO:+0200
TZNAME:CEST
DTSTART:20220327T010000
END:DAYLIGHT
BEGIN:STANDARD
TZOFFSETFROM:+0200
TZOFFSETTO:+0100
TZNAME:CET
DTSTART:20221030T010000
END:STANDARD
BEGIN:DAYLIGHT
TZOFFSETFROM:+0100
TZOFFSETTO:+0200
TZNAME:CEST
DTSTART:20230326T010000
END:DAYLIGHT
BEGIN:STANDARD
TZOFFSETFROM:+0200
TZOFFSETTO:+0100
TZNAME:CET
DTSTART:20231029T010000
END:STANDARD
END:VTIMEZONE
BEGIN:VEVENT
DTSTART;TZID=Europe/Berlin:20220627T100000
DTEND;TZID=Europe/Berlin:20220627T150000
DTSTAMP:20260422T232617
CREATED:20220625T190807Z
LAST-MODIFIED:20220625T190807Z
UID:10004018-1656324000-1656342000@kiezkalender-lichtenberg.de
SUMMARY:Kieztreff Undine: Offene PC und Internetnutzung
DESCRIPTION:Kieztreff Undine: Offene PC und Internetnutzung\n 
URL:https://kiezkalender-lichtenberg.de/veranstaltung/kieztreff-undine-offene-pc-und-internetnutzung-2/
CATEGORIES:Beratung
ATTACH;FMTTYPE=image/jpeg:https://kiezkalender-lichtenberg.de/wp-content/uploads/2022/06/Digitale-Medien-Kieztreff-Undine-e1618402991366-3owvHt.tmp_.jpg
ORGANIZER;CN="Kieztreff UNDINE im SOZIALWERK des dfb (Dachverband)":MAILTO:kieztreff.undine@sozialwerk-dfb-berlin.de
END:VEVENT
BEGIN:VEVENT
DTSTART;TZID=Europe/Berlin:20220627T140000
DTEND;TZID=Europe/Berlin:20220627T170000
DTSTAMP:20260422T232617
CREATED:20220625T190807Z
LAST-MODIFIED:20241118T113718Z
UID:10004019-1656338400-1656349200@kiezkalender-lichtenberg.de
SUMMARY:Kostenfreie Mieter*innenberatung
DESCRIPTION:Eine telefonische Mieter*innenberatung wird durch die asum GmbH durchgeführt.\nEs wird um eine telefonische Anmeldung gebeten: 030/2934310.
URL:https://kiezkalender-lichtenberg.de/veranstaltung/kostenfreie-mieterinnenberatung/
CATEGORIES:Beratung
ATTACH;FMTTYPE=image/png:https://kiezkalender-lichtenberg.de/wp-content/uploads/2022/06/Mieterberatung-anptEc.tmp_.png
ORGANIZER;CN="Kieztreff UNDINE im SOZIALWERK des dfb (Dachverband)":MAILTO:kieztreff.undine@sozialwerk-dfb-berlin.de
END:VEVENT
BEGIN:VEVENT
DTSTART;TZID=Europe/Berlin:20220627T150000
DTEND;TZID=Europe/Berlin:20220627T160000
DTSTAMP:20260422T232617
CREATED:20220625T190808Z
LAST-MODIFIED:20220625T190808Z
UID:10004020-1656342000-1656345600@kiezkalender-lichtenberg.de
SUMMARY:Die Putzengel von Fennpfuhl
DESCRIPTION:Die Putzengel von Fennpfuhl treffen im neuen Jahr zu einer erneut\, gemeinsamen Putzaktion.\nDas ganze Jahr über kann man sich jeden letzten Montag im Monat der Gruppe „Die Putzengel von Fennpfuhl“ unter dem Motto „Fennpfuhl putzt sich raus“ anschließen und gemeinsam Müll aufheben gehen. Im Dezember ist es der vorletzte Montag im Monat.\nDas Ganze wird von der Koordinatorin der Großsiedlung Fennpfuhl organisiert.\nFür weitere Informationen melden Sie sich gern unter pohlann@rbo-inmitten.berlin oder unter 0152-22551690.\n 
URL:https://kiezkalender-lichtenberg.de/veranstaltung/die-putzengel-von-fennpfuhl/
LOCATION:Fennpfuhl Park\, Berlin\, Deutschland\, 10369\, Germany
CATEGORIES:Nachbarschaft
ATTACH;FMTTYPE=image/jpeg:https://kiezkalender-lichtenberg.de/wp-content/uploads/2022/06/Putzengel-Fennpfuhl-e1642767677754-Gd1D8R.tmp_.jpg
END:VEVENT
BEGIN:VEVENT
DTSTART;TZID=Europe/Berlin:20220627T170000
DTEND;TZID=Europe/Berlin:20220627T190000
DTSTAMP:20260422T232617
CREATED:20220625T190809Z
LAST-MODIFIED:20220625T190809Z
UID:10004021-1656349200-1656356400@kiezkalender-lichtenberg.de
SUMMARY:Angebote für ukrainische Geflüchtete: Sprach- und Begegnungscafé
DESCRIPTION:Für Ukrainische Gefüchtete gibt es ab sofort ein Sprach- und Begegnungscafé im Nachbarschaftshaus ORANGERIE-Kiezspinne\, es gibt einen großen wundervollen Garten.
URL:https://kiezkalender-lichtenberg.de/veranstaltung/angebote-fuer-ukrainische-gefluechtete-sprach-und-begegnungscafe-2/
CATEGORIES:Familie
ATTACH;FMTTYPE=image/png:https://kiezkalender-lichtenberg.de/wp-content/uploads/2022/06/Kiezspinne-q9xnOe.tmp_.png
END:VEVENT
BEGIN:VEVENT
DTSTART;TZID=Europe/Berlin:20220627T190000
DTEND;TZID=Europe/Berlin:20220627T200000
DTSTAMP:20260422T232617
CREATED:20220625T190809Z
LAST-MODIFIED:20220625T190809Z
UID:10004022-1656356400-1656360000@kiezkalender-lichtenberg.de
SUMMARY:LiteraturLive „E.T.A. Hoffmann - Ein Lebensbild in Anekdoten“
DESCRIPTION:E.T.A. Hoffmann zählt zu den meistgelesenen Autoren der Romantik. Anlässlich seines 200. Todestages haben Bernd Hesse und Jörg Petzel seine biografische Spur aufgenommen.\nIn den Werken Hoffmanns gibt es eine bunte Palette an Figuren\, zarte oder garstige Märchenfiguren\, Träumer\, verschrobene Gelehrte oder hoffnungsvolle Liebende. Die Fäden\, die sich zwischen diesen Figuren und dem Leben des Bamberger Kapellmeisters und Berliner Kammergerichtsrats spinnen\, nehmen die Autoren in den Anekdoten auf\, um die Frage zu beantworten\, wer war dieser einzigartige Dichter E.T.A. Hoffmann? Fündig werden sie auch in den Geschichten\, die sich um seine Person ranken\, sie folgen ihm in die Dichterkreise der Romantik\, denen er angehörte\, ans Dirigentenpult\, ans Zeichenbrett\, zum Punsch in seine Wohnung am Gendarmenmarkt und selbstverständlich auch zum Stammtisch bei Lutter & Wegner.\nBernd Hesse studierte Jura und promovierte zum Dr. iur.\, studierte Kulturwissenschaften und promovierte zum Dr. phil. und ist heute als Rechtsanwalt tätig. Weitere Werke von Bernd Hesse handeln von wahren Kriminalfällen.\nJörg Petzel ist Vizepräsident der E.T.A. Hoffmann-Gesellschaft. Er studierte Germanistik\, Geschichte und Kommunikationswissenschaft und arbeitete u.a. als Buchhändler und Bibliothekar.\nDie Abendveranstaltung findet in Kooperation mit der HOWOGE statt. Für 12 Mieter der HOWOGE gibt es Freikarten.\nEintritt: 4 Euro\, ermäßigt 3 Euro\nVorverkauf ab 30.05.2022\nUnsere aktuellen Öffnungszeiten:\nMo\, Di\, Mi 13-19 Uhr | Do\, Fr 9-18 Uhr | Sa 9 -13 Uhr
URL:https://kiezkalender-lichtenberg.de/veranstaltung/literaturlive-e-t-a-hoffmann-ein-lebensbild-in-anekdoten/
LOCATION:Anton-Saefkow-Bibliothek\, \,Anton-Saefkow-Platz 14\, Berlin\, 10369\, Germany
CATEGORIES:Kunst
ORGANIZER;CN="Anton-Saefkow-Bibliothek":MAILTO:anton.saefkow.bibliothek@lichtenberg.berlin.de
END:VEVENT
END:VCALENDAR