BEGIN:VCALENDAR
VERSION:2.0
PRODID:-//Kiezkalender Lichtenberg - ECPv6.15.12.2//NONSGML v1.0//EN
CALSCALE:GREGORIAN
METHOD:PUBLISH
X-WR-CALNAME:Kiezkalender Lichtenberg
X-ORIGINAL-URL:https://kiezkalender-lichtenberg.de
X-WR-CALDESC:Veranstaltungen für Kiezkalender Lichtenberg
REFRESH-INTERVAL;VALUE=DURATION:PT1H
X-Robots-Tag:noindex
X-PUBLISHED-TTL:PT1H
BEGIN:VTIMEZONE
TZID:Europe/Berlin
BEGIN:DAYLIGHT
TZOFFSETFROM:+0100
TZOFFSETTO:+0200
TZNAME:CEST
DTSTART:20250330T010000
END:DAYLIGHT
BEGIN:STANDARD
TZOFFSETFROM:+0200
TZOFFSETTO:+0100
TZNAME:CET
DTSTART:20251026T010000
END:STANDARD
BEGIN:DAYLIGHT
TZOFFSETFROM:+0100
TZOFFSETTO:+0200
TZNAME:CEST
DTSTART:20260329T010000
END:DAYLIGHT
BEGIN:STANDARD
TZOFFSETFROM:+0200
TZOFFSETTO:+0100
TZNAME:CET
DTSTART:20261025T010000
END:STANDARD
BEGIN:DAYLIGHT
TZOFFSETFROM:+0100
TZOFFSETTO:+0200
TZNAME:CEST
DTSTART:20270328T010000
END:DAYLIGHT
BEGIN:STANDARD
TZOFFSETFROM:+0200
TZOFFSETTO:+0100
TZNAME:CET
DTSTART:20271031T010000
END:STANDARD
END:VTIMEZONE
BEGIN:VEVENT
DTSTART;TZID=Europe/Berlin:20260528T150000
DTEND;TZID=Europe/Berlin:20260528T170000
DTSTAMP:20260422T033020
CREATED:20260421T144854Z
LAST-MODIFIED:20260421T144854Z
UID:10050197-1779980400-1779987600@kiezkalender-lichtenberg.de
SUMMARY:Jobcenter-Beratung im Interkulturellen Garten
DESCRIPTION:was? Zwei Mitarbeitende aus dem Jobcenter Lichtenberg beraten Dich zu allen Fragen. Ohne Termin. Kostenlos. Es gibt Tee\, Kaffee und Kekse. Komm vorbei\, wir freuen uns auf Dich! \nwann? am 28.5.\, 18.6.\, 2.7.\, 27.8.\, 24.9. 2026. Immer von 15.00 – 17.00 Uhr. \nwo? Interkultureller Garten\, Liebenwalderstraße 12\, 13055 Lichtenberg.
URL:https://kiezkalender-lichtenberg.de/veranstaltung/jobcenter-beratung-im-interkulturellen-garten-2/2026-05-28/
LOCATION:Interkultureller Garten Lichtenberg\, Liebenwalderstraße 12\, Berlin\, 13055
CATEGORIES:Beratung
ATTACH;FMTTYPE=image/png:https://kiezkalender-lichtenberg.de/wp-content/uploads/2026/04/Jobcenter_IKG_coopident.png
END:VEVENT
BEGIN:VEVENT
DTSTART;TZID=Europe/Berlin:20260618T150000
DTEND;TZID=Europe/Berlin:20260618T170000
DTSTAMP:20260422T033020
CREATED:20260421T144854Z
LAST-MODIFIED:20260421T144854Z
UID:10050198-1781794800-1781802000@kiezkalender-lichtenberg.de
SUMMARY:Jobcenter-Beratung im Interkulturellen Garten
DESCRIPTION:was? Zwei Mitarbeitende aus dem Jobcenter Lichtenberg beraten Dich zu allen Fragen. Ohne Termin. Kostenlos. Es gibt Tee\, Kaffee und Kekse. Komm vorbei\, wir freuen uns auf Dich! \nwann? am 28.5.\, 18.6.\, 2.7.\, 27.8.\, 24.9. 2026. Immer von 15.00 – 17.00 Uhr. \nwo? Interkultureller Garten\, Liebenwalderstraße 12\, 13055 Lichtenberg.
URL:https://kiezkalender-lichtenberg.de/veranstaltung/jobcenter-beratung-im-interkulturellen-garten-2/2026-06-18/
LOCATION:Interkultureller Garten Lichtenberg\, Liebenwalderstraße 12\, Berlin\, 13055
CATEGORIES:Beratung
ATTACH;FMTTYPE=image/png:https://kiezkalender-lichtenberg.de/wp-content/uploads/2026/04/Jobcenter_IKG_coopident.png
END:VEVENT
BEGIN:VEVENT
DTSTART;TZID=Europe/Berlin:20260702T150000
DTEND;TZID=Europe/Berlin:20260702T170000
DTSTAMP:20260422T033020
CREATED:20260421T144854Z
LAST-MODIFIED:20260421T144854Z
UID:10050199-1783004400-1783011600@kiezkalender-lichtenberg.de
SUMMARY:Jobcenter-Beratung im Interkulturellen Garten
DESCRIPTION:was? Zwei Mitarbeitende aus dem Jobcenter Lichtenberg beraten Dich zu allen Fragen. Ohne Termin. Kostenlos. Es gibt Tee\, Kaffee und Kekse. Komm vorbei\, wir freuen uns auf Dich! \nwann? am 28.5.\, 18.6.\, 2.7.\, 27.8.\, 24.9. 2026. Immer von 15.00 – 17.00 Uhr. \nwo? Interkultureller Garten\, Liebenwalderstraße 12\, 13055 Lichtenberg.
URL:https://kiezkalender-lichtenberg.de/veranstaltung/jobcenter-beratung-im-interkulturellen-garten-2/2026-07-02/
LOCATION:Interkultureller Garten Lichtenberg\, Liebenwalderstraße 12\, Berlin\, 13055
CATEGORIES:Beratung
ATTACH;FMTTYPE=image/png:https://kiezkalender-lichtenberg.de/wp-content/uploads/2026/04/Jobcenter_IKG_coopident.png
END:VEVENT
BEGIN:VEVENT
DTSTART;TZID=Europe/Berlin:20260827T150000
DTEND;TZID=Europe/Berlin:20260827T170000
DTSTAMP:20260422T033020
CREATED:20260421T144854Z
LAST-MODIFIED:20260421T144854Z
UID:10050200-1787842800-1787850000@kiezkalender-lichtenberg.de
SUMMARY:Jobcenter-Beratung im Interkulturellen Garten
DESCRIPTION:was? Zwei Mitarbeitende aus dem Jobcenter Lichtenberg beraten Dich zu allen Fragen. Ohne Termin. Kostenlos. Es gibt Tee\, Kaffee und Kekse. Komm vorbei\, wir freuen uns auf Dich! \nwann? am 28.5.\, 18.6.\, 2.7.\, 27.8.\, 24.9. 2026. Immer von 15.00 – 17.00 Uhr. \nwo? Interkultureller Garten\, Liebenwalderstraße 12\, 13055 Lichtenberg.
URL:https://kiezkalender-lichtenberg.de/veranstaltung/jobcenter-beratung-im-interkulturellen-garten-2/2026-08-27/
LOCATION:Interkultureller Garten Lichtenberg\, Liebenwalderstraße 12\, Berlin\, 13055
CATEGORIES:Beratung
ATTACH;FMTTYPE=image/png:https://kiezkalender-lichtenberg.de/wp-content/uploads/2026/04/Jobcenter_IKG_coopident.png
END:VEVENT
BEGIN:VEVENT
DTSTART;TZID=Europe/Berlin:20260924T150000
DTEND;TZID=Europe/Berlin:20260924T170000
DTSTAMP:20260422T033020
CREATED:20260421T144854Z
LAST-MODIFIED:20260421T144854Z
UID:10050201-1790262000-1790269200@kiezkalender-lichtenberg.de
SUMMARY:Jobcenter-Beratung im Interkulturellen Garten
DESCRIPTION:was? Zwei Mitarbeitende aus dem Jobcenter Lichtenberg beraten Dich zu allen Fragen. Ohne Termin. Kostenlos. Es gibt Tee\, Kaffee und Kekse. Komm vorbei\, wir freuen uns auf Dich! \nwann? am 28.5.\, 18.6.\, 2.7.\, 27.8.\, 24.9. 2026. Immer von 15.00 – 17.00 Uhr. \nwo? Interkultureller Garten\, Liebenwalderstraße 12\, 13055 Lichtenberg.
URL:https://kiezkalender-lichtenberg.de/veranstaltung/jobcenter-beratung-im-interkulturellen-garten-2/2026-09-24/
LOCATION:Interkultureller Garten Lichtenberg\, Liebenwalderstraße 12\, Berlin\, 13055
CATEGORIES:Beratung
ATTACH;FMTTYPE=image/png:https://kiezkalender-lichtenberg.de/wp-content/uploads/2026/04/Jobcenter_IKG_coopident.png
END:VEVENT
END:VCALENDAR