BEGIN:VCALENDAR
VERSION:2.0
PRODID:-//Kiezkalender Lichtenberg - ECPv6.15.12.2//NONSGML v1.0//EN
CALSCALE:GREGORIAN
METHOD:PUBLISH
X-WR-CALNAME:Kiezkalender Lichtenberg
X-ORIGINAL-URL:https://kiezkalender-lichtenberg.de
X-WR-CALDESC:Veranstaltungen für Kiezkalender Lichtenberg
REFRESH-INTERVAL;VALUE=DURATION:PT1H
X-Robots-Tag:noindex
X-PUBLISHED-TTL:PT1H
BEGIN:VTIMEZONE
TZID:Europe/Berlin
BEGIN:DAYLIGHT
TZOFFSETFROM:+0100
TZOFFSETTO:+0200
TZNAME:CEST
DTSTART:20250330T010000
END:DAYLIGHT
BEGIN:STANDARD
TZOFFSETFROM:+0200
TZOFFSETTO:+0100
TZNAME:CET
DTSTART:20251026T010000
END:STANDARD
BEGIN:DAYLIGHT
TZOFFSETFROM:+0100
TZOFFSETTO:+0200
TZNAME:CEST
DTSTART:20260329T010000
END:DAYLIGHT
BEGIN:STANDARD
TZOFFSETFROM:+0200
TZOFFSETTO:+0100
TZNAME:CET
DTSTART:20261025T010000
END:STANDARD
BEGIN:DAYLIGHT
TZOFFSETFROM:+0100
TZOFFSETTO:+0200
TZNAME:CEST
DTSTART:20270328T010000
END:DAYLIGHT
BEGIN:STANDARD
TZOFFSETFROM:+0200
TZOFFSETTO:+0100
TZNAME:CET
DTSTART:20271031T010000
END:STANDARD
END:VTIMEZONE
BEGIN:VEVENT
DTSTART;TZID=Europe/Berlin:20260428T100000
DTEND;TZID=Europe/Berlin:20260428T120000
DTSTAMP:20260421T224439
CREATED:20260306T090434Z
LAST-MODIFIED:20260306T090536Z
UID:10045707-1777370400-1777377600@kiezkalender-lichtenberg.de
SUMMARY:Elternfrühstück
DESCRIPTION:Gemütlich mit anderen Eltern frühstücken und sich austauschen\, Kinder können mitgebracht werden.
URL:https://kiezkalender-lichtenberg.de/veranstaltung/elternfruehstueck/2026-04-28/
LOCATION:aufatmen\, Schottstraße 2\, Berlin\, Berlin\, 10365
ATTACH;FMTTYPE=image/jpeg:https://kiezkalender-lichtenberg.de/wp-content/uploads/2026/03/Fruehstueck.jpg
ORGANIZER;CN="aufatmen":MAILTO:info@aufatmen-lichtenberg.de
END:VEVENT
BEGIN:VEVENT
DTSTART;TZID=Europe/Berlin:20260505T100000
DTEND;TZID=Europe/Berlin:20260505T120000
DTSTAMP:20260421T224439
CREATED:20260306T090434Z
LAST-MODIFIED:20260306T090536Z
UID:10045708-1777975200-1777982400@kiezkalender-lichtenberg.de
SUMMARY:Elternfrühstück
DESCRIPTION:Gemütlich mit anderen Eltern frühstücken und sich austauschen\, Kinder können mitgebracht werden.
URL:https://kiezkalender-lichtenberg.de/veranstaltung/elternfruehstueck/2026-05-05/
LOCATION:aufatmen\, Schottstraße 2\, Berlin\, Berlin\, 10365
ATTACH;FMTTYPE=image/jpeg:https://kiezkalender-lichtenberg.de/wp-content/uploads/2026/03/Fruehstueck.jpg
ORGANIZER;CN="aufatmen":MAILTO:info@aufatmen-lichtenberg.de
END:VEVENT
BEGIN:VEVENT
DTSTART;TZID=Europe/Berlin:20260512T100000
DTEND;TZID=Europe/Berlin:20260512T120000
DTSTAMP:20260421T224439
CREATED:20260306T090434Z
LAST-MODIFIED:20260306T090536Z
UID:10045709-1778580000-1778587200@kiezkalender-lichtenberg.de
SUMMARY:Elternfrühstück
DESCRIPTION:Gemütlich mit anderen Eltern frühstücken und sich austauschen\, Kinder können mitgebracht werden.
URL:https://kiezkalender-lichtenberg.de/veranstaltung/elternfruehstueck/2026-05-12/
LOCATION:aufatmen\, Schottstraße 2\, Berlin\, Berlin\, 10365
ATTACH;FMTTYPE=image/jpeg:https://kiezkalender-lichtenberg.de/wp-content/uploads/2026/03/Fruehstueck.jpg
ORGANIZER;CN="aufatmen":MAILTO:info@aufatmen-lichtenberg.de
END:VEVENT
BEGIN:VEVENT
DTSTART;TZID=Europe/Berlin:20260519T100000
DTEND;TZID=Europe/Berlin:20260519T120000
DTSTAMP:20260421T224439
CREATED:20260306T090434Z
LAST-MODIFIED:20260306T090536Z
UID:10045710-1779184800-1779192000@kiezkalender-lichtenberg.de
SUMMARY:Elternfrühstück
DESCRIPTION:Gemütlich mit anderen Eltern frühstücken und sich austauschen\, Kinder können mitgebracht werden.
URL:https://kiezkalender-lichtenberg.de/veranstaltung/elternfruehstueck/2026-05-19/
LOCATION:aufatmen\, Schottstraße 2\, Berlin\, Berlin\, 10365
ATTACH;FMTTYPE=image/jpeg:https://kiezkalender-lichtenberg.de/wp-content/uploads/2026/03/Fruehstueck.jpg
ORGANIZER;CN="aufatmen":MAILTO:info@aufatmen-lichtenberg.de
END:VEVENT
BEGIN:VEVENT
DTSTART;TZID=Europe/Berlin:20260526T100000
DTEND;TZID=Europe/Berlin:20260526T120000
DTSTAMP:20260421T224439
CREATED:20260306T090434Z
LAST-MODIFIED:20260306T090536Z
UID:10045711-1779789600-1779796800@kiezkalender-lichtenberg.de
SUMMARY:Elternfrühstück
DESCRIPTION:Gemütlich mit anderen Eltern frühstücken und sich austauschen\, Kinder können mitgebracht werden.
URL:https://kiezkalender-lichtenberg.de/veranstaltung/elternfruehstueck/2026-05-26/
LOCATION:aufatmen\, Schottstraße 2\, Berlin\, Berlin\, 10365
ATTACH;FMTTYPE=image/jpeg:https://kiezkalender-lichtenberg.de/wp-content/uploads/2026/03/Fruehstueck.jpg
ORGANIZER;CN="aufatmen":MAILTO:info@aufatmen-lichtenberg.de
END:VEVENT
BEGIN:VEVENT
DTSTART;TZID=Europe/Berlin:20260602T100000
DTEND;TZID=Europe/Berlin:20260602T120000
DTSTAMP:20260421T224439
CREATED:20260306T090434Z
LAST-MODIFIED:20260306T090536Z
UID:10045712-1780394400-1780401600@kiezkalender-lichtenberg.de
SUMMARY:Elternfrühstück
DESCRIPTION:Gemütlich mit anderen Eltern frühstücken und sich austauschen\, Kinder können mitgebracht werden.
URL:https://kiezkalender-lichtenberg.de/veranstaltung/elternfruehstueck/2026-06-02/
LOCATION:aufatmen\, Schottstraße 2\, Berlin\, Berlin\, 10365
ATTACH;FMTTYPE=image/jpeg:https://kiezkalender-lichtenberg.de/wp-content/uploads/2026/03/Fruehstueck.jpg
ORGANIZER;CN="aufatmen":MAILTO:info@aufatmen-lichtenberg.de
END:VEVENT
BEGIN:VEVENT
DTSTART;TZID=Europe/Berlin:20260609T100000
DTEND;TZID=Europe/Berlin:20260609T120000
DTSTAMP:20260421T224439
CREATED:20260306T090434Z
LAST-MODIFIED:20260306T090536Z
UID:10045713-1780999200-1781006400@kiezkalender-lichtenberg.de
SUMMARY:Elternfrühstück
DESCRIPTION:Gemütlich mit anderen Eltern frühstücken und sich austauschen\, Kinder können mitgebracht werden.
URL:https://kiezkalender-lichtenberg.de/veranstaltung/elternfruehstueck/2026-06-09/
LOCATION:aufatmen\, Schottstraße 2\, Berlin\, Berlin\, 10365
ATTACH;FMTTYPE=image/jpeg:https://kiezkalender-lichtenberg.de/wp-content/uploads/2026/03/Fruehstueck.jpg
ORGANIZER;CN="aufatmen":MAILTO:info@aufatmen-lichtenberg.de
END:VEVENT
BEGIN:VEVENT
DTSTART;TZID=Europe/Berlin:20260616T100000
DTEND;TZID=Europe/Berlin:20260616T120000
DTSTAMP:20260421T224439
CREATED:20260306T090434Z
LAST-MODIFIED:20260306T090536Z
UID:10045714-1781604000-1781611200@kiezkalender-lichtenberg.de
SUMMARY:Elternfrühstück
DESCRIPTION:Gemütlich mit anderen Eltern frühstücken und sich austauschen\, Kinder können mitgebracht werden.
URL:https://kiezkalender-lichtenberg.de/veranstaltung/elternfruehstueck/2026-06-16/
LOCATION:aufatmen\, Schottstraße 2\, Berlin\, Berlin\, 10365
ATTACH;FMTTYPE=image/jpeg:https://kiezkalender-lichtenberg.de/wp-content/uploads/2026/03/Fruehstueck.jpg
ORGANIZER;CN="aufatmen":MAILTO:info@aufatmen-lichtenberg.de
END:VEVENT
BEGIN:VEVENT
DTSTART;TZID=Europe/Berlin:20260623T100000
DTEND;TZID=Europe/Berlin:20260623T120000
DTSTAMP:20260421T224439
CREATED:20260306T090434Z
LAST-MODIFIED:20260306T090536Z
UID:10045715-1782208800-1782216000@kiezkalender-lichtenberg.de
SUMMARY:Elternfrühstück
DESCRIPTION:Gemütlich mit anderen Eltern frühstücken und sich austauschen\, Kinder können mitgebracht werden.
URL:https://kiezkalender-lichtenberg.de/veranstaltung/elternfruehstueck/2026-06-23/
LOCATION:aufatmen\, Schottstraße 2\, Berlin\, Berlin\, 10365
ATTACH;FMTTYPE=image/jpeg:https://kiezkalender-lichtenberg.de/wp-content/uploads/2026/03/Fruehstueck.jpg
ORGANIZER;CN="aufatmen":MAILTO:info@aufatmen-lichtenberg.de
END:VEVENT
BEGIN:VEVENT
DTSTART;TZID=Europe/Berlin:20260630T100000
DTEND;TZID=Europe/Berlin:20260630T120000
DTSTAMP:20260421T224439
CREATED:20260306T090434Z
LAST-MODIFIED:20260306T090536Z
UID:10045716-1782813600-1782820800@kiezkalender-lichtenberg.de
SUMMARY:Elternfrühstück
DESCRIPTION:Gemütlich mit anderen Eltern frühstücken und sich austauschen\, Kinder können mitgebracht werden.
URL:https://kiezkalender-lichtenberg.de/veranstaltung/elternfruehstueck/2026-06-30/
LOCATION:aufatmen\, Schottstraße 2\, Berlin\, Berlin\, 10365
ATTACH;FMTTYPE=image/jpeg:https://kiezkalender-lichtenberg.de/wp-content/uploads/2026/03/Fruehstueck.jpg
ORGANIZER;CN="aufatmen":MAILTO:info@aufatmen-lichtenberg.de
END:VEVENT
BEGIN:VEVENT
DTSTART;TZID=Europe/Berlin:20260707T100000
DTEND;TZID=Europe/Berlin:20260707T120000
DTSTAMP:20260421T224439
CREATED:20260306T090434Z
LAST-MODIFIED:20260306T090536Z
UID:10045717-1783418400-1783425600@kiezkalender-lichtenberg.de
SUMMARY:Elternfrühstück
DESCRIPTION:Gemütlich mit anderen Eltern frühstücken und sich austauschen\, Kinder können mitgebracht werden.
URL:https://kiezkalender-lichtenberg.de/veranstaltung/elternfruehstueck/2026-07-07/
LOCATION:aufatmen\, Schottstraße 2\, Berlin\, Berlin\, 10365
ATTACH;FMTTYPE=image/jpeg:https://kiezkalender-lichtenberg.de/wp-content/uploads/2026/03/Fruehstueck.jpg
ORGANIZER;CN="aufatmen":MAILTO:info@aufatmen-lichtenberg.de
END:VEVENT
BEGIN:VEVENT
DTSTART;TZID=Europe/Berlin:20260714T100000
DTEND;TZID=Europe/Berlin:20260714T120000
DTSTAMP:20260421T224439
CREATED:20260306T090434Z
LAST-MODIFIED:20260306T090536Z
UID:10045718-1784023200-1784030400@kiezkalender-lichtenberg.de
SUMMARY:Elternfrühstück
DESCRIPTION:Gemütlich mit anderen Eltern frühstücken und sich austauschen\, Kinder können mitgebracht werden.
URL:https://kiezkalender-lichtenberg.de/veranstaltung/elternfruehstueck/2026-07-14/
LOCATION:aufatmen\, Schottstraße 2\, Berlin\, Berlin\, 10365
ATTACH;FMTTYPE=image/jpeg:https://kiezkalender-lichtenberg.de/wp-content/uploads/2026/03/Fruehstueck.jpg
ORGANIZER;CN="aufatmen":MAILTO:info@aufatmen-lichtenberg.de
END:VEVENT
BEGIN:VEVENT
DTSTART;TZID=Europe/Berlin:20260721T100000
DTEND;TZID=Europe/Berlin:20260721T120000
DTSTAMP:20260421T224439
CREATED:20260306T090434Z
LAST-MODIFIED:20260306T090536Z
UID:10045719-1784628000-1784635200@kiezkalender-lichtenberg.de
SUMMARY:Elternfrühstück
DESCRIPTION:Gemütlich mit anderen Eltern frühstücken und sich austauschen\, Kinder können mitgebracht werden.
URL:https://kiezkalender-lichtenberg.de/veranstaltung/elternfruehstueck/2026-07-21/
LOCATION:aufatmen\, Schottstraße 2\, Berlin\, Berlin\, 10365
ATTACH;FMTTYPE=image/jpeg:https://kiezkalender-lichtenberg.de/wp-content/uploads/2026/03/Fruehstueck.jpg
ORGANIZER;CN="aufatmen":MAILTO:info@aufatmen-lichtenberg.de
END:VEVENT
BEGIN:VEVENT
DTSTART;TZID=Europe/Berlin:20260728T100000
DTEND;TZID=Europe/Berlin:20260728T120000
DTSTAMP:20260421T224439
CREATED:20260306T090434Z
LAST-MODIFIED:20260306T090536Z
UID:10045720-1785232800-1785240000@kiezkalender-lichtenberg.de
SUMMARY:Elternfrühstück
DESCRIPTION:Gemütlich mit anderen Eltern frühstücken und sich austauschen\, Kinder können mitgebracht werden.
URL:https://kiezkalender-lichtenberg.de/veranstaltung/elternfruehstueck/2026-07-28/
LOCATION:aufatmen\, Schottstraße 2\, Berlin\, Berlin\, 10365
ATTACH;FMTTYPE=image/jpeg:https://kiezkalender-lichtenberg.de/wp-content/uploads/2026/03/Fruehstueck.jpg
ORGANIZER;CN="aufatmen":MAILTO:info@aufatmen-lichtenberg.de
END:VEVENT
BEGIN:VEVENT
DTSTART;TZID=Europe/Berlin:20260804T100000
DTEND;TZID=Europe/Berlin:20260804T120000
DTSTAMP:20260421T224439
CREATED:20260306T090434Z
LAST-MODIFIED:20260306T090536Z
UID:10045721-1785837600-1785844800@kiezkalender-lichtenberg.de
SUMMARY:Elternfrühstück
DESCRIPTION:Gemütlich mit anderen Eltern frühstücken und sich austauschen\, Kinder können mitgebracht werden.
URL:https://kiezkalender-lichtenberg.de/veranstaltung/elternfruehstueck/2026-08-04/
LOCATION:aufatmen\, Schottstraße 2\, Berlin\, Berlin\, 10365
ATTACH;FMTTYPE=image/jpeg:https://kiezkalender-lichtenberg.de/wp-content/uploads/2026/03/Fruehstueck.jpg
ORGANIZER;CN="aufatmen":MAILTO:info@aufatmen-lichtenberg.de
END:VEVENT
BEGIN:VEVENT
DTSTART;TZID=Europe/Berlin:20260811T100000
DTEND;TZID=Europe/Berlin:20260811T120000
DTSTAMP:20260421T224439
CREATED:20260306T090434Z
LAST-MODIFIED:20260306T090536Z
UID:10045722-1786442400-1786449600@kiezkalender-lichtenberg.de
SUMMARY:Elternfrühstück
DESCRIPTION:Gemütlich mit anderen Eltern frühstücken und sich austauschen\, Kinder können mitgebracht werden.
URL:https://kiezkalender-lichtenberg.de/veranstaltung/elternfruehstueck/2026-08-11/
LOCATION:aufatmen\, Schottstraße 2\, Berlin\, Berlin\, 10365
ATTACH;FMTTYPE=image/jpeg:https://kiezkalender-lichtenberg.de/wp-content/uploads/2026/03/Fruehstueck.jpg
ORGANIZER;CN="aufatmen":MAILTO:info@aufatmen-lichtenberg.de
END:VEVENT
BEGIN:VEVENT
DTSTART;TZID=Europe/Berlin:20260818T100000
DTEND;TZID=Europe/Berlin:20260818T120000
DTSTAMP:20260421T224439
CREATED:20260306T090434Z
LAST-MODIFIED:20260306T090536Z
UID:10045723-1787047200-1787054400@kiezkalender-lichtenberg.de
SUMMARY:Elternfrühstück
DESCRIPTION:Gemütlich mit anderen Eltern frühstücken und sich austauschen\, Kinder können mitgebracht werden.
URL:https://kiezkalender-lichtenberg.de/veranstaltung/elternfruehstueck/2026-08-18/
LOCATION:aufatmen\, Schottstraße 2\, Berlin\, Berlin\, 10365
ATTACH;FMTTYPE=image/jpeg:https://kiezkalender-lichtenberg.de/wp-content/uploads/2026/03/Fruehstueck.jpg
ORGANIZER;CN="aufatmen":MAILTO:info@aufatmen-lichtenberg.de
END:VEVENT
BEGIN:VEVENT
DTSTART;TZID=Europe/Berlin:20260825T100000
DTEND;TZID=Europe/Berlin:20260825T120000
DTSTAMP:20260421T224439
CREATED:20260306T090434Z
LAST-MODIFIED:20260306T090536Z
UID:10045724-1787652000-1787659200@kiezkalender-lichtenberg.de
SUMMARY:Elternfrühstück
DESCRIPTION:Gemütlich mit anderen Eltern frühstücken und sich austauschen\, Kinder können mitgebracht werden.
URL:https://kiezkalender-lichtenberg.de/veranstaltung/elternfruehstueck/2026-08-25/
LOCATION:aufatmen\, Schottstraße 2\, Berlin\, Berlin\, 10365
ATTACH;FMTTYPE=image/jpeg:https://kiezkalender-lichtenberg.de/wp-content/uploads/2026/03/Fruehstueck.jpg
ORGANIZER;CN="aufatmen":MAILTO:info@aufatmen-lichtenberg.de
END:VEVENT
BEGIN:VEVENT
DTSTART;TZID=Europe/Berlin:20260901T100000
DTEND;TZID=Europe/Berlin:20260901T120000
DTSTAMP:20260421T224439
CREATED:20260306T090434Z
LAST-MODIFIED:20260306T090536Z
UID:10045725-1788256800-1788264000@kiezkalender-lichtenberg.de
SUMMARY:Elternfrühstück
DESCRIPTION:Gemütlich mit anderen Eltern frühstücken und sich austauschen\, Kinder können mitgebracht werden.
URL:https://kiezkalender-lichtenberg.de/veranstaltung/elternfruehstueck/2026-09-01/
LOCATION:aufatmen\, Schottstraße 2\, Berlin\, Berlin\, 10365
ATTACH;FMTTYPE=image/jpeg:https://kiezkalender-lichtenberg.de/wp-content/uploads/2026/03/Fruehstueck.jpg
ORGANIZER;CN="aufatmen":MAILTO:info@aufatmen-lichtenberg.de
END:VEVENT
BEGIN:VEVENT
DTSTART;TZID=Europe/Berlin:20260908T100000
DTEND;TZID=Europe/Berlin:20260908T120000
DTSTAMP:20260421T224439
CREATED:20260306T090434Z
LAST-MODIFIED:20260306T090536Z
UID:10045726-1788861600-1788868800@kiezkalender-lichtenberg.de
SUMMARY:Elternfrühstück
DESCRIPTION:Gemütlich mit anderen Eltern frühstücken und sich austauschen\, Kinder können mitgebracht werden.
URL:https://kiezkalender-lichtenberg.de/veranstaltung/elternfruehstueck/2026-09-08/
LOCATION:aufatmen\, Schottstraße 2\, Berlin\, Berlin\, 10365
ATTACH;FMTTYPE=image/jpeg:https://kiezkalender-lichtenberg.de/wp-content/uploads/2026/03/Fruehstueck.jpg
ORGANIZER;CN="aufatmen":MAILTO:info@aufatmen-lichtenberg.de
END:VEVENT
BEGIN:VEVENT
DTSTART;TZID=Europe/Berlin:20260915T100000
DTEND;TZID=Europe/Berlin:20260915T120000
DTSTAMP:20260421T224439
CREATED:20260306T090434Z
LAST-MODIFIED:20260306T090536Z
UID:10045727-1789466400-1789473600@kiezkalender-lichtenberg.de
SUMMARY:Elternfrühstück
DESCRIPTION:Gemütlich mit anderen Eltern frühstücken und sich austauschen\, Kinder können mitgebracht werden.
URL:https://kiezkalender-lichtenberg.de/veranstaltung/elternfruehstueck/2026-09-15/
LOCATION:aufatmen\, Schottstraße 2\, Berlin\, Berlin\, 10365
ATTACH;FMTTYPE=image/jpeg:https://kiezkalender-lichtenberg.de/wp-content/uploads/2026/03/Fruehstueck.jpg
ORGANIZER;CN="aufatmen":MAILTO:info@aufatmen-lichtenberg.de
END:VEVENT
BEGIN:VEVENT
DTSTART;TZID=Europe/Berlin:20260922T100000
DTEND;TZID=Europe/Berlin:20260922T120000
DTSTAMP:20260421T224439
CREATED:20260306T090434Z
LAST-MODIFIED:20260306T090536Z
UID:10045728-1790071200-1790078400@kiezkalender-lichtenberg.de
SUMMARY:Elternfrühstück
DESCRIPTION:Gemütlich mit anderen Eltern frühstücken und sich austauschen\, Kinder können mitgebracht werden.
URL:https://kiezkalender-lichtenberg.de/veranstaltung/elternfruehstueck/2026-09-22/
LOCATION:aufatmen\, Schottstraße 2\, Berlin\, Berlin\, 10365
ATTACH;FMTTYPE=image/jpeg:https://kiezkalender-lichtenberg.de/wp-content/uploads/2026/03/Fruehstueck.jpg
ORGANIZER;CN="aufatmen":MAILTO:info@aufatmen-lichtenberg.de
END:VEVENT
BEGIN:VEVENT
DTSTART;TZID=Europe/Berlin:20260929T100000
DTEND;TZID=Europe/Berlin:20260929T120000
DTSTAMP:20260421T224439
CREATED:20260306T090434Z
LAST-MODIFIED:20260306T090536Z
UID:10045729-1790676000-1790683200@kiezkalender-lichtenberg.de
SUMMARY:Elternfrühstück
DESCRIPTION:Gemütlich mit anderen Eltern frühstücken und sich austauschen\, Kinder können mitgebracht werden.
URL:https://kiezkalender-lichtenberg.de/veranstaltung/elternfruehstueck/2026-09-29/
LOCATION:aufatmen\, Schottstraße 2\, Berlin\, Berlin\, 10365
ATTACH;FMTTYPE=image/jpeg:https://kiezkalender-lichtenberg.de/wp-content/uploads/2026/03/Fruehstueck.jpg
ORGANIZER;CN="aufatmen":MAILTO:info@aufatmen-lichtenberg.de
END:VEVENT
BEGIN:VEVENT
DTSTART;TZID=Europe/Berlin:20261006T100000
DTEND;TZID=Europe/Berlin:20261006T120000
DTSTAMP:20260421T224439
CREATED:20260306T090434Z
LAST-MODIFIED:20260306T090536Z
UID:10045730-1791280800-1791288000@kiezkalender-lichtenberg.de
SUMMARY:Elternfrühstück
DESCRIPTION:Gemütlich mit anderen Eltern frühstücken und sich austauschen\, Kinder können mitgebracht werden.
URL:https://kiezkalender-lichtenberg.de/veranstaltung/elternfruehstueck/2026-10-06/
LOCATION:aufatmen\, Schottstraße 2\, Berlin\, Berlin\, 10365
ATTACH;FMTTYPE=image/jpeg:https://kiezkalender-lichtenberg.de/wp-content/uploads/2026/03/Fruehstueck.jpg
ORGANIZER;CN="aufatmen":MAILTO:info@aufatmen-lichtenberg.de
END:VEVENT
BEGIN:VEVENT
DTSTART;TZID=Europe/Berlin:20261013T100000
DTEND;TZID=Europe/Berlin:20261013T120000
DTSTAMP:20260421T224439
CREATED:20260306T090434Z
LAST-MODIFIED:20260306T090536Z
UID:10045731-1791885600-1791892800@kiezkalender-lichtenberg.de
SUMMARY:Elternfrühstück
DESCRIPTION:Gemütlich mit anderen Eltern frühstücken und sich austauschen\, Kinder können mitgebracht werden.
URL:https://kiezkalender-lichtenberg.de/veranstaltung/elternfruehstueck/2026-10-13/
LOCATION:aufatmen\, Schottstraße 2\, Berlin\, Berlin\, 10365
ATTACH;FMTTYPE=image/jpeg:https://kiezkalender-lichtenberg.de/wp-content/uploads/2026/03/Fruehstueck.jpg
ORGANIZER;CN="aufatmen":MAILTO:info@aufatmen-lichtenberg.de
END:VEVENT
BEGIN:VEVENT
DTSTART;TZID=Europe/Berlin:20261020T100000
DTEND;TZID=Europe/Berlin:20261020T120000
DTSTAMP:20260421T224439
CREATED:20260306T090434Z
LAST-MODIFIED:20260306T090536Z
UID:10045732-1792490400-1792497600@kiezkalender-lichtenberg.de
SUMMARY:Elternfrühstück
DESCRIPTION:Gemütlich mit anderen Eltern frühstücken und sich austauschen\, Kinder können mitgebracht werden.
URL:https://kiezkalender-lichtenberg.de/veranstaltung/elternfruehstueck/2026-10-20/
LOCATION:aufatmen\, Schottstraße 2\, Berlin\, Berlin\, 10365
ATTACH;FMTTYPE=image/jpeg:https://kiezkalender-lichtenberg.de/wp-content/uploads/2026/03/Fruehstueck.jpg
ORGANIZER;CN="aufatmen":MAILTO:info@aufatmen-lichtenberg.de
END:VEVENT
BEGIN:VEVENT
DTSTART;TZID=Europe/Berlin:20261027T100000
DTEND;TZID=Europe/Berlin:20261027T120000
DTSTAMP:20260421T224439
CREATED:20260306T090434Z
LAST-MODIFIED:20260306T090536Z
UID:10045733-1793095200-1793102400@kiezkalender-lichtenberg.de
SUMMARY:Elternfrühstück
DESCRIPTION:Gemütlich mit anderen Eltern frühstücken und sich austauschen\, Kinder können mitgebracht werden.
URL:https://kiezkalender-lichtenberg.de/veranstaltung/elternfruehstueck/2026-10-27/
LOCATION:aufatmen\, Schottstraße 2\, Berlin\, Berlin\, 10365
ATTACH;FMTTYPE=image/jpeg:https://kiezkalender-lichtenberg.de/wp-content/uploads/2026/03/Fruehstueck.jpg
ORGANIZER;CN="aufatmen":MAILTO:info@aufatmen-lichtenberg.de
END:VEVENT
BEGIN:VEVENT
DTSTART;TZID=Europe/Berlin:20261103T100000
DTEND;TZID=Europe/Berlin:20261103T120000
DTSTAMP:20260421T224439
CREATED:20260306T090434Z
LAST-MODIFIED:20260306T090536Z
UID:10045734-1793700000-1793707200@kiezkalender-lichtenberg.de
SUMMARY:Elternfrühstück
DESCRIPTION:Gemütlich mit anderen Eltern frühstücken und sich austauschen\, Kinder können mitgebracht werden.
URL:https://kiezkalender-lichtenberg.de/veranstaltung/elternfruehstueck/2026-11-03/
LOCATION:aufatmen\, Schottstraße 2\, Berlin\, Berlin\, 10365
ATTACH;FMTTYPE=image/jpeg:https://kiezkalender-lichtenberg.de/wp-content/uploads/2026/03/Fruehstueck.jpg
ORGANIZER;CN="aufatmen":MAILTO:info@aufatmen-lichtenberg.de
END:VEVENT
BEGIN:VEVENT
DTSTART;TZID=Europe/Berlin:20261110T100000
DTEND;TZID=Europe/Berlin:20261110T120000
DTSTAMP:20260421T224439
CREATED:20260306T090434Z
LAST-MODIFIED:20260306T090536Z
UID:10045735-1794304800-1794312000@kiezkalender-lichtenberg.de
SUMMARY:Elternfrühstück
DESCRIPTION:Gemütlich mit anderen Eltern frühstücken und sich austauschen\, Kinder können mitgebracht werden.
URL:https://kiezkalender-lichtenberg.de/veranstaltung/elternfruehstueck/2026-11-10/
LOCATION:aufatmen\, Schottstraße 2\, Berlin\, Berlin\, 10365
ATTACH;FMTTYPE=image/jpeg:https://kiezkalender-lichtenberg.de/wp-content/uploads/2026/03/Fruehstueck.jpg
ORGANIZER;CN="aufatmen":MAILTO:info@aufatmen-lichtenberg.de
END:VEVENT
BEGIN:VEVENT
DTSTART;TZID=Europe/Berlin:20261117T100000
DTEND;TZID=Europe/Berlin:20261117T120000
DTSTAMP:20260421T224439
CREATED:20260306T090434Z
LAST-MODIFIED:20260306T090536Z
UID:10045736-1794909600-1794916800@kiezkalender-lichtenberg.de
SUMMARY:Elternfrühstück
DESCRIPTION:Gemütlich mit anderen Eltern frühstücken und sich austauschen\, Kinder können mitgebracht werden.
URL:https://kiezkalender-lichtenberg.de/veranstaltung/elternfruehstueck/2026-11-17/
LOCATION:aufatmen\, Schottstraße 2\, Berlin\, Berlin\, 10365
ATTACH;FMTTYPE=image/jpeg:https://kiezkalender-lichtenberg.de/wp-content/uploads/2026/03/Fruehstueck.jpg
ORGANIZER;CN="aufatmen":MAILTO:info@aufatmen-lichtenberg.de
END:VEVENT
END:VCALENDAR