BEGIN:VCALENDAR
VERSION:2.0
PRODID:-//Kiezkalender Lichtenberg - ECPv6.15.12.2//NONSGML v1.0//EN
CALSCALE:GREGORIAN
METHOD:PUBLISH
X-WR-CALNAME:Kiezkalender Lichtenberg
X-ORIGINAL-URL:https://kiezkalender-lichtenberg.de
X-WR-CALDESC:Veranstaltungen für Kiezkalender Lichtenberg
REFRESH-INTERVAL;VALUE=DURATION:PT1H
X-Robots-Tag:noindex
X-PUBLISHED-TTL:PT1H
BEGIN:VTIMEZONE
TZID:Europe/Berlin
BEGIN:DAYLIGHT
TZOFFSETFROM:+0100
TZOFFSETTO:+0200
TZNAME:CEST
DTSTART:20250330T010000
END:DAYLIGHT
BEGIN:STANDARD
TZOFFSETFROM:+0200
TZOFFSETTO:+0100
TZNAME:CET
DTSTART:20251026T010000
END:STANDARD
BEGIN:DAYLIGHT
TZOFFSETFROM:+0100
TZOFFSETTO:+0200
TZNAME:CEST
DTSTART:20260329T010000
END:DAYLIGHT
BEGIN:STANDARD
TZOFFSETFROM:+0200
TZOFFSETTO:+0100
TZNAME:CET
DTSTART:20261025T010000
END:STANDARD
BEGIN:DAYLIGHT
TZOFFSETFROM:+0100
TZOFFSETTO:+0200
TZNAME:CEST
DTSTART:20270328T010000
END:DAYLIGHT
BEGIN:STANDARD
TZOFFSETFROM:+0200
TZOFFSETTO:+0100
TZNAME:CET
DTSTART:20271031T010000
END:STANDARD
END:VTIMEZONE
BEGIN:VEVENT
DTSTART;TZID=Europe/Berlin:20260803T154500
DTEND;TZID=Europe/Berlin:20260803T163000
DTSTAMP:20260424T141743
CREATED:20260408T072714Z
LAST-MODIFIED:20260408T072714Z
UID:10047256-1785771900-1785774600@kiezkalender-lichtenberg.de
SUMMARY:Modernes Ballett ab 3 Jahren
DESCRIPTION:Kindertanz im Familienzentrum aufatmen mit Bea von der Tanzschule LUX.
URL:https://kiezkalender-lichtenberg.de/veranstaltung/modernes-ballett-ab-3-jahren/2026-08-03/
LOCATION:aufatmen\, Schottstraße 2\, Berlin\, Berlin\, 10365
ATTACH;FMTTYPE=image/jpeg:https://kiezkalender-lichtenberg.de/wp-content/uploads/2026/04/Kindertanz_Aufatmen.jpg
ORGANIZER;CN="Tanzschule LUX":MAILTO:info@tanzschule-lux.de
END:VEVENT
BEGIN:VEVENT
DTSTART;TZID=Europe/Berlin:20260803T163500
DTEND;TZID=Europe/Berlin:20260803T172000
DTSTAMP:20260424T141743
CREATED:20260408T072916Z
LAST-MODIFIED:20260408T072916Z
UID:10047517-1785774900-1785777600@kiezkalender-lichtenberg.de
SUMMARY:Modern Jazz Dance ab 6 Jahren
DESCRIPTION:Kindertanz mit Bea von der Tanzschule LUX im Familienzentrum aufatmen.
URL:https://kiezkalender-lichtenberg.de/veranstaltung/modern-jazz-dance-ab-6-jahren/2026-08-03/
LOCATION:aufatmen\, Schottstraße 2\, Berlin\, Berlin\, 10365
ATTACH;FMTTYPE=image/jpeg:https://kiezkalender-lichtenberg.de/wp-content/uploads/2026/04/Kindertanz_Aufatmen-1.jpg
ORGANIZER;CN="Tanzschule LUX":MAILTO:info@tanzschule-lux.de
END:VEVENT
BEGIN:VEVENT
DTSTART;TZID=Europe/Berlin:20260803T173000
DTEND;TZID=Europe/Berlin:20260803T183000
DTSTAMP:20260424T141743
CREATED:20260408T073222Z
LAST-MODIFIED:20260408T073725Z
UID:10047778-1785778200-1785781800@kiezkalender-lichtenberg.de
SUMMARY:Modern Jazz Dance ab 10 Jahren
DESCRIPTION:Tanzkurs für Teens mit Bea von der Tanzschule LUX im Familienzentrum aufatmen.
URL:https://kiezkalender-lichtenberg.de/veranstaltung/modern-jazz-dance-ab-10-jahren/2026-08-03/
LOCATION:aufatmen\, Schottstraße 2\, Berlin\, Berlin\, 10365
ATTACH;FMTTYPE=image/jpeg:https://kiezkalender-lichtenberg.de/wp-content/uploads/2026/04/Kindertanz_Aufatmen-2.jpg
ORGANIZER;CN="Tanzschule LUX":MAILTO:info@tanzschule-lux.de
END:VEVENT
BEGIN:VEVENT
DTSTART;TZID=Europe/Berlin:20260803T183000
DTEND;TZID=Europe/Berlin:20260803T200000
DTSTAMP:20260424T141743
CREATED:20260408T073538Z
LAST-MODIFIED:20260408T073538Z
UID:10048039-1785781800-1785787200@kiezkalender-lichtenberg.de
SUMMARY:Modern Jazz Dance für Erwachsene
DESCRIPTION:Tanzkurs mit Bea von der Tanzschule LUX im Familienzentrum aufatmen.
URL:https://kiezkalender-lichtenberg.de/veranstaltung/modern-jazz-dance-fuer-erwachsene/2026-08-03/
LOCATION:aufatmen\, Schottstraße 2\, Berlin\, Berlin\, 10365
ATTACH;FMTTYPE=image/jpeg:https://kiezkalender-lichtenberg.de/wp-content/uploads/2026/04/Modern-Jazz-Dance_Aufatmen.jpg
ORGANIZER;CN="Tanzschule LUX":MAILTO:info@tanzschule-lux.de
END:VEVENT
BEGIN:VEVENT
DTSTART;TZID=Europe/Berlin:20260810T154500
DTEND;TZID=Europe/Berlin:20260810T163000
DTSTAMP:20260424T141743
CREATED:20260408T072714Z
LAST-MODIFIED:20260408T072714Z
UID:10047257-1786376700-1786379400@kiezkalender-lichtenberg.de
SUMMARY:Modernes Ballett ab 3 Jahren
DESCRIPTION:Kindertanz im Familienzentrum aufatmen mit Bea von der Tanzschule LUX.
URL:https://kiezkalender-lichtenberg.de/veranstaltung/modernes-ballett-ab-3-jahren/2026-08-10/
LOCATION:aufatmen\, Schottstraße 2\, Berlin\, Berlin\, 10365
ATTACH;FMTTYPE=image/jpeg:https://kiezkalender-lichtenberg.de/wp-content/uploads/2026/04/Kindertanz_Aufatmen.jpg
ORGANIZER;CN="Tanzschule LUX":MAILTO:info@tanzschule-lux.de
END:VEVENT
BEGIN:VEVENT
DTSTART;TZID=Europe/Berlin:20260810T163500
DTEND;TZID=Europe/Berlin:20260810T172000
DTSTAMP:20260424T141743
CREATED:20260408T072916Z
LAST-MODIFIED:20260408T072916Z
UID:10047518-1786379700-1786382400@kiezkalender-lichtenberg.de
SUMMARY:Modern Jazz Dance ab 6 Jahren
DESCRIPTION:Kindertanz mit Bea von der Tanzschule LUX im Familienzentrum aufatmen.
URL:https://kiezkalender-lichtenberg.de/veranstaltung/modern-jazz-dance-ab-6-jahren/2026-08-10/
LOCATION:aufatmen\, Schottstraße 2\, Berlin\, Berlin\, 10365
ATTACH;FMTTYPE=image/jpeg:https://kiezkalender-lichtenberg.de/wp-content/uploads/2026/04/Kindertanz_Aufatmen-1.jpg
ORGANIZER;CN="Tanzschule LUX":MAILTO:info@tanzschule-lux.de
END:VEVENT
BEGIN:VEVENT
DTSTART;TZID=Europe/Berlin:20260810T173000
DTEND;TZID=Europe/Berlin:20260810T183000
DTSTAMP:20260424T141743
CREATED:20260408T073222Z
LAST-MODIFIED:20260408T073725Z
UID:10047779-1786383000-1786386600@kiezkalender-lichtenberg.de
SUMMARY:Modern Jazz Dance ab 10 Jahren
DESCRIPTION:Tanzkurs für Teens mit Bea von der Tanzschule LUX im Familienzentrum aufatmen.
URL:https://kiezkalender-lichtenberg.de/veranstaltung/modern-jazz-dance-ab-10-jahren/2026-08-10/
LOCATION:aufatmen\, Schottstraße 2\, Berlin\, Berlin\, 10365
ATTACH;FMTTYPE=image/jpeg:https://kiezkalender-lichtenberg.de/wp-content/uploads/2026/04/Kindertanz_Aufatmen-2.jpg
ORGANIZER;CN="Tanzschule LUX":MAILTO:info@tanzschule-lux.de
END:VEVENT
BEGIN:VEVENT
DTSTART;TZID=Europe/Berlin:20260810T183000
DTEND;TZID=Europe/Berlin:20260810T200000
DTSTAMP:20260424T141743
CREATED:20260408T073538Z
LAST-MODIFIED:20260408T073538Z
UID:10048040-1786386600-1786392000@kiezkalender-lichtenberg.de
SUMMARY:Modern Jazz Dance für Erwachsene
DESCRIPTION:Tanzkurs mit Bea von der Tanzschule LUX im Familienzentrum aufatmen.
URL:https://kiezkalender-lichtenberg.de/veranstaltung/modern-jazz-dance-fuer-erwachsene/2026-08-10/
LOCATION:aufatmen\, Schottstraße 2\, Berlin\, Berlin\, 10365
ATTACH;FMTTYPE=image/jpeg:https://kiezkalender-lichtenberg.de/wp-content/uploads/2026/04/Modern-Jazz-Dance_Aufatmen.jpg
ORGANIZER;CN="Tanzschule LUX":MAILTO:info@tanzschule-lux.de
END:VEVENT
BEGIN:VEVENT
DTSTART;TZID=Europe/Berlin:20260817T154500
DTEND;TZID=Europe/Berlin:20260817T163000
DTSTAMP:20260424T141743
CREATED:20260408T072714Z
LAST-MODIFIED:20260408T072714Z
UID:10047258-1786981500-1786984200@kiezkalender-lichtenberg.de
SUMMARY:Modernes Ballett ab 3 Jahren
DESCRIPTION:Kindertanz im Familienzentrum aufatmen mit Bea von der Tanzschule LUX.
URL:https://kiezkalender-lichtenberg.de/veranstaltung/modernes-ballett-ab-3-jahren/2026-08-17/
LOCATION:aufatmen\, Schottstraße 2\, Berlin\, Berlin\, 10365
ATTACH;FMTTYPE=image/jpeg:https://kiezkalender-lichtenberg.de/wp-content/uploads/2026/04/Kindertanz_Aufatmen.jpg
ORGANIZER;CN="Tanzschule LUX":MAILTO:info@tanzschule-lux.de
END:VEVENT
BEGIN:VEVENT
DTSTART;TZID=Europe/Berlin:20260817T163500
DTEND;TZID=Europe/Berlin:20260817T172000
DTSTAMP:20260424T141743
CREATED:20260408T072916Z
LAST-MODIFIED:20260408T072916Z
UID:10047519-1786984500-1786987200@kiezkalender-lichtenberg.de
SUMMARY:Modern Jazz Dance ab 6 Jahren
DESCRIPTION:Kindertanz mit Bea von der Tanzschule LUX im Familienzentrum aufatmen.
URL:https://kiezkalender-lichtenberg.de/veranstaltung/modern-jazz-dance-ab-6-jahren/2026-08-17/
LOCATION:aufatmen\, Schottstraße 2\, Berlin\, Berlin\, 10365
ATTACH;FMTTYPE=image/jpeg:https://kiezkalender-lichtenberg.de/wp-content/uploads/2026/04/Kindertanz_Aufatmen-1.jpg
ORGANIZER;CN="Tanzschule LUX":MAILTO:info@tanzschule-lux.de
END:VEVENT
BEGIN:VEVENT
DTSTART;TZID=Europe/Berlin:20260817T173000
DTEND;TZID=Europe/Berlin:20260817T183000
DTSTAMP:20260424T141743
CREATED:20260408T073222Z
LAST-MODIFIED:20260408T073725Z
UID:10047780-1786987800-1786991400@kiezkalender-lichtenberg.de
SUMMARY:Modern Jazz Dance ab 10 Jahren
DESCRIPTION:Tanzkurs für Teens mit Bea von der Tanzschule LUX im Familienzentrum aufatmen.
URL:https://kiezkalender-lichtenberg.de/veranstaltung/modern-jazz-dance-ab-10-jahren/2026-08-17/
LOCATION:aufatmen\, Schottstraße 2\, Berlin\, Berlin\, 10365
ATTACH;FMTTYPE=image/jpeg:https://kiezkalender-lichtenberg.de/wp-content/uploads/2026/04/Kindertanz_Aufatmen-2.jpg
ORGANIZER;CN="Tanzschule LUX":MAILTO:info@tanzschule-lux.de
END:VEVENT
BEGIN:VEVENT
DTSTART;TZID=Europe/Berlin:20260817T183000
DTEND;TZID=Europe/Berlin:20260817T200000
DTSTAMP:20260424T141743
CREATED:20260408T073538Z
LAST-MODIFIED:20260408T073538Z
UID:10048041-1786991400-1786996800@kiezkalender-lichtenberg.de
SUMMARY:Modern Jazz Dance für Erwachsene
DESCRIPTION:Tanzkurs mit Bea von der Tanzschule LUX im Familienzentrum aufatmen.
URL:https://kiezkalender-lichtenberg.de/veranstaltung/modern-jazz-dance-fuer-erwachsene/2026-08-17/
LOCATION:aufatmen\, Schottstraße 2\, Berlin\, Berlin\, 10365
ATTACH;FMTTYPE=image/jpeg:https://kiezkalender-lichtenberg.de/wp-content/uploads/2026/04/Modern-Jazz-Dance_Aufatmen.jpg
ORGANIZER;CN="Tanzschule LUX":MAILTO:info@tanzschule-lux.de
END:VEVENT
BEGIN:VEVENT
DTSTART;TZID=Europe/Berlin:20260824T154500
DTEND;TZID=Europe/Berlin:20260824T163000
DTSTAMP:20260424T141743
CREATED:20260408T072714Z
LAST-MODIFIED:20260408T072714Z
UID:10047259-1787586300-1787589000@kiezkalender-lichtenberg.de
SUMMARY:Modernes Ballett ab 3 Jahren
DESCRIPTION:Kindertanz im Familienzentrum aufatmen mit Bea von der Tanzschule LUX.
URL:https://kiezkalender-lichtenberg.de/veranstaltung/modernes-ballett-ab-3-jahren/2026-08-24/
LOCATION:aufatmen\, Schottstraße 2\, Berlin\, Berlin\, 10365
ATTACH;FMTTYPE=image/jpeg:https://kiezkalender-lichtenberg.de/wp-content/uploads/2026/04/Kindertanz_Aufatmen.jpg
ORGANIZER;CN="Tanzschule LUX":MAILTO:info@tanzschule-lux.de
END:VEVENT
BEGIN:VEVENT
DTSTART;TZID=Europe/Berlin:20260824T163500
DTEND;TZID=Europe/Berlin:20260824T172000
DTSTAMP:20260424T141743
CREATED:20260408T072916Z
LAST-MODIFIED:20260408T072916Z
UID:10047520-1787589300-1787592000@kiezkalender-lichtenberg.de
SUMMARY:Modern Jazz Dance ab 6 Jahren
DESCRIPTION:Kindertanz mit Bea von der Tanzschule LUX im Familienzentrum aufatmen.
URL:https://kiezkalender-lichtenberg.de/veranstaltung/modern-jazz-dance-ab-6-jahren/2026-08-24/
LOCATION:aufatmen\, Schottstraße 2\, Berlin\, Berlin\, 10365
ATTACH;FMTTYPE=image/jpeg:https://kiezkalender-lichtenberg.de/wp-content/uploads/2026/04/Kindertanz_Aufatmen-1.jpg
ORGANIZER;CN="Tanzschule LUX":MAILTO:info@tanzschule-lux.de
END:VEVENT
BEGIN:VEVENT
DTSTART;TZID=Europe/Berlin:20260824T173000
DTEND;TZID=Europe/Berlin:20260824T183000
DTSTAMP:20260424T141743
CREATED:20260408T073222Z
LAST-MODIFIED:20260408T073725Z
UID:10047781-1787592600-1787596200@kiezkalender-lichtenberg.de
SUMMARY:Modern Jazz Dance ab 10 Jahren
DESCRIPTION:Tanzkurs für Teens mit Bea von der Tanzschule LUX im Familienzentrum aufatmen.
URL:https://kiezkalender-lichtenberg.de/veranstaltung/modern-jazz-dance-ab-10-jahren/2026-08-24/
LOCATION:aufatmen\, Schottstraße 2\, Berlin\, Berlin\, 10365
ATTACH;FMTTYPE=image/jpeg:https://kiezkalender-lichtenberg.de/wp-content/uploads/2026/04/Kindertanz_Aufatmen-2.jpg
ORGANIZER;CN="Tanzschule LUX":MAILTO:info@tanzschule-lux.de
END:VEVENT
BEGIN:VEVENT
DTSTART;TZID=Europe/Berlin:20260824T183000
DTEND;TZID=Europe/Berlin:20260824T200000
DTSTAMP:20260424T141743
CREATED:20260408T073538Z
LAST-MODIFIED:20260408T073538Z
UID:10048042-1787596200-1787601600@kiezkalender-lichtenberg.de
SUMMARY:Modern Jazz Dance für Erwachsene
DESCRIPTION:Tanzkurs mit Bea von der Tanzschule LUX im Familienzentrum aufatmen.
URL:https://kiezkalender-lichtenberg.de/veranstaltung/modern-jazz-dance-fuer-erwachsene/2026-08-24/
LOCATION:aufatmen\, Schottstraße 2\, Berlin\, Berlin\, 10365
ATTACH;FMTTYPE=image/jpeg:https://kiezkalender-lichtenberg.de/wp-content/uploads/2026/04/Modern-Jazz-Dance_Aufatmen.jpg
ORGANIZER;CN="Tanzschule LUX":MAILTO:info@tanzschule-lux.de
END:VEVENT
BEGIN:VEVENT
DTSTART;TZID=Europe/Berlin:20260831T154500
DTEND;TZID=Europe/Berlin:20260831T163000
DTSTAMP:20260424T141743
CREATED:20260408T072714Z
LAST-MODIFIED:20260408T072714Z
UID:10047260-1788191100-1788193800@kiezkalender-lichtenberg.de
SUMMARY:Modernes Ballett ab 3 Jahren
DESCRIPTION:Kindertanz im Familienzentrum aufatmen mit Bea von der Tanzschule LUX.
URL:https://kiezkalender-lichtenberg.de/veranstaltung/modernes-ballett-ab-3-jahren/2026-08-31/
LOCATION:aufatmen\, Schottstraße 2\, Berlin\, Berlin\, 10365
ATTACH;FMTTYPE=image/jpeg:https://kiezkalender-lichtenberg.de/wp-content/uploads/2026/04/Kindertanz_Aufatmen.jpg
ORGANIZER;CN="Tanzschule LUX":MAILTO:info@tanzschule-lux.de
END:VEVENT
BEGIN:VEVENT
DTSTART;TZID=Europe/Berlin:20260831T163500
DTEND;TZID=Europe/Berlin:20260831T172000
DTSTAMP:20260424T141743
CREATED:20260408T072916Z
LAST-MODIFIED:20260408T072916Z
UID:10047521-1788194100-1788196800@kiezkalender-lichtenberg.de
SUMMARY:Modern Jazz Dance ab 6 Jahren
DESCRIPTION:Kindertanz mit Bea von der Tanzschule LUX im Familienzentrum aufatmen.
URL:https://kiezkalender-lichtenberg.de/veranstaltung/modern-jazz-dance-ab-6-jahren/2026-08-31/
LOCATION:aufatmen\, Schottstraße 2\, Berlin\, Berlin\, 10365
ATTACH;FMTTYPE=image/jpeg:https://kiezkalender-lichtenberg.de/wp-content/uploads/2026/04/Kindertanz_Aufatmen-1.jpg
ORGANIZER;CN="Tanzschule LUX":MAILTO:info@tanzschule-lux.de
END:VEVENT
BEGIN:VEVENT
DTSTART;TZID=Europe/Berlin:20260831T173000
DTEND;TZID=Europe/Berlin:20260831T183000
DTSTAMP:20260424T141743
CREATED:20260408T073222Z
LAST-MODIFIED:20260408T073725Z
UID:10047782-1788197400-1788201000@kiezkalender-lichtenberg.de
SUMMARY:Modern Jazz Dance ab 10 Jahren
DESCRIPTION:Tanzkurs für Teens mit Bea von der Tanzschule LUX im Familienzentrum aufatmen.
URL:https://kiezkalender-lichtenberg.de/veranstaltung/modern-jazz-dance-ab-10-jahren/2026-08-31/
LOCATION:aufatmen\, Schottstraße 2\, Berlin\, Berlin\, 10365
ATTACH;FMTTYPE=image/jpeg:https://kiezkalender-lichtenberg.de/wp-content/uploads/2026/04/Kindertanz_Aufatmen-2.jpg
ORGANIZER;CN="Tanzschule LUX":MAILTO:info@tanzschule-lux.de
END:VEVENT
BEGIN:VEVENT
DTSTART;TZID=Europe/Berlin:20260831T183000
DTEND;TZID=Europe/Berlin:20260831T200000
DTSTAMP:20260424T141743
CREATED:20260408T073538Z
LAST-MODIFIED:20260408T073538Z
UID:10048043-1788201000-1788206400@kiezkalender-lichtenberg.de
SUMMARY:Modern Jazz Dance für Erwachsene
DESCRIPTION:Tanzkurs mit Bea von der Tanzschule LUX im Familienzentrum aufatmen.
URL:https://kiezkalender-lichtenberg.de/veranstaltung/modern-jazz-dance-fuer-erwachsene/2026-08-31/
LOCATION:aufatmen\, Schottstraße 2\, Berlin\, Berlin\, 10365
ATTACH;FMTTYPE=image/jpeg:https://kiezkalender-lichtenberg.de/wp-content/uploads/2026/04/Modern-Jazz-Dance_Aufatmen.jpg
ORGANIZER;CN="Tanzschule LUX":MAILTO:info@tanzschule-lux.de
END:VEVENT
BEGIN:VEVENT
DTSTART;TZID=Europe/Berlin:20260907T154500
DTEND;TZID=Europe/Berlin:20260907T163000
DTSTAMP:20260424T141743
CREATED:20260408T072714Z
LAST-MODIFIED:20260408T072714Z
UID:10047261-1788795900-1788798600@kiezkalender-lichtenberg.de
SUMMARY:Modernes Ballett ab 3 Jahren
DESCRIPTION:Kindertanz im Familienzentrum aufatmen mit Bea von der Tanzschule LUX.
URL:https://kiezkalender-lichtenberg.de/veranstaltung/modernes-ballett-ab-3-jahren/2026-09-07/
LOCATION:aufatmen\, Schottstraße 2\, Berlin\, Berlin\, 10365
ATTACH;FMTTYPE=image/jpeg:https://kiezkalender-lichtenberg.de/wp-content/uploads/2026/04/Kindertanz_Aufatmen.jpg
ORGANIZER;CN="Tanzschule LUX":MAILTO:info@tanzschule-lux.de
END:VEVENT
BEGIN:VEVENT
DTSTART;TZID=Europe/Berlin:20260907T163500
DTEND;TZID=Europe/Berlin:20260907T172000
DTSTAMP:20260424T141743
CREATED:20260408T072916Z
LAST-MODIFIED:20260408T072916Z
UID:10047522-1788798900-1788801600@kiezkalender-lichtenberg.de
SUMMARY:Modern Jazz Dance ab 6 Jahren
DESCRIPTION:Kindertanz mit Bea von der Tanzschule LUX im Familienzentrum aufatmen.
URL:https://kiezkalender-lichtenberg.de/veranstaltung/modern-jazz-dance-ab-6-jahren/2026-09-07/
LOCATION:aufatmen\, Schottstraße 2\, Berlin\, Berlin\, 10365
ATTACH;FMTTYPE=image/jpeg:https://kiezkalender-lichtenberg.de/wp-content/uploads/2026/04/Kindertanz_Aufatmen-1.jpg
ORGANIZER;CN="Tanzschule LUX":MAILTO:info@tanzschule-lux.de
END:VEVENT
BEGIN:VEVENT
DTSTART;TZID=Europe/Berlin:20260907T173000
DTEND;TZID=Europe/Berlin:20260907T183000
DTSTAMP:20260424T141743
CREATED:20260408T073222Z
LAST-MODIFIED:20260408T073725Z
UID:10047783-1788802200-1788805800@kiezkalender-lichtenberg.de
SUMMARY:Modern Jazz Dance ab 10 Jahren
DESCRIPTION:Tanzkurs für Teens mit Bea von der Tanzschule LUX im Familienzentrum aufatmen.
URL:https://kiezkalender-lichtenberg.de/veranstaltung/modern-jazz-dance-ab-10-jahren/2026-09-07/
LOCATION:aufatmen\, Schottstraße 2\, Berlin\, Berlin\, 10365
ATTACH;FMTTYPE=image/jpeg:https://kiezkalender-lichtenberg.de/wp-content/uploads/2026/04/Kindertanz_Aufatmen-2.jpg
ORGANIZER;CN="Tanzschule LUX":MAILTO:info@tanzschule-lux.de
END:VEVENT
BEGIN:VEVENT
DTSTART;TZID=Europe/Berlin:20260907T183000
DTEND;TZID=Europe/Berlin:20260907T200000
DTSTAMP:20260424T141743
CREATED:20260408T073538Z
LAST-MODIFIED:20260408T073538Z
UID:10048044-1788805800-1788811200@kiezkalender-lichtenberg.de
SUMMARY:Modern Jazz Dance für Erwachsene
DESCRIPTION:Tanzkurs mit Bea von der Tanzschule LUX im Familienzentrum aufatmen.
URL:https://kiezkalender-lichtenberg.de/veranstaltung/modern-jazz-dance-fuer-erwachsene/2026-09-07/
LOCATION:aufatmen\, Schottstraße 2\, Berlin\, Berlin\, 10365
ATTACH;FMTTYPE=image/jpeg:https://kiezkalender-lichtenberg.de/wp-content/uploads/2026/04/Modern-Jazz-Dance_Aufatmen.jpg
ORGANIZER;CN="Tanzschule LUX":MAILTO:info@tanzschule-lux.de
END:VEVENT
BEGIN:VEVENT
DTSTART;TZID=Europe/Berlin:20260914T154500
DTEND;TZID=Europe/Berlin:20260914T163000
DTSTAMP:20260424T141743
CREATED:20260408T072714Z
LAST-MODIFIED:20260408T072714Z
UID:10047262-1789400700-1789403400@kiezkalender-lichtenberg.de
SUMMARY:Modernes Ballett ab 3 Jahren
DESCRIPTION:Kindertanz im Familienzentrum aufatmen mit Bea von der Tanzschule LUX.
URL:https://kiezkalender-lichtenberg.de/veranstaltung/modernes-ballett-ab-3-jahren/2026-09-14/
LOCATION:aufatmen\, Schottstraße 2\, Berlin\, Berlin\, 10365
ATTACH;FMTTYPE=image/jpeg:https://kiezkalender-lichtenberg.de/wp-content/uploads/2026/04/Kindertanz_Aufatmen.jpg
ORGANIZER;CN="Tanzschule LUX":MAILTO:info@tanzschule-lux.de
END:VEVENT
BEGIN:VEVENT
DTSTART;TZID=Europe/Berlin:20260914T163500
DTEND;TZID=Europe/Berlin:20260914T172000
DTSTAMP:20260424T141743
CREATED:20260408T072916Z
LAST-MODIFIED:20260408T072916Z
UID:10047523-1789403700-1789406400@kiezkalender-lichtenberg.de
SUMMARY:Modern Jazz Dance ab 6 Jahren
DESCRIPTION:Kindertanz mit Bea von der Tanzschule LUX im Familienzentrum aufatmen.
URL:https://kiezkalender-lichtenberg.de/veranstaltung/modern-jazz-dance-ab-6-jahren/2026-09-14/
LOCATION:aufatmen\, Schottstraße 2\, Berlin\, Berlin\, 10365
ATTACH;FMTTYPE=image/jpeg:https://kiezkalender-lichtenberg.de/wp-content/uploads/2026/04/Kindertanz_Aufatmen-1.jpg
ORGANIZER;CN="Tanzschule LUX":MAILTO:info@tanzschule-lux.de
END:VEVENT
BEGIN:VEVENT
DTSTART;TZID=Europe/Berlin:20260914T173000
DTEND;TZID=Europe/Berlin:20260914T183000
DTSTAMP:20260424T141743
CREATED:20260408T073222Z
LAST-MODIFIED:20260408T073725Z
UID:10047784-1789407000-1789410600@kiezkalender-lichtenberg.de
SUMMARY:Modern Jazz Dance ab 10 Jahren
DESCRIPTION:Tanzkurs für Teens mit Bea von der Tanzschule LUX im Familienzentrum aufatmen.
URL:https://kiezkalender-lichtenberg.de/veranstaltung/modern-jazz-dance-ab-10-jahren/2026-09-14/
LOCATION:aufatmen\, Schottstraße 2\, Berlin\, Berlin\, 10365
ATTACH;FMTTYPE=image/jpeg:https://kiezkalender-lichtenberg.de/wp-content/uploads/2026/04/Kindertanz_Aufatmen-2.jpg
ORGANIZER;CN="Tanzschule LUX":MAILTO:info@tanzschule-lux.de
END:VEVENT
BEGIN:VEVENT
DTSTART;TZID=Europe/Berlin:20260914T183000
DTEND;TZID=Europe/Berlin:20260914T200000
DTSTAMP:20260424T141743
CREATED:20260408T073538Z
LAST-MODIFIED:20260408T073538Z
UID:10048045-1789410600-1789416000@kiezkalender-lichtenberg.de
SUMMARY:Modern Jazz Dance für Erwachsene
DESCRIPTION:Tanzkurs mit Bea von der Tanzschule LUX im Familienzentrum aufatmen.
URL:https://kiezkalender-lichtenberg.de/veranstaltung/modern-jazz-dance-fuer-erwachsene/2026-09-14/
LOCATION:aufatmen\, Schottstraße 2\, Berlin\, Berlin\, 10365
ATTACH;FMTTYPE=image/jpeg:https://kiezkalender-lichtenberg.de/wp-content/uploads/2026/04/Modern-Jazz-Dance_Aufatmen.jpg
ORGANIZER;CN="Tanzschule LUX":MAILTO:info@tanzschule-lux.de
END:VEVENT
BEGIN:VEVENT
DTSTART;TZID=Europe/Berlin:20260921T154500
DTEND;TZID=Europe/Berlin:20260921T163000
DTSTAMP:20260424T141743
CREATED:20260408T072714Z
LAST-MODIFIED:20260408T072714Z
UID:10047263-1790005500-1790008200@kiezkalender-lichtenberg.de
SUMMARY:Modernes Ballett ab 3 Jahren
DESCRIPTION:Kindertanz im Familienzentrum aufatmen mit Bea von der Tanzschule LUX.
URL:https://kiezkalender-lichtenberg.de/veranstaltung/modernes-ballett-ab-3-jahren/2026-09-21/
LOCATION:aufatmen\, Schottstraße 2\, Berlin\, Berlin\, 10365
ATTACH;FMTTYPE=image/jpeg:https://kiezkalender-lichtenberg.de/wp-content/uploads/2026/04/Kindertanz_Aufatmen.jpg
ORGANIZER;CN="Tanzschule LUX":MAILTO:info@tanzschule-lux.de
END:VEVENT
BEGIN:VEVENT
DTSTART;TZID=Europe/Berlin:20260921T163500
DTEND;TZID=Europe/Berlin:20260921T172000
DTSTAMP:20260424T141743
CREATED:20260408T072916Z
LAST-MODIFIED:20260408T072916Z
UID:10047524-1790008500-1790011200@kiezkalender-lichtenberg.de
SUMMARY:Modern Jazz Dance ab 6 Jahren
DESCRIPTION:Kindertanz mit Bea von der Tanzschule LUX im Familienzentrum aufatmen.
URL:https://kiezkalender-lichtenberg.de/veranstaltung/modern-jazz-dance-ab-6-jahren/2026-09-21/
LOCATION:aufatmen\, Schottstraße 2\, Berlin\, Berlin\, 10365
ATTACH;FMTTYPE=image/jpeg:https://kiezkalender-lichtenberg.de/wp-content/uploads/2026/04/Kindertanz_Aufatmen-1.jpg
ORGANIZER;CN="Tanzschule LUX":MAILTO:info@tanzschule-lux.de
END:VEVENT
END:VCALENDAR