BEGIN:VCALENDAR
VERSION:2.0
PRODID:-//Kiezkalender Lichtenberg - ECPv6.15.12.2//NONSGML v1.0//EN
CALSCALE:GREGORIAN
METHOD:PUBLISH
X-WR-CALNAME:Kiezkalender Lichtenberg
X-ORIGINAL-URL:https://kiezkalender-lichtenberg.de
X-WR-CALDESC:Veranstaltungen für Kiezkalender Lichtenberg
REFRESH-INTERVAL;VALUE=DURATION:PT1H
X-Robots-Tag:noindex
X-PUBLISHED-TTL:PT1H
BEGIN:VTIMEZONE
TZID:Europe/Berlin
BEGIN:DAYLIGHT
TZOFFSETFROM:+0100
TZOFFSETTO:+0200
TZNAME:CEST
DTSTART:20250330T010000
END:DAYLIGHT
BEGIN:STANDARD
TZOFFSETFROM:+0200
TZOFFSETTO:+0100
TZNAME:CET
DTSTART:20251026T010000
END:STANDARD
BEGIN:DAYLIGHT
TZOFFSETFROM:+0100
TZOFFSETTO:+0200
TZNAME:CEST
DTSTART:20260329T010000
END:DAYLIGHT
BEGIN:STANDARD
TZOFFSETFROM:+0200
TZOFFSETTO:+0100
TZNAME:CET
DTSTART:20261025T010000
END:STANDARD
BEGIN:DAYLIGHT
TZOFFSETFROM:+0100
TZOFFSETTO:+0200
TZNAME:CEST
DTSTART:20270328T010000
END:DAYLIGHT
BEGIN:STANDARD
TZOFFSETFROM:+0200
TZOFFSETTO:+0100
TZNAME:CET
DTSTART:20271031T010000
END:STANDARD
END:VTIMEZONE
BEGIN:VEVENT
DTSTART;TZID=Europe/Berlin:20260608T154500
DTEND;TZID=Europe/Berlin:20260608T163000
DTSTAMP:20260423T014127
CREATED:20260408T072714Z
LAST-MODIFIED:20260408T072714Z
UID:10047248-1780933500-1780936200@kiezkalender-lichtenberg.de
SUMMARY:Modernes Ballett ab 3 Jahren
DESCRIPTION:Kindertanz im Familienzentrum aufatmen mit Bea von der Tanzschule LUX.
URL:https://kiezkalender-lichtenberg.de/veranstaltung/modernes-ballett-ab-3-jahren/2026-06-08/
LOCATION:aufatmen\, Schottstraße 2\, Berlin\, Berlin\, 10365
ATTACH;FMTTYPE=image/jpeg:https://kiezkalender-lichtenberg.de/wp-content/uploads/2026/04/Kindertanz_Aufatmen.jpg
ORGANIZER;CN="Tanzschule LUX":MAILTO:info@tanzschule-lux.de
END:VEVENT
BEGIN:VEVENT
DTSTART;TZID=Europe/Berlin:20260608T163500
DTEND;TZID=Europe/Berlin:20260608T172000
DTSTAMP:20260423T014127
CREATED:20260408T072916Z
LAST-MODIFIED:20260408T072916Z
UID:10047509-1780936500-1780939200@kiezkalender-lichtenberg.de
SUMMARY:Modern Jazz Dance ab 6 Jahren
DESCRIPTION:Kindertanz mit Bea von der Tanzschule LUX im Familienzentrum aufatmen.
URL:https://kiezkalender-lichtenberg.de/veranstaltung/modern-jazz-dance-ab-6-jahren/2026-06-08/
LOCATION:aufatmen\, Schottstraße 2\, Berlin\, Berlin\, 10365
ATTACH;FMTTYPE=image/jpeg:https://kiezkalender-lichtenberg.de/wp-content/uploads/2026/04/Kindertanz_Aufatmen-1.jpg
ORGANIZER;CN="Tanzschule LUX":MAILTO:info@tanzschule-lux.de
END:VEVENT
BEGIN:VEVENT
DTSTART;TZID=Europe/Berlin:20260608T173000
DTEND;TZID=Europe/Berlin:20260608T183000
DTSTAMP:20260423T014127
CREATED:20260408T073222Z
LAST-MODIFIED:20260408T073725Z
UID:10047770-1780939800-1780943400@kiezkalender-lichtenberg.de
SUMMARY:Modern Jazz Dance ab 10 Jahren
DESCRIPTION:Tanzkurs für Teens mit Bea von der Tanzschule LUX im Familienzentrum aufatmen.
URL:https://kiezkalender-lichtenberg.de/veranstaltung/modern-jazz-dance-ab-10-jahren/2026-06-08/
LOCATION:aufatmen\, Schottstraße 2\, Berlin\, Berlin\, 10365
ATTACH;FMTTYPE=image/jpeg:https://kiezkalender-lichtenberg.de/wp-content/uploads/2026/04/Kindertanz_Aufatmen-2.jpg
ORGANIZER;CN="Tanzschule LUX":MAILTO:info@tanzschule-lux.de
END:VEVENT
BEGIN:VEVENT
DTSTART;TZID=Europe/Berlin:20260608T183000
DTEND;TZID=Europe/Berlin:20260608T200000
DTSTAMP:20260423T014127
CREATED:20260408T073538Z
LAST-MODIFIED:20260408T073538Z
UID:10048031-1780943400-1780948800@kiezkalender-lichtenberg.de
SUMMARY:Modern Jazz Dance für Erwachsene
DESCRIPTION:Tanzkurs mit Bea von der Tanzschule LUX im Familienzentrum aufatmen.
URL:https://kiezkalender-lichtenberg.de/veranstaltung/modern-jazz-dance-fuer-erwachsene/2026-06-08/
LOCATION:aufatmen\, Schottstraße 2\, Berlin\, Berlin\, 10365
ATTACH;FMTTYPE=image/jpeg:https://kiezkalender-lichtenberg.de/wp-content/uploads/2026/04/Modern-Jazz-Dance_Aufatmen.jpg
ORGANIZER;CN="Tanzschule LUX":MAILTO:info@tanzschule-lux.de
END:VEVENT
BEGIN:VEVENT
DTSTART;TZID=Europe/Berlin:20260615T154500
DTEND;TZID=Europe/Berlin:20260615T163000
DTSTAMP:20260423T014127
CREATED:20260408T072714Z
LAST-MODIFIED:20260408T072714Z
UID:10047249-1781538300-1781541000@kiezkalender-lichtenberg.de
SUMMARY:Modernes Ballett ab 3 Jahren
DESCRIPTION:Kindertanz im Familienzentrum aufatmen mit Bea von der Tanzschule LUX.
URL:https://kiezkalender-lichtenberg.de/veranstaltung/modernes-ballett-ab-3-jahren/2026-06-15/
LOCATION:aufatmen\, Schottstraße 2\, Berlin\, Berlin\, 10365
ATTACH;FMTTYPE=image/jpeg:https://kiezkalender-lichtenberg.de/wp-content/uploads/2026/04/Kindertanz_Aufatmen.jpg
ORGANIZER;CN="Tanzschule LUX":MAILTO:info@tanzschule-lux.de
END:VEVENT
BEGIN:VEVENT
DTSTART;TZID=Europe/Berlin:20260615T163500
DTEND;TZID=Europe/Berlin:20260615T172000
DTSTAMP:20260423T014127
CREATED:20260408T072916Z
LAST-MODIFIED:20260408T072916Z
UID:10047510-1781541300-1781544000@kiezkalender-lichtenberg.de
SUMMARY:Modern Jazz Dance ab 6 Jahren
DESCRIPTION:Kindertanz mit Bea von der Tanzschule LUX im Familienzentrum aufatmen.
URL:https://kiezkalender-lichtenberg.de/veranstaltung/modern-jazz-dance-ab-6-jahren/2026-06-15/
LOCATION:aufatmen\, Schottstraße 2\, Berlin\, Berlin\, 10365
ATTACH;FMTTYPE=image/jpeg:https://kiezkalender-lichtenberg.de/wp-content/uploads/2026/04/Kindertanz_Aufatmen-1.jpg
ORGANIZER;CN="Tanzschule LUX":MAILTO:info@tanzschule-lux.de
END:VEVENT
BEGIN:VEVENT
DTSTART;TZID=Europe/Berlin:20260615T173000
DTEND;TZID=Europe/Berlin:20260615T183000
DTSTAMP:20260423T014127
CREATED:20260408T073222Z
LAST-MODIFIED:20260408T073725Z
UID:10047771-1781544600-1781548200@kiezkalender-lichtenberg.de
SUMMARY:Modern Jazz Dance ab 10 Jahren
DESCRIPTION:Tanzkurs für Teens mit Bea von der Tanzschule LUX im Familienzentrum aufatmen.
URL:https://kiezkalender-lichtenberg.de/veranstaltung/modern-jazz-dance-ab-10-jahren/2026-06-15/
LOCATION:aufatmen\, Schottstraße 2\, Berlin\, Berlin\, 10365
ATTACH;FMTTYPE=image/jpeg:https://kiezkalender-lichtenberg.de/wp-content/uploads/2026/04/Kindertanz_Aufatmen-2.jpg
ORGANIZER;CN="Tanzschule LUX":MAILTO:info@tanzschule-lux.de
END:VEVENT
BEGIN:VEVENT
DTSTART;TZID=Europe/Berlin:20260615T183000
DTEND;TZID=Europe/Berlin:20260615T200000
DTSTAMP:20260423T014127
CREATED:20260408T073538Z
LAST-MODIFIED:20260408T073538Z
UID:10048032-1781548200-1781553600@kiezkalender-lichtenberg.de
SUMMARY:Modern Jazz Dance für Erwachsene
DESCRIPTION:Tanzkurs mit Bea von der Tanzschule LUX im Familienzentrum aufatmen.
URL:https://kiezkalender-lichtenberg.de/veranstaltung/modern-jazz-dance-fuer-erwachsene/2026-06-15/
LOCATION:aufatmen\, Schottstraße 2\, Berlin\, Berlin\, 10365
ATTACH;FMTTYPE=image/jpeg:https://kiezkalender-lichtenberg.de/wp-content/uploads/2026/04/Modern-Jazz-Dance_Aufatmen.jpg
ORGANIZER;CN="Tanzschule LUX":MAILTO:info@tanzschule-lux.de
END:VEVENT
BEGIN:VEVENT
DTSTART;TZID=Europe/Berlin:20260622T154500
DTEND;TZID=Europe/Berlin:20260622T163000
DTSTAMP:20260423T014127
CREATED:20260408T072714Z
LAST-MODIFIED:20260408T072714Z
UID:10047250-1782143100-1782145800@kiezkalender-lichtenberg.de
SUMMARY:Modernes Ballett ab 3 Jahren
DESCRIPTION:Kindertanz im Familienzentrum aufatmen mit Bea von der Tanzschule LUX.
URL:https://kiezkalender-lichtenberg.de/veranstaltung/modernes-ballett-ab-3-jahren/2026-06-22/
LOCATION:aufatmen\, Schottstraße 2\, Berlin\, Berlin\, 10365
ATTACH;FMTTYPE=image/jpeg:https://kiezkalender-lichtenberg.de/wp-content/uploads/2026/04/Kindertanz_Aufatmen.jpg
ORGANIZER;CN="Tanzschule LUX":MAILTO:info@tanzschule-lux.de
END:VEVENT
BEGIN:VEVENT
DTSTART;TZID=Europe/Berlin:20260622T163500
DTEND;TZID=Europe/Berlin:20260622T172000
DTSTAMP:20260423T014127
CREATED:20260408T072916Z
LAST-MODIFIED:20260408T072916Z
UID:10047511-1782146100-1782148800@kiezkalender-lichtenberg.de
SUMMARY:Modern Jazz Dance ab 6 Jahren
DESCRIPTION:Kindertanz mit Bea von der Tanzschule LUX im Familienzentrum aufatmen.
URL:https://kiezkalender-lichtenberg.de/veranstaltung/modern-jazz-dance-ab-6-jahren/2026-06-22/
LOCATION:aufatmen\, Schottstraße 2\, Berlin\, Berlin\, 10365
ATTACH;FMTTYPE=image/jpeg:https://kiezkalender-lichtenberg.de/wp-content/uploads/2026/04/Kindertanz_Aufatmen-1.jpg
ORGANIZER;CN="Tanzschule LUX":MAILTO:info@tanzschule-lux.de
END:VEVENT
BEGIN:VEVENT
DTSTART;TZID=Europe/Berlin:20260622T173000
DTEND;TZID=Europe/Berlin:20260622T183000
DTSTAMP:20260423T014127
CREATED:20260408T073222Z
LAST-MODIFIED:20260408T073725Z
UID:10047772-1782149400-1782153000@kiezkalender-lichtenberg.de
SUMMARY:Modern Jazz Dance ab 10 Jahren
DESCRIPTION:Tanzkurs für Teens mit Bea von der Tanzschule LUX im Familienzentrum aufatmen.
URL:https://kiezkalender-lichtenberg.de/veranstaltung/modern-jazz-dance-ab-10-jahren/2026-06-22/
LOCATION:aufatmen\, Schottstraße 2\, Berlin\, Berlin\, 10365
ATTACH;FMTTYPE=image/jpeg:https://kiezkalender-lichtenberg.de/wp-content/uploads/2026/04/Kindertanz_Aufatmen-2.jpg
ORGANIZER;CN="Tanzschule LUX":MAILTO:info@tanzschule-lux.de
END:VEVENT
BEGIN:VEVENT
DTSTART;TZID=Europe/Berlin:20260622T183000
DTEND;TZID=Europe/Berlin:20260622T200000
DTSTAMP:20260423T014127
CREATED:20260408T073538Z
LAST-MODIFIED:20260408T073538Z
UID:10048033-1782153000-1782158400@kiezkalender-lichtenberg.de
SUMMARY:Modern Jazz Dance für Erwachsene
DESCRIPTION:Tanzkurs mit Bea von der Tanzschule LUX im Familienzentrum aufatmen.
URL:https://kiezkalender-lichtenberg.de/veranstaltung/modern-jazz-dance-fuer-erwachsene/2026-06-22/
LOCATION:aufatmen\, Schottstraße 2\, Berlin\, Berlin\, 10365
ATTACH;FMTTYPE=image/jpeg:https://kiezkalender-lichtenberg.de/wp-content/uploads/2026/04/Modern-Jazz-Dance_Aufatmen.jpg
ORGANIZER;CN="Tanzschule LUX":MAILTO:info@tanzschule-lux.de
END:VEVENT
BEGIN:VEVENT
DTSTART;TZID=Europe/Berlin:20260629T154500
DTEND;TZID=Europe/Berlin:20260629T163000
DTSTAMP:20260423T014127
CREATED:20260408T072714Z
LAST-MODIFIED:20260408T072714Z
UID:10047251-1782747900-1782750600@kiezkalender-lichtenberg.de
SUMMARY:Modernes Ballett ab 3 Jahren
DESCRIPTION:Kindertanz im Familienzentrum aufatmen mit Bea von der Tanzschule LUX.
URL:https://kiezkalender-lichtenberg.de/veranstaltung/modernes-ballett-ab-3-jahren/2026-06-29/
LOCATION:aufatmen\, Schottstraße 2\, Berlin\, Berlin\, 10365
ATTACH;FMTTYPE=image/jpeg:https://kiezkalender-lichtenberg.de/wp-content/uploads/2026/04/Kindertanz_Aufatmen.jpg
ORGANIZER;CN="Tanzschule LUX":MAILTO:info@tanzschule-lux.de
END:VEVENT
BEGIN:VEVENT
DTSTART;TZID=Europe/Berlin:20260629T163500
DTEND;TZID=Europe/Berlin:20260629T172000
DTSTAMP:20260423T014127
CREATED:20260408T072916Z
LAST-MODIFIED:20260408T072916Z
UID:10047512-1782750900-1782753600@kiezkalender-lichtenberg.de
SUMMARY:Modern Jazz Dance ab 6 Jahren
DESCRIPTION:Kindertanz mit Bea von der Tanzschule LUX im Familienzentrum aufatmen.
URL:https://kiezkalender-lichtenberg.de/veranstaltung/modern-jazz-dance-ab-6-jahren/2026-06-29/
LOCATION:aufatmen\, Schottstraße 2\, Berlin\, Berlin\, 10365
ATTACH;FMTTYPE=image/jpeg:https://kiezkalender-lichtenberg.de/wp-content/uploads/2026/04/Kindertanz_Aufatmen-1.jpg
ORGANIZER;CN="Tanzschule LUX":MAILTO:info@tanzschule-lux.de
END:VEVENT
BEGIN:VEVENT
DTSTART;TZID=Europe/Berlin:20260629T173000
DTEND;TZID=Europe/Berlin:20260629T183000
DTSTAMP:20260423T014127
CREATED:20260408T073222Z
LAST-MODIFIED:20260408T073725Z
UID:10047773-1782754200-1782757800@kiezkalender-lichtenberg.de
SUMMARY:Modern Jazz Dance ab 10 Jahren
DESCRIPTION:Tanzkurs für Teens mit Bea von der Tanzschule LUX im Familienzentrum aufatmen.
URL:https://kiezkalender-lichtenberg.de/veranstaltung/modern-jazz-dance-ab-10-jahren/2026-06-29/
LOCATION:aufatmen\, Schottstraße 2\, Berlin\, Berlin\, 10365
ATTACH;FMTTYPE=image/jpeg:https://kiezkalender-lichtenberg.de/wp-content/uploads/2026/04/Kindertanz_Aufatmen-2.jpg
ORGANIZER;CN="Tanzschule LUX":MAILTO:info@tanzschule-lux.de
END:VEVENT
BEGIN:VEVENT
DTSTART;TZID=Europe/Berlin:20260629T183000
DTEND;TZID=Europe/Berlin:20260629T200000
DTSTAMP:20260423T014127
CREATED:20260408T073538Z
LAST-MODIFIED:20260408T073538Z
UID:10048034-1782757800-1782763200@kiezkalender-lichtenberg.de
SUMMARY:Modern Jazz Dance für Erwachsene
DESCRIPTION:Tanzkurs mit Bea von der Tanzschule LUX im Familienzentrum aufatmen.
URL:https://kiezkalender-lichtenberg.de/veranstaltung/modern-jazz-dance-fuer-erwachsene/2026-06-29/
LOCATION:aufatmen\, Schottstraße 2\, Berlin\, Berlin\, 10365
ATTACH;FMTTYPE=image/jpeg:https://kiezkalender-lichtenberg.de/wp-content/uploads/2026/04/Modern-Jazz-Dance_Aufatmen.jpg
ORGANIZER;CN="Tanzschule LUX":MAILTO:info@tanzschule-lux.de
END:VEVENT
BEGIN:VEVENT
DTSTART;TZID=Europe/Berlin:20260706T154500
DTEND;TZID=Europe/Berlin:20260706T163000
DTSTAMP:20260423T014127
CREATED:20260408T072714Z
LAST-MODIFIED:20260408T072714Z
UID:10047252-1783352700-1783355400@kiezkalender-lichtenberg.de
SUMMARY:Modernes Ballett ab 3 Jahren
DESCRIPTION:Kindertanz im Familienzentrum aufatmen mit Bea von der Tanzschule LUX.
URL:https://kiezkalender-lichtenberg.de/veranstaltung/modernes-ballett-ab-3-jahren/2026-07-06/
LOCATION:aufatmen\, Schottstraße 2\, Berlin\, Berlin\, 10365
ATTACH;FMTTYPE=image/jpeg:https://kiezkalender-lichtenberg.de/wp-content/uploads/2026/04/Kindertanz_Aufatmen.jpg
ORGANIZER;CN="Tanzschule LUX":MAILTO:info@tanzschule-lux.de
END:VEVENT
BEGIN:VEVENT
DTSTART;TZID=Europe/Berlin:20260706T163500
DTEND;TZID=Europe/Berlin:20260706T172000
DTSTAMP:20260423T014127
CREATED:20260408T072916Z
LAST-MODIFIED:20260408T072916Z
UID:10047513-1783355700-1783358400@kiezkalender-lichtenberg.de
SUMMARY:Modern Jazz Dance ab 6 Jahren
DESCRIPTION:Kindertanz mit Bea von der Tanzschule LUX im Familienzentrum aufatmen.
URL:https://kiezkalender-lichtenberg.de/veranstaltung/modern-jazz-dance-ab-6-jahren/2026-07-06/
LOCATION:aufatmen\, Schottstraße 2\, Berlin\, Berlin\, 10365
ATTACH;FMTTYPE=image/jpeg:https://kiezkalender-lichtenberg.de/wp-content/uploads/2026/04/Kindertanz_Aufatmen-1.jpg
ORGANIZER;CN="Tanzschule LUX":MAILTO:info@tanzschule-lux.de
END:VEVENT
BEGIN:VEVENT
DTSTART;TZID=Europe/Berlin:20260706T173000
DTEND;TZID=Europe/Berlin:20260706T183000
DTSTAMP:20260423T014127
CREATED:20260408T073222Z
LAST-MODIFIED:20260408T073725Z
UID:10047774-1783359000-1783362600@kiezkalender-lichtenberg.de
SUMMARY:Modern Jazz Dance ab 10 Jahren
DESCRIPTION:Tanzkurs für Teens mit Bea von der Tanzschule LUX im Familienzentrum aufatmen.
URL:https://kiezkalender-lichtenberg.de/veranstaltung/modern-jazz-dance-ab-10-jahren/2026-07-06/
LOCATION:aufatmen\, Schottstraße 2\, Berlin\, Berlin\, 10365
ATTACH;FMTTYPE=image/jpeg:https://kiezkalender-lichtenberg.de/wp-content/uploads/2026/04/Kindertanz_Aufatmen-2.jpg
ORGANIZER;CN="Tanzschule LUX":MAILTO:info@tanzschule-lux.de
END:VEVENT
BEGIN:VEVENT
DTSTART;TZID=Europe/Berlin:20260706T183000
DTEND;TZID=Europe/Berlin:20260706T200000
DTSTAMP:20260423T014127
CREATED:20260408T073538Z
LAST-MODIFIED:20260408T073538Z
UID:10048035-1783362600-1783368000@kiezkalender-lichtenberg.de
SUMMARY:Modern Jazz Dance für Erwachsene
DESCRIPTION:Tanzkurs mit Bea von der Tanzschule LUX im Familienzentrum aufatmen.
URL:https://kiezkalender-lichtenberg.de/veranstaltung/modern-jazz-dance-fuer-erwachsene/2026-07-06/
LOCATION:aufatmen\, Schottstraße 2\, Berlin\, Berlin\, 10365
ATTACH;FMTTYPE=image/jpeg:https://kiezkalender-lichtenberg.de/wp-content/uploads/2026/04/Modern-Jazz-Dance_Aufatmen.jpg
ORGANIZER;CN="Tanzschule LUX":MAILTO:info@tanzschule-lux.de
END:VEVENT
BEGIN:VEVENT
DTSTART;TZID=Europe/Berlin:20260713T154500
DTEND;TZID=Europe/Berlin:20260713T163000
DTSTAMP:20260423T014127
CREATED:20260408T072714Z
LAST-MODIFIED:20260408T072714Z
UID:10047253-1783957500-1783960200@kiezkalender-lichtenberg.de
SUMMARY:Modernes Ballett ab 3 Jahren
DESCRIPTION:Kindertanz im Familienzentrum aufatmen mit Bea von der Tanzschule LUX.
URL:https://kiezkalender-lichtenberg.de/veranstaltung/modernes-ballett-ab-3-jahren/2026-07-13/
LOCATION:aufatmen\, Schottstraße 2\, Berlin\, Berlin\, 10365
ATTACH;FMTTYPE=image/jpeg:https://kiezkalender-lichtenberg.de/wp-content/uploads/2026/04/Kindertanz_Aufatmen.jpg
ORGANIZER;CN="Tanzschule LUX":MAILTO:info@tanzschule-lux.de
END:VEVENT
BEGIN:VEVENT
DTSTART;TZID=Europe/Berlin:20260713T163500
DTEND;TZID=Europe/Berlin:20260713T172000
DTSTAMP:20260423T014127
CREATED:20260408T072916Z
LAST-MODIFIED:20260408T072916Z
UID:10047514-1783960500-1783963200@kiezkalender-lichtenberg.de
SUMMARY:Modern Jazz Dance ab 6 Jahren
DESCRIPTION:Kindertanz mit Bea von der Tanzschule LUX im Familienzentrum aufatmen.
URL:https://kiezkalender-lichtenberg.de/veranstaltung/modern-jazz-dance-ab-6-jahren/2026-07-13/
LOCATION:aufatmen\, Schottstraße 2\, Berlin\, Berlin\, 10365
ATTACH;FMTTYPE=image/jpeg:https://kiezkalender-lichtenberg.de/wp-content/uploads/2026/04/Kindertanz_Aufatmen-1.jpg
ORGANIZER;CN="Tanzschule LUX":MAILTO:info@tanzschule-lux.de
END:VEVENT
BEGIN:VEVENT
DTSTART;TZID=Europe/Berlin:20260713T173000
DTEND;TZID=Europe/Berlin:20260713T183000
DTSTAMP:20260423T014127
CREATED:20260408T073222Z
LAST-MODIFIED:20260408T073725Z
UID:10047775-1783963800-1783967400@kiezkalender-lichtenberg.de
SUMMARY:Modern Jazz Dance ab 10 Jahren
DESCRIPTION:Tanzkurs für Teens mit Bea von der Tanzschule LUX im Familienzentrum aufatmen.
URL:https://kiezkalender-lichtenberg.de/veranstaltung/modern-jazz-dance-ab-10-jahren/2026-07-13/
LOCATION:aufatmen\, Schottstraße 2\, Berlin\, Berlin\, 10365
ATTACH;FMTTYPE=image/jpeg:https://kiezkalender-lichtenberg.de/wp-content/uploads/2026/04/Kindertanz_Aufatmen-2.jpg
ORGANIZER;CN="Tanzschule LUX":MAILTO:info@tanzschule-lux.de
END:VEVENT
BEGIN:VEVENT
DTSTART;TZID=Europe/Berlin:20260713T183000
DTEND;TZID=Europe/Berlin:20260713T200000
DTSTAMP:20260423T014127
CREATED:20260408T073538Z
LAST-MODIFIED:20260408T073538Z
UID:10048036-1783967400-1783972800@kiezkalender-lichtenberg.de
SUMMARY:Modern Jazz Dance für Erwachsene
DESCRIPTION:Tanzkurs mit Bea von der Tanzschule LUX im Familienzentrum aufatmen.
URL:https://kiezkalender-lichtenberg.de/veranstaltung/modern-jazz-dance-fuer-erwachsene/2026-07-13/
LOCATION:aufatmen\, Schottstraße 2\, Berlin\, Berlin\, 10365
ATTACH;FMTTYPE=image/jpeg:https://kiezkalender-lichtenberg.de/wp-content/uploads/2026/04/Modern-Jazz-Dance_Aufatmen.jpg
ORGANIZER;CN="Tanzschule LUX":MAILTO:info@tanzschule-lux.de
END:VEVENT
BEGIN:VEVENT
DTSTART;TZID=Europe/Berlin:20260720T154500
DTEND;TZID=Europe/Berlin:20260720T163000
DTSTAMP:20260423T014127
CREATED:20260408T072714Z
LAST-MODIFIED:20260408T072714Z
UID:10047254-1784562300-1784565000@kiezkalender-lichtenberg.de
SUMMARY:Modernes Ballett ab 3 Jahren
DESCRIPTION:Kindertanz im Familienzentrum aufatmen mit Bea von der Tanzschule LUX.
URL:https://kiezkalender-lichtenberg.de/veranstaltung/modernes-ballett-ab-3-jahren/2026-07-20/
LOCATION:aufatmen\, Schottstraße 2\, Berlin\, Berlin\, 10365
ATTACH;FMTTYPE=image/jpeg:https://kiezkalender-lichtenberg.de/wp-content/uploads/2026/04/Kindertanz_Aufatmen.jpg
ORGANIZER;CN="Tanzschule LUX":MAILTO:info@tanzschule-lux.de
END:VEVENT
BEGIN:VEVENT
DTSTART;TZID=Europe/Berlin:20260720T163500
DTEND;TZID=Europe/Berlin:20260720T172000
DTSTAMP:20260423T014127
CREATED:20260408T072916Z
LAST-MODIFIED:20260408T072916Z
UID:10047515-1784565300-1784568000@kiezkalender-lichtenberg.de
SUMMARY:Modern Jazz Dance ab 6 Jahren
DESCRIPTION:Kindertanz mit Bea von der Tanzschule LUX im Familienzentrum aufatmen.
URL:https://kiezkalender-lichtenberg.de/veranstaltung/modern-jazz-dance-ab-6-jahren/2026-07-20/
LOCATION:aufatmen\, Schottstraße 2\, Berlin\, Berlin\, 10365
ATTACH;FMTTYPE=image/jpeg:https://kiezkalender-lichtenberg.de/wp-content/uploads/2026/04/Kindertanz_Aufatmen-1.jpg
ORGANIZER;CN="Tanzschule LUX":MAILTO:info@tanzschule-lux.de
END:VEVENT
BEGIN:VEVENT
DTSTART;TZID=Europe/Berlin:20260720T173000
DTEND;TZID=Europe/Berlin:20260720T183000
DTSTAMP:20260423T014127
CREATED:20260408T073222Z
LAST-MODIFIED:20260408T073725Z
UID:10047776-1784568600-1784572200@kiezkalender-lichtenberg.de
SUMMARY:Modern Jazz Dance ab 10 Jahren
DESCRIPTION:Tanzkurs für Teens mit Bea von der Tanzschule LUX im Familienzentrum aufatmen.
URL:https://kiezkalender-lichtenberg.de/veranstaltung/modern-jazz-dance-ab-10-jahren/2026-07-20/
LOCATION:aufatmen\, Schottstraße 2\, Berlin\, Berlin\, 10365
ATTACH;FMTTYPE=image/jpeg:https://kiezkalender-lichtenberg.de/wp-content/uploads/2026/04/Kindertanz_Aufatmen-2.jpg
ORGANIZER;CN="Tanzschule LUX":MAILTO:info@tanzschule-lux.de
END:VEVENT
BEGIN:VEVENT
DTSTART;TZID=Europe/Berlin:20260720T183000
DTEND;TZID=Europe/Berlin:20260720T200000
DTSTAMP:20260423T014127
CREATED:20260408T073538Z
LAST-MODIFIED:20260408T073538Z
UID:10048037-1784572200-1784577600@kiezkalender-lichtenberg.de
SUMMARY:Modern Jazz Dance für Erwachsene
DESCRIPTION:Tanzkurs mit Bea von der Tanzschule LUX im Familienzentrum aufatmen.
URL:https://kiezkalender-lichtenberg.de/veranstaltung/modern-jazz-dance-fuer-erwachsene/2026-07-20/
LOCATION:aufatmen\, Schottstraße 2\, Berlin\, Berlin\, 10365
ATTACH;FMTTYPE=image/jpeg:https://kiezkalender-lichtenberg.de/wp-content/uploads/2026/04/Modern-Jazz-Dance_Aufatmen.jpg
ORGANIZER;CN="Tanzschule LUX":MAILTO:info@tanzschule-lux.de
END:VEVENT
BEGIN:VEVENT
DTSTART;TZID=Europe/Berlin:20260727T154500
DTEND;TZID=Europe/Berlin:20260727T163000
DTSTAMP:20260423T014127
CREATED:20260408T072714Z
LAST-MODIFIED:20260408T072714Z
UID:10047255-1785167100-1785169800@kiezkalender-lichtenberg.de
SUMMARY:Modernes Ballett ab 3 Jahren
DESCRIPTION:Kindertanz im Familienzentrum aufatmen mit Bea von der Tanzschule LUX.
URL:https://kiezkalender-lichtenberg.de/veranstaltung/modernes-ballett-ab-3-jahren/2026-07-27/
LOCATION:aufatmen\, Schottstraße 2\, Berlin\, Berlin\, 10365
ATTACH;FMTTYPE=image/jpeg:https://kiezkalender-lichtenberg.de/wp-content/uploads/2026/04/Kindertanz_Aufatmen.jpg
ORGANIZER;CN="Tanzschule LUX":MAILTO:info@tanzschule-lux.de
END:VEVENT
BEGIN:VEVENT
DTSTART;TZID=Europe/Berlin:20260727T163500
DTEND;TZID=Europe/Berlin:20260727T172000
DTSTAMP:20260423T014127
CREATED:20260408T072916Z
LAST-MODIFIED:20260408T072916Z
UID:10047516-1785170100-1785172800@kiezkalender-lichtenberg.de
SUMMARY:Modern Jazz Dance ab 6 Jahren
DESCRIPTION:Kindertanz mit Bea von der Tanzschule LUX im Familienzentrum aufatmen.
URL:https://kiezkalender-lichtenberg.de/veranstaltung/modern-jazz-dance-ab-6-jahren/2026-07-27/
LOCATION:aufatmen\, Schottstraße 2\, Berlin\, Berlin\, 10365
ATTACH;FMTTYPE=image/jpeg:https://kiezkalender-lichtenberg.de/wp-content/uploads/2026/04/Kindertanz_Aufatmen-1.jpg
ORGANIZER;CN="Tanzschule LUX":MAILTO:info@tanzschule-lux.de
END:VEVENT
END:VCALENDAR