BEGIN:VCALENDAR
VERSION:2.0
PRODID:-//Kiezkalender Lichtenberg - ECPv6.15.12.2//NONSGML v1.0//EN
CALSCALE:GREGORIAN
METHOD:PUBLISH
X-WR-CALNAME:Kiezkalender Lichtenberg
X-ORIGINAL-URL:https://kiezkalender-lichtenberg.de
X-WR-CALDESC:Veranstaltungen für Kiezkalender Lichtenberg
REFRESH-INTERVAL;VALUE=DURATION:PT1H
X-Robots-Tag:noindex
X-PUBLISHED-TTL:PT1H
BEGIN:VTIMEZONE
TZID:Europe/Berlin
BEGIN:DAYLIGHT
TZOFFSETFROM:+0100
TZOFFSETTO:+0200
TZNAME:CEST
DTSTART:20250330T010000
END:DAYLIGHT
BEGIN:STANDARD
TZOFFSETFROM:+0200
TZOFFSETTO:+0100
TZNAME:CET
DTSTART:20251026T010000
END:STANDARD
BEGIN:DAYLIGHT
TZOFFSETFROM:+0100
TZOFFSETTO:+0200
TZNAME:CEST
DTSTART:20260329T010000
END:DAYLIGHT
BEGIN:STANDARD
TZOFFSETFROM:+0200
TZOFFSETTO:+0100
TZNAME:CET
DTSTART:20261025T010000
END:STANDARD
BEGIN:DAYLIGHT
TZOFFSETFROM:+0100
TZOFFSETTO:+0200
TZNAME:CEST
DTSTART:20270328T010000
END:DAYLIGHT
BEGIN:STANDARD
TZOFFSETFROM:+0200
TZOFFSETTO:+0100
TZNAME:CET
DTSTART:20271031T010000
END:STANDARD
END:VTIMEZONE
BEGIN:VEVENT
DTSTART;TZID=Europe/Berlin:20260928T154500
DTEND;TZID=Europe/Berlin:20260928T163000
DTSTAMP:20260425T140702
CREATED:20260408T072714Z
LAST-MODIFIED:20260408T072714Z
UID:10047264-1790610300-1790613000@kiezkalender-lichtenberg.de
SUMMARY:Modernes Ballett ab 3 Jahren
DESCRIPTION:Kindertanz im Familienzentrum aufatmen mit Bea von der Tanzschule LUX.
URL:https://kiezkalender-lichtenberg.de/veranstaltung/modernes-ballett-ab-3-jahren/2026-09-28/
LOCATION:aufatmen\, Schottstraße 2\, Berlin\, Berlin\, 10365
ATTACH;FMTTYPE=image/jpeg:https://kiezkalender-lichtenberg.de/wp-content/uploads/2026/04/Kindertanz_Aufatmen.jpg
ORGANIZER;CN="Tanzschule LUX":MAILTO:info@tanzschule-lux.de
END:VEVENT
BEGIN:VEVENT
DTSTART;TZID=Europe/Berlin:20260928T163500
DTEND;TZID=Europe/Berlin:20260928T172000
DTSTAMP:20260425T140702
CREATED:20260408T072916Z
LAST-MODIFIED:20260408T072916Z
UID:10047525-1790613300-1790616000@kiezkalender-lichtenberg.de
SUMMARY:Modern Jazz Dance ab 6 Jahren
DESCRIPTION:Kindertanz mit Bea von der Tanzschule LUX im Familienzentrum aufatmen.
URL:https://kiezkalender-lichtenberg.de/veranstaltung/modern-jazz-dance-ab-6-jahren/2026-09-28/
LOCATION:aufatmen\, Schottstraße 2\, Berlin\, Berlin\, 10365
ATTACH;FMTTYPE=image/jpeg:https://kiezkalender-lichtenberg.de/wp-content/uploads/2026/04/Kindertanz_Aufatmen-1.jpg
ORGANIZER;CN="Tanzschule LUX":MAILTO:info@tanzschule-lux.de
END:VEVENT
BEGIN:VEVENT
DTSTART;TZID=Europe/Berlin:20260928T173000
DTEND;TZID=Europe/Berlin:20260928T183000
DTSTAMP:20260425T140702
CREATED:20260408T073222Z
LAST-MODIFIED:20260408T073725Z
UID:10047786-1790616600-1790620200@kiezkalender-lichtenberg.de
SUMMARY:Modern Jazz Dance ab 10 Jahren
DESCRIPTION:Tanzkurs für Teens mit Bea von der Tanzschule LUX im Familienzentrum aufatmen.
URL:https://kiezkalender-lichtenberg.de/veranstaltung/modern-jazz-dance-ab-10-jahren/2026-09-28/
LOCATION:aufatmen\, Schottstraße 2\, Berlin\, Berlin\, 10365
ATTACH;FMTTYPE=image/jpeg:https://kiezkalender-lichtenberg.de/wp-content/uploads/2026/04/Kindertanz_Aufatmen-2.jpg
ORGANIZER;CN="Tanzschule LUX":MAILTO:info@tanzschule-lux.de
END:VEVENT
BEGIN:VEVENT
DTSTART;TZID=Europe/Berlin:20260928T183000
DTEND;TZID=Europe/Berlin:20260928T200000
DTSTAMP:20260425T140702
CREATED:20260408T073538Z
LAST-MODIFIED:20260408T073538Z
UID:10048047-1790620200-1790625600@kiezkalender-lichtenberg.de
SUMMARY:Modern Jazz Dance für Erwachsene
DESCRIPTION:Tanzkurs mit Bea von der Tanzschule LUX im Familienzentrum aufatmen.
URL:https://kiezkalender-lichtenberg.de/veranstaltung/modern-jazz-dance-fuer-erwachsene/2026-09-28/
LOCATION:aufatmen\, Schottstraße 2\, Berlin\, Berlin\, 10365
ATTACH;FMTTYPE=image/jpeg:https://kiezkalender-lichtenberg.de/wp-content/uploads/2026/04/Modern-Jazz-Dance_Aufatmen.jpg
ORGANIZER;CN="Tanzschule LUX":MAILTO:info@tanzschule-lux.de
END:VEVENT
BEGIN:VEVENT
DTSTART;TZID=Europe/Berlin:20261005T154500
DTEND;TZID=Europe/Berlin:20261005T163000
DTSTAMP:20260425T140702
CREATED:20260408T072714Z
LAST-MODIFIED:20260408T072714Z
UID:10047265-1791215100-1791217800@kiezkalender-lichtenberg.de
SUMMARY:Modernes Ballett ab 3 Jahren
DESCRIPTION:Kindertanz im Familienzentrum aufatmen mit Bea von der Tanzschule LUX.
URL:https://kiezkalender-lichtenberg.de/veranstaltung/modernes-ballett-ab-3-jahren/2026-10-05/
LOCATION:aufatmen\, Schottstraße 2\, Berlin\, Berlin\, 10365
ATTACH;FMTTYPE=image/jpeg:https://kiezkalender-lichtenberg.de/wp-content/uploads/2026/04/Kindertanz_Aufatmen.jpg
ORGANIZER;CN="Tanzschule LUX":MAILTO:info@tanzschule-lux.de
END:VEVENT
BEGIN:VEVENT
DTSTART;TZID=Europe/Berlin:20261005T163500
DTEND;TZID=Europe/Berlin:20261005T172000
DTSTAMP:20260425T140702
CREATED:20260408T072916Z
LAST-MODIFIED:20260408T072916Z
UID:10047526-1791218100-1791220800@kiezkalender-lichtenberg.de
SUMMARY:Modern Jazz Dance ab 6 Jahren
DESCRIPTION:Kindertanz mit Bea von der Tanzschule LUX im Familienzentrum aufatmen.
URL:https://kiezkalender-lichtenberg.de/veranstaltung/modern-jazz-dance-ab-6-jahren/2026-10-05/
LOCATION:aufatmen\, Schottstraße 2\, Berlin\, Berlin\, 10365
ATTACH;FMTTYPE=image/jpeg:https://kiezkalender-lichtenberg.de/wp-content/uploads/2026/04/Kindertanz_Aufatmen-1.jpg
ORGANIZER;CN="Tanzschule LUX":MAILTO:info@tanzschule-lux.de
END:VEVENT
BEGIN:VEVENT
DTSTART;TZID=Europe/Berlin:20261005T173000
DTEND;TZID=Europe/Berlin:20261005T183000
DTSTAMP:20260425T140702
CREATED:20260408T073222Z
LAST-MODIFIED:20260408T073725Z
UID:10047787-1791221400-1791225000@kiezkalender-lichtenberg.de
SUMMARY:Modern Jazz Dance ab 10 Jahren
DESCRIPTION:Tanzkurs für Teens mit Bea von der Tanzschule LUX im Familienzentrum aufatmen.
URL:https://kiezkalender-lichtenberg.de/veranstaltung/modern-jazz-dance-ab-10-jahren/2026-10-05/
LOCATION:aufatmen\, Schottstraße 2\, Berlin\, Berlin\, 10365
ATTACH;FMTTYPE=image/jpeg:https://kiezkalender-lichtenberg.de/wp-content/uploads/2026/04/Kindertanz_Aufatmen-2.jpg
ORGANIZER;CN="Tanzschule LUX":MAILTO:info@tanzschule-lux.de
END:VEVENT
BEGIN:VEVENT
DTSTART;TZID=Europe/Berlin:20261005T183000
DTEND;TZID=Europe/Berlin:20261005T200000
DTSTAMP:20260425T140702
CREATED:20260408T073538Z
LAST-MODIFIED:20260408T073538Z
UID:10048048-1791225000-1791230400@kiezkalender-lichtenberg.de
SUMMARY:Modern Jazz Dance für Erwachsene
DESCRIPTION:Tanzkurs mit Bea von der Tanzschule LUX im Familienzentrum aufatmen.
URL:https://kiezkalender-lichtenberg.de/veranstaltung/modern-jazz-dance-fuer-erwachsene/2026-10-05/
LOCATION:aufatmen\, Schottstraße 2\, Berlin\, Berlin\, 10365
ATTACH;FMTTYPE=image/jpeg:https://kiezkalender-lichtenberg.de/wp-content/uploads/2026/04/Modern-Jazz-Dance_Aufatmen.jpg
ORGANIZER;CN="Tanzschule LUX":MAILTO:info@tanzschule-lux.de
END:VEVENT
BEGIN:VEVENT
DTSTART;TZID=Europe/Berlin:20261012T154500
DTEND;TZID=Europe/Berlin:20261012T163000
DTSTAMP:20260425T140702
CREATED:20260408T072714Z
LAST-MODIFIED:20260408T072714Z
UID:10047266-1791819900-1791822600@kiezkalender-lichtenberg.de
SUMMARY:Modernes Ballett ab 3 Jahren
DESCRIPTION:Kindertanz im Familienzentrum aufatmen mit Bea von der Tanzschule LUX.
URL:https://kiezkalender-lichtenberg.de/veranstaltung/modernes-ballett-ab-3-jahren/2026-10-12/
LOCATION:aufatmen\, Schottstraße 2\, Berlin\, Berlin\, 10365
ATTACH;FMTTYPE=image/jpeg:https://kiezkalender-lichtenberg.de/wp-content/uploads/2026/04/Kindertanz_Aufatmen.jpg
ORGANIZER;CN="Tanzschule LUX":MAILTO:info@tanzschule-lux.de
END:VEVENT
BEGIN:VEVENT
DTSTART;TZID=Europe/Berlin:20261012T163500
DTEND;TZID=Europe/Berlin:20261012T172000
DTSTAMP:20260425T140702
CREATED:20260408T072916Z
LAST-MODIFIED:20260408T072916Z
UID:10047527-1791822900-1791825600@kiezkalender-lichtenberg.de
SUMMARY:Modern Jazz Dance ab 6 Jahren
DESCRIPTION:Kindertanz mit Bea von der Tanzschule LUX im Familienzentrum aufatmen.
URL:https://kiezkalender-lichtenberg.de/veranstaltung/modern-jazz-dance-ab-6-jahren/2026-10-12/
LOCATION:aufatmen\, Schottstraße 2\, Berlin\, Berlin\, 10365
ATTACH;FMTTYPE=image/jpeg:https://kiezkalender-lichtenberg.de/wp-content/uploads/2026/04/Kindertanz_Aufatmen-1.jpg
ORGANIZER;CN="Tanzschule LUX":MAILTO:info@tanzschule-lux.de
END:VEVENT
BEGIN:VEVENT
DTSTART;TZID=Europe/Berlin:20261012T173000
DTEND;TZID=Europe/Berlin:20261012T183000
DTSTAMP:20260425T140702
CREATED:20260408T073222Z
LAST-MODIFIED:20260408T073725Z
UID:10047788-1791826200-1791829800@kiezkalender-lichtenberg.de
SUMMARY:Modern Jazz Dance ab 10 Jahren
DESCRIPTION:Tanzkurs für Teens mit Bea von der Tanzschule LUX im Familienzentrum aufatmen.
URL:https://kiezkalender-lichtenberg.de/veranstaltung/modern-jazz-dance-ab-10-jahren/2026-10-12/
LOCATION:aufatmen\, Schottstraße 2\, Berlin\, Berlin\, 10365
ATTACH;FMTTYPE=image/jpeg:https://kiezkalender-lichtenberg.de/wp-content/uploads/2026/04/Kindertanz_Aufatmen-2.jpg
ORGANIZER;CN="Tanzschule LUX":MAILTO:info@tanzschule-lux.de
END:VEVENT
BEGIN:VEVENT
DTSTART;TZID=Europe/Berlin:20261012T183000
DTEND;TZID=Europe/Berlin:20261012T200000
DTSTAMP:20260425T140702
CREATED:20260408T073538Z
LAST-MODIFIED:20260408T073538Z
UID:10048049-1791829800-1791835200@kiezkalender-lichtenberg.de
SUMMARY:Modern Jazz Dance für Erwachsene
DESCRIPTION:Tanzkurs mit Bea von der Tanzschule LUX im Familienzentrum aufatmen.
URL:https://kiezkalender-lichtenberg.de/veranstaltung/modern-jazz-dance-fuer-erwachsene/2026-10-12/
LOCATION:aufatmen\, Schottstraße 2\, Berlin\, Berlin\, 10365
ATTACH;FMTTYPE=image/jpeg:https://kiezkalender-lichtenberg.de/wp-content/uploads/2026/04/Modern-Jazz-Dance_Aufatmen.jpg
ORGANIZER;CN="Tanzschule LUX":MAILTO:info@tanzschule-lux.de
END:VEVENT
BEGIN:VEVENT
DTSTART;TZID=Europe/Berlin:20261019T154500
DTEND;TZID=Europe/Berlin:20261019T163000
DTSTAMP:20260425T140702
CREATED:20260408T072714Z
LAST-MODIFIED:20260408T072714Z
UID:10047267-1792424700-1792427400@kiezkalender-lichtenberg.de
SUMMARY:Modernes Ballett ab 3 Jahren
DESCRIPTION:Kindertanz im Familienzentrum aufatmen mit Bea von der Tanzschule LUX.
URL:https://kiezkalender-lichtenberg.de/veranstaltung/modernes-ballett-ab-3-jahren/2026-10-19/
LOCATION:aufatmen\, Schottstraße 2\, Berlin\, Berlin\, 10365
ATTACH;FMTTYPE=image/jpeg:https://kiezkalender-lichtenberg.de/wp-content/uploads/2026/04/Kindertanz_Aufatmen.jpg
ORGANIZER;CN="Tanzschule LUX":MAILTO:info@tanzschule-lux.de
END:VEVENT
BEGIN:VEVENT
DTSTART;TZID=Europe/Berlin:20261019T163500
DTEND;TZID=Europe/Berlin:20261019T172000
DTSTAMP:20260425T140702
CREATED:20260408T072916Z
LAST-MODIFIED:20260408T072916Z
UID:10047528-1792427700-1792430400@kiezkalender-lichtenberg.de
SUMMARY:Modern Jazz Dance ab 6 Jahren
DESCRIPTION:Kindertanz mit Bea von der Tanzschule LUX im Familienzentrum aufatmen.
URL:https://kiezkalender-lichtenberg.de/veranstaltung/modern-jazz-dance-ab-6-jahren/2026-10-19/
LOCATION:aufatmen\, Schottstraße 2\, Berlin\, Berlin\, 10365
ATTACH;FMTTYPE=image/jpeg:https://kiezkalender-lichtenberg.de/wp-content/uploads/2026/04/Kindertanz_Aufatmen-1.jpg
ORGANIZER;CN="Tanzschule LUX":MAILTO:info@tanzschule-lux.de
END:VEVENT
BEGIN:VEVENT
DTSTART;TZID=Europe/Berlin:20261019T173000
DTEND;TZID=Europe/Berlin:20261019T183000
DTSTAMP:20260425T140702
CREATED:20260408T073222Z
LAST-MODIFIED:20260408T073725Z
UID:10047789-1792431000-1792434600@kiezkalender-lichtenberg.de
SUMMARY:Modern Jazz Dance ab 10 Jahren
DESCRIPTION:Tanzkurs für Teens mit Bea von der Tanzschule LUX im Familienzentrum aufatmen.
URL:https://kiezkalender-lichtenberg.de/veranstaltung/modern-jazz-dance-ab-10-jahren/2026-10-19/
LOCATION:aufatmen\, Schottstraße 2\, Berlin\, Berlin\, 10365
ATTACH;FMTTYPE=image/jpeg:https://kiezkalender-lichtenberg.de/wp-content/uploads/2026/04/Kindertanz_Aufatmen-2.jpg
ORGANIZER;CN="Tanzschule LUX":MAILTO:info@tanzschule-lux.de
END:VEVENT
BEGIN:VEVENT
DTSTART;TZID=Europe/Berlin:20261019T183000
DTEND;TZID=Europe/Berlin:20261019T200000
DTSTAMP:20260425T140702
CREATED:20260408T073538Z
LAST-MODIFIED:20260408T073538Z
UID:10048050-1792434600-1792440000@kiezkalender-lichtenberg.de
SUMMARY:Modern Jazz Dance für Erwachsene
DESCRIPTION:Tanzkurs mit Bea von der Tanzschule LUX im Familienzentrum aufatmen.
URL:https://kiezkalender-lichtenberg.de/veranstaltung/modern-jazz-dance-fuer-erwachsene/2026-10-19/
LOCATION:aufatmen\, Schottstraße 2\, Berlin\, Berlin\, 10365
ATTACH;FMTTYPE=image/jpeg:https://kiezkalender-lichtenberg.de/wp-content/uploads/2026/04/Modern-Jazz-Dance_Aufatmen.jpg
ORGANIZER;CN="Tanzschule LUX":MAILTO:info@tanzschule-lux.de
END:VEVENT
BEGIN:VEVENT
DTSTART;TZID=Europe/Berlin:20261026T154500
DTEND;TZID=Europe/Berlin:20261026T163000
DTSTAMP:20260425T140702
CREATED:20260408T072714Z
LAST-MODIFIED:20260408T072714Z
UID:10047268-1793029500-1793032200@kiezkalender-lichtenberg.de
SUMMARY:Modernes Ballett ab 3 Jahren
DESCRIPTION:Kindertanz im Familienzentrum aufatmen mit Bea von der Tanzschule LUX.
URL:https://kiezkalender-lichtenberg.de/veranstaltung/modernes-ballett-ab-3-jahren/2026-10-26/
LOCATION:aufatmen\, Schottstraße 2\, Berlin\, Berlin\, 10365
ATTACH;FMTTYPE=image/jpeg:https://kiezkalender-lichtenberg.de/wp-content/uploads/2026/04/Kindertanz_Aufatmen.jpg
ORGANIZER;CN="Tanzschule LUX":MAILTO:info@tanzschule-lux.de
END:VEVENT
BEGIN:VEVENT
DTSTART;TZID=Europe/Berlin:20261026T163500
DTEND;TZID=Europe/Berlin:20261026T172000
DTSTAMP:20260425T140702
CREATED:20260408T072916Z
LAST-MODIFIED:20260408T072916Z
UID:10047529-1793032500-1793035200@kiezkalender-lichtenberg.de
SUMMARY:Modern Jazz Dance ab 6 Jahren
DESCRIPTION:Kindertanz mit Bea von der Tanzschule LUX im Familienzentrum aufatmen.
URL:https://kiezkalender-lichtenberg.de/veranstaltung/modern-jazz-dance-ab-6-jahren/2026-10-26/
LOCATION:aufatmen\, Schottstraße 2\, Berlin\, Berlin\, 10365
ATTACH;FMTTYPE=image/jpeg:https://kiezkalender-lichtenberg.de/wp-content/uploads/2026/04/Kindertanz_Aufatmen-1.jpg
ORGANIZER;CN="Tanzschule LUX":MAILTO:info@tanzschule-lux.de
END:VEVENT
BEGIN:VEVENT
DTSTART;TZID=Europe/Berlin:20261026T173000
DTEND;TZID=Europe/Berlin:20261026T183000
DTSTAMP:20260425T140702
CREATED:20260408T073222Z
LAST-MODIFIED:20260408T073725Z
UID:10047790-1793035800-1793039400@kiezkalender-lichtenberg.de
SUMMARY:Modern Jazz Dance ab 10 Jahren
DESCRIPTION:Tanzkurs für Teens mit Bea von der Tanzschule LUX im Familienzentrum aufatmen.
URL:https://kiezkalender-lichtenberg.de/veranstaltung/modern-jazz-dance-ab-10-jahren/2026-10-26/
LOCATION:aufatmen\, Schottstraße 2\, Berlin\, Berlin\, 10365
ATTACH;FMTTYPE=image/jpeg:https://kiezkalender-lichtenberg.de/wp-content/uploads/2026/04/Kindertanz_Aufatmen-2.jpg
ORGANIZER;CN="Tanzschule LUX":MAILTO:info@tanzschule-lux.de
END:VEVENT
BEGIN:VEVENT
DTSTART;TZID=Europe/Berlin:20261026T183000
DTEND;TZID=Europe/Berlin:20261026T200000
DTSTAMP:20260425T140702
CREATED:20260408T073538Z
LAST-MODIFIED:20260408T073538Z
UID:10048051-1793039400-1793044800@kiezkalender-lichtenberg.de
SUMMARY:Modern Jazz Dance für Erwachsene
DESCRIPTION:Tanzkurs mit Bea von der Tanzschule LUX im Familienzentrum aufatmen.
URL:https://kiezkalender-lichtenberg.de/veranstaltung/modern-jazz-dance-fuer-erwachsene/2026-10-26/
LOCATION:aufatmen\, Schottstraße 2\, Berlin\, Berlin\, 10365
ATTACH;FMTTYPE=image/jpeg:https://kiezkalender-lichtenberg.de/wp-content/uploads/2026/04/Modern-Jazz-Dance_Aufatmen.jpg
ORGANIZER;CN="Tanzschule LUX":MAILTO:info@tanzschule-lux.de
END:VEVENT
BEGIN:VEVENT
DTSTART;TZID=Europe/Berlin:20261102T154500
DTEND;TZID=Europe/Berlin:20261102T163000
DTSTAMP:20260425T140702
CREATED:20260408T072714Z
LAST-MODIFIED:20260408T072714Z
UID:10047269-1793634300-1793637000@kiezkalender-lichtenberg.de
SUMMARY:Modernes Ballett ab 3 Jahren
DESCRIPTION:Kindertanz im Familienzentrum aufatmen mit Bea von der Tanzschule LUX.
URL:https://kiezkalender-lichtenberg.de/veranstaltung/modernes-ballett-ab-3-jahren/2026-11-02/
LOCATION:aufatmen\, Schottstraße 2\, Berlin\, Berlin\, 10365
ATTACH;FMTTYPE=image/jpeg:https://kiezkalender-lichtenberg.de/wp-content/uploads/2026/04/Kindertanz_Aufatmen.jpg
ORGANIZER;CN="Tanzschule LUX":MAILTO:info@tanzschule-lux.de
END:VEVENT
BEGIN:VEVENT
DTSTART;TZID=Europe/Berlin:20261102T163500
DTEND;TZID=Europe/Berlin:20261102T172000
DTSTAMP:20260425T140702
CREATED:20260408T072916Z
LAST-MODIFIED:20260408T072916Z
UID:10047530-1793637300-1793640000@kiezkalender-lichtenberg.de
SUMMARY:Modern Jazz Dance ab 6 Jahren
DESCRIPTION:Kindertanz mit Bea von der Tanzschule LUX im Familienzentrum aufatmen.
URL:https://kiezkalender-lichtenberg.de/veranstaltung/modern-jazz-dance-ab-6-jahren/2026-11-02/
LOCATION:aufatmen\, Schottstraße 2\, Berlin\, Berlin\, 10365
ATTACH;FMTTYPE=image/jpeg:https://kiezkalender-lichtenberg.de/wp-content/uploads/2026/04/Kindertanz_Aufatmen-1.jpg
ORGANIZER;CN="Tanzschule LUX":MAILTO:info@tanzschule-lux.de
END:VEVENT
BEGIN:VEVENT
DTSTART;TZID=Europe/Berlin:20261102T173000
DTEND;TZID=Europe/Berlin:20261102T183000
DTSTAMP:20260425T140702
CREATED:20260408T073222Z
LAST-MODIFIED:20260408T073725Z
UID:10047791-1793640600-1793644200@kiezkalender-lichtenberg.de
SUMMARY:Modern Jazz Dance ab 10 Jahren
DESCRIPTION:Tanzkurs für Teens mit Bea von der Tanzschule LUX im Familienzentrum aufatmen.
URL:https://kiezkalender-lichtenberg.de/veranstaltung/modern-jazz-dance-ab-10-jahren/2026-11-02/
LOCATION:aufatmen\, Schottstraße 2\, Berlin\, Berlin\, 10365
ATTACH;FMTTYPE=image/jpeg:https://kiezkalender-lichtenberg.de/wp-content/uploads/2026/04/Kindertanz_Aufatmen-2.jpg
ORGANIZER;CN="Tanzschule LUX":MAILTO:info@tanzschule-lux.de
END:VEVENT
BEGIN:VEVENT
DTSTART;TZID=Europe/Berlin:20261102T183000
DTEND;TZID=Europe/Berlin:20261102T200000
DTSTAMP:20260425T140702
CREATED:20260408T073538Z
LAST-MODIFIED:20260408T073538Z
UID:10048052-1793644200-1793649600@kiezkalender-lichtenberg.de
SUMMARY:Modern Jazz Dance für Erwachsene
DESCRIPTION:Tanzkurs mit Bea von der Tanzschule LUX im Familienzentrum aufatmen.
URL:https://kiezkalender-lichtenberg.de/veranstaltung/modern-jazz-dance-fuer-erwachsene/2026-11-02/
LOCATION:aufatmen\, Schottstraße 2\, Berlin\, Berlin\, 10365
ATTACH;FMTTYPE=image/jpeg:https://kiezkalender-lichtenberg.de/wp-content/uploads/2026/04/Modern-Jazz-Dance_Aufatmen.jpg
ORGANIZER;CN="Tanzschule LUX":MAILTO:info@tanzschule-lux.de
END:VEVENT
BEGIN:VEVENT
DTSTART;TZID=Europe/Berlin:20261109T154500
DTEND;TZID=Europe/Berlin:20261109T163000
DTSTAMP:20260425T140702
CREATED:20260408T072714Z
LAST-MODIFIED:20260408T072714Z
UID:10047270-1794239100-1794241800@kiezkalender-lichtenberg.de
SUMMARY:Modernes Ballett ab 3 Jahren
DESCRIPTION:Kindertanz im Familienzentrum aufatmen mit Bea von der Tanzschule LUX.
URL:https://kiezkalender-lichtenberg.de/veranstaltung/modernes-ballett-ab-3-jahren/2026-11-09/
LOCATION:aufatmen\, Schottstraße 2\, Berlin\, Berlin\, 10365
ATTACH;FMTTYPE=image/jpeg:https://kiezkalender-lichtenberg.de/wp-content/uploads/2026/04/Kindertanz_Aufatmen.jpg
ORGANIZER;CN="Tanzschule LUX":MAILTO:info@tanzschule-lux.de
END:VEVENT
BEGIN:VEVENT
DTSTART;TZID=Europe/Berlin:20261109T163500
DTEND;TZID=Europe/Berlin:20261109T172000
DTSTAMP:20260425T140702
CREATED:20260408T072916Z
LAST-MODIFIED:20260408T072916Z
UID:10047531-1794242100-1794244800@kiezkalender-lichtenberg.de
SUMMARY:Modern Jazz Dance ab 6 Jahren
DESCRIPTION:Kindertanz mit Bea von der Tanzschule LUX im Familienzentrum aufatmen.
URL:https://kiezkalender-lichtenberg.de/veranstaltung/modern-jazz-dance-ab-6-jahren/2026-11-09/
LOCATION:aufatmen\, Schottstraße 2\, Berlin\, Berlin\, 10365
ATTACH;FMTTYPE=image/jpeg:https://kiezkalender-lichtenberg.de/wp-content/uploads/2026/04/Kindertanz_Aufatmen-1.jpg
ORGANIZER;CN="Tanzschule LUX":MAILTO:info@tanzschule-lux.de
END:VEVENT
BEGIN:VEVENT
DTSTART;TZID=Europe/Berlin:20261109T173000
DTEND;TZID=Europe/Berlin:20261109T183000
DTSTAMP:20260425T140702
CREATED:20260408T073222Z
LAST-MODIFIED:20260408T073725Z
UID:10047792-1794245400-1794249000@kiezkalender-lichtenberg.de
SUMMARY:Modern Jazz Dance ab 10 Jahren
DESCRIPTION:Tanzkurs für Teens mit Bea von der Tanzschule LUX im Familienzentrum aufatmen.
URL:https://kiezkalender-lichtenberg.de/veranstaltung/modern-jazz-dance-ab-10-jahren/2026-11-09/
LOCATION:aufatmen\, Schottstraße 2\, Berlin\, Berlin\, 10365
ATTACH;FMTTYPE=image/jpeg:https://kiezkalender-lichtenberg.de/wp-content/uploads/2026/04/Kindertanz_Aufatmen-2.jpg
ORGANIZER;CN="Tanzschule LUX":MAILTO:info@tanzschule-lux.de
END:VEVENT
BEGIN:VEVENT
DTSTART;TZID=Europe/Berlin:20261109T183000
DTEND;TZID=Europe/Berlin:20261109T200000
DTSTAMP:20260425T140702
CREATED:20260408T073538Z
LAST-MODIFIED:20260408T073538Z
UID:10048053-1794249000-1794254400@kiezkalender-lichtenberg.de
SUMMARY:Modern Jazz Dance für Erwachsene
DESCRIPTION:Tanzkurs mit Bea von der Tanzschule LUX im Familienzentrum aufatmen.
URL:https://kiezkalender-lichtenberg.de/veranstaltung/modern-jazz-dance-fuer-erwachsene/2026-11-09/
LOCATION:aufatmen\, Schottstraße 2\, Berlin\, Berlin\, 10365
ATTACH;FMTTYPE=image/jpeg:https://kiezkalender-lichtenberg.de/wp-content/uploads/2026/04/Modern-Jazz-Dance_Aufatmen.jpg
ORGANIZER;CN="Tanzschule LUX":MAILTO:info@tanzschule-lux.de
END:VEVENT
BEGIN:VEVENT
DTSTART;TZID=Europe/Berlin:20261116T154500
DTEND;TZID=Europe/Berlin:20261116T163000
DTSTAMP:20260425T140702
CREATED:20260408T072714Z
LAST-MODIFIED:20260408T072714Z
UID:10047271-1794843900-1794846600@kiezkalender-lichtenberg.de
SUMMARY:Modernes Ballett ab 3 Jahren
DESCRIPTION:Kindertanz im Familienzentrum aufatmen mit Bea von der Tanzschule LUX.
URL:https://kiezkalender-lichtenberg.de/veranstaltung/modernes-ballett-ab-3-jahren/2026-11-16/
LOCATION:aufatmen\, Schottstraße 2\, Berlin\, Berlin\, 10365
ATTACH;FMTTYPE=image/jpeg:https://kiezkalender-lichtenberg.de/wp-content/uploads/2026/04/Kindertanz_Aufatmen.jpg
ORGANIZER;CN="Tanzschule LUX":MAILTO:info@tanzschule-lux.de
END:VEVENT
BEGIN:VEVENT
DTSTART;TZID=Europe/Berlin:20261116T163500
DTEND;TZID=Europe/Berlin:20261116T172000
DTSTAMP:20260425T140702
CREATED:20260408T072916Z
LAST-MODIFIED:20260408T072916Z
UID:10047532-1794846900-1794849600@kiezkalender-lichtenberg.de
SUMMARY:Modern Jazz Dance ab 6 Jahren
DESCRIPTION:Kindertanz mit Bea von der Tanzschule LUX im Familienzentrum aufatmen.
URL:https://kiezkalender-lichtenberg.de/veranstaltung/modern-jazz-dance-ab-6-jahren/2026-11-16/
LOCATION:aufatmen\, Schottstraße 2\, Berlin\, Berlin\, 10365
ATTACH;FMTTYPE=image/jpeg:https://kiezkalender-lichtenberg.de/wp-content/uploads/2026/04/Kindertanz_Aufatmen-1.jpg
ORGANIZER;CN="Tanzschule LUX":MAILTO:info@tanzschule-lux.de
END:VEVENT
END:VCALENDAR