BEGIN:VCALENDAR
VERSION:2.0
PRODID:-//Kiezkalender Lichtenberg - ECPv6.15.12.2//NONSGML v1.0//EN
CALSCALE:GREGORIAN
METHOD:PUBLISH
X-ORIGINAL-URL:https://kiezkalender-lichtenberg.de
X-WR-CALDESC:Veranstaltungen für Kiezkalender Lichtenberg
REFRESH-INTERVAL;VALUE=DURATION:PT1H
X-Robots-Tag:noindex
X-PUBLISHED-TTL:PT1H
BEGIN:VTIMEZONE
TZID:Europe/Berlin
BEGIN:DAYLIGHT
TZOFFSETFROM:+0100
TZOFFSETTO:+0200
TZNAME:CEST
DTSTART:20250330T010000
END:DAYLIGHT
BEGIN:STANDARD
TZOFFSETFROM:+0200
TZOFFSETTO:+0100
TZNAME:CET
DTSTART:20251026T010000
END:STANDARD
BEGIN:DAYLIGHT
TZOFFSETFROM:+0100
TZOFFSETTO:+0200
TZNAME:CEST
DTSTART:20260329T010000
END:DAYLIGHT
BEGIN:STANDARD
TZOFFSETFROM:+0200
TZOFFSETTO:+0100
TZNAME:CET
DTSTART:20261025T010000
END:STANDARD
BEGIN:DAYLIGHT
TZOFFSETFROM:+0100
TZOFFSETTO:+0200
TZNAME:CEST
DTSTART:20270328T010000
END:DAYLIGHT
BEGIN:STANDARD
TZOFFSETFROM:+0200
TZOFFSETTO:+0100
TZNAME:CET
DTSTART:20271031T010000
END:STANDARD
END:VTIMEZONE
BEGIN:VEVENT
DTSTART;TZID=Europe/Berlin:20260427T154500
DTEND;TZID=Europe/Berlin:20260427T163000
DTSTAMP:20260422T135415
CREATED:20260408T072714Z
LAST-MODIFIED:20260408T072714Z
UID:10047242-1777304700-1777307400@kiezkalender-lichtenberg.de
SUMMARY:Modernes Ballett ab 3 Jahren
DESCRIPTION:Kindertanz im Familienzentrum aufatmen mit Bea von der Tanzschule LUX.
URL:https://kiezkalender-lichtenberg.de/veranstaltung/modernes-ballett-ab-3-jahren/2026-04-27/
LOCATION:aufatmen\, Schottstraße 2\, Berlin\, Berlin\, 10365
ATTACH;FMTTYPE=image/jpeg:https://kiezkalender-lichtenberg.de/wp-content/uploads/2026/04/Kindertanz_Aufatmen.jpg
ORGANIZER;CN="Tanzschule LUX":MAILTO:info@tanzschule-lux.de
END:VEVENT
BEGIN:VEVENT
DTSTART;TZID=Europe/Berlin:20260427T163500
DTEND;TZID=Europe/Berlin:20260427T172000
DTSTAMP:20260422T135415
CREATED:20260408T072916Z
LAST-MODIFIED:20260408T072916Z
UID:10047503-1777307700-1777310400@kiezkalender-lichtenberg.de
SUMMARY:Modern Jazz Dance ab 6 Jahren
DESCRIPTION:Kindertanz mit Bea von der Tanzschule LUX im Familienzentrum aufatmen.
URL:https://kiezkalender-lichtenberg.de/veranstaltung/modern-jazz-dance-ab-6-jahren/2026-04-27/
LOCATION:aufatmen\, Schottstraße 2\, Berlin\, Berlin\, 10365
ATTACH;FMTTYPE=image/jpeg:https://kiezkalender-lichtenberg.de/wp-content/uploads/2026/04/Kindertanz_Aufatmen-1.jpg
ORGANIZER;CN="Tanzschule LUX":MAILTO:info@tanzschule-lux.de
END:VEVENT
BEGIN:VEVENT
DTSTART;TZID=Europe/Berlin:20260427T173000
DTEND;TZID=Europe/Berlin:20260427T183000
DTSTAMP:20260422T135415
CREATED:20260408T073222Z
LAST-MODIFIED:20260408T073725Z
UID:10047764-1777311000-1777314600@kiezkalender-lichtenberg.de
SUMMARY:Modern Jazz Dance ab 10 Jahren
DESCRIPTION:Tanzkurs für Teens mit Bea von der Tanzschule LUX im Familienzentrum aufatmen.
URL:https://kiezkalender-lichtenberg.de/veranstaltung/modern-jazz-dance-ab-10-jahren/2026-04-27/
LOCATION:aufatmen\, Schottstraße 2\, Berlin\, Berlin\, 10365
ATTACH;FMTTYPE=image/jpeg:https://kiezkalender-lichtenberg.de/wp-content/uploads/2026/04/Kindertanz_Aufatmen-2.jpg
ORGANIZER;CN="Tanzschule LUX":MAILTO:info@tanzschule-lux.de
END:VEVENT
BEGIN:VEVENT
DTSTART;TZID=Europe/Berlin:20260427T183000
DTEND;TZID=Europe/Berlin:20260427T200000
DTSTAMP:20260422T135415
CREATED:20260408T073538Z
LAST-MODIFIED:20260408T073538Z
UID:10048025-1777314600-1777320000@kiezkalender-lichtenberg.de
SUMMARY:Modern Jazz Dance für Erwachsene
DESCRIPTION:Tanzkurs mit Bea von der Tanzschule LUX im Familienzentrum aufatmen.
URL:https://kiezkalender-lichtenberg.de/veranstaltung/modern-jazz-dance-fuer-erwachsene/2026-04-27/
LOCATION:aufatmen\, Schottstraße 2\, Berlin\, Berlin\, 10365
ATTACH;FMTTYPE=image/jpeg:https://kiezkalender-lichtenberg.de/wp-content/uploads/2026/04/Modern-Jazz-Dance_Aufatmen.jpg
ORGANIZER;CN="Tanzschule LUX":MAILTO:info@tanzschule-lux.de
END:VEVENT
BEGIN:VEVENT
DTSTART;TZID=Europe/Berlin:20260504T154500
DTEND;TZID=Europe/Berlin:20260504T163000
DTSTAMP:20260422T135415
CREATED:20260408T072714Z
LAST-MODIFIED:20260408T072714Z
UID:10047243-1777909500-1777912200@kiezkalender-lichtenberg.de
SUMMARY:Modernes Ballett ab 3 Jahren
DESCRIPTION:Kindertanz im Familienzentrum aufatmen mit Bea von der Tanzschule LUX.
URL:https://kiezkalender-lichtenberg.de/veranstaltung/modernes-ballett-ab-3-jahren/2026-05-04/
LOCATION:aufatmen\, Schottstraße 2\, Berlin\, Berlin\, 10365
ATTACH;FMTTYPE=image/jpeg:https://kiezkalender-lichtenberg.de/wp-content/uploads/2026/04/Kindertanz_Aufatmen.jpg
ORGANIZER;CN="Tanzschule LUX":MAILTO:info@tanzschule-lux.de
END:VEVENT
BEGIN:VEVENT
DTSTART;TZID=Europe/Berlin:20260504T163500
DTEND;TZID=Europe/Berlin:20260504T172000
DTSTAMP:20260422T135415
CREATED:20260408T072916Z
LAST-MODIFIED:20260408T072916Z
UID:10047504-1777912500-1777915200@kiezkalender-lichtenberg.de
SUMMARY:Modern Jazz Dance ab 6 Jahren
DESCRIPTION:Kindertanz mit Bea von der Tanzschule LUX im Familienzentrum aufatmen.
URL:https://kiezkalender-lichtenberg.de/veranstaltung/modern-jazz-dance-ab-6-jahren/2026-05-04/
LOCATION:aufatmen\, Schottstraße 2\, Berlin\, Berlin\, 10365
ATTACH;FMTTYPE=image/jpeg:https://kiezkalender-lichtenberg.de/wp-content/uploads/2026/04/Kindertanz_Aufatmen-1.jpg
ORGANIZER;CN="Tanzschule LUX":MAILTO:info@tanzschule-lux.de
END:VEVENT
BEGIN:VEVENT
DTSTART;TZID=Europe/Berlin:20260504T173000
DTEND;TZID=Europe/Berlin:20260504T183000
DTSTAMP:20260422T135415
CREATED:20260408T073222Z
LAST-MODIFIED:20260408T073725Z
UID:10047765-1777915800-1777919400@kiezkalender-lichtenberg.de
SUMMARY:Modern Jazz Dance ab 10 Jahren
DESCRIPTION:Tanzkurs für Teens mit Bea von der Tanzschule LUX im Familienzentrum aufatmen.
URL:https://kiezkalender-lichtenberg.de/veranstaltung/modern-jazz-dance-ab-10-jahren/2026-05-04/
LOCATION:aufatmen\, Schottstraße 2\, Berlin\, Berlin\, 10365
ATTACH;FMTTYPE=image/jpeg:https://kiezkalender-lichtenberg.de/wp-content/uploads/2026/04/Kindertanz_Aufatmen-2.jpg
ORGANIZER;CN="Tanzschule LUX":MAILTO:info@tanzschule-lux.de
END:VEVENT
BEGIN:VEVENT
DTSTART;TZID=Europe/Berlin:20260504T183000
DTEND;TZID=Europe/Berlin:20260504T200000
DTSTAMP:20260422T135415
CREATED:20260408T073538Z
LAST-MODIFIED:20260408T073538Z
UID:10048026-1777919400-1777924800@kiezkalender-lichtenberg.de
SUMMARY:Modern Jazz Dance für Erwachsene
DESCRIPTION:Tanzkurs mit Bea von der Tanzschule LUX im Familienzentrum aufatmen.
URL:https://kiezkalender-lichtenberg.de/veranstaltung/modern-jazz-dance-fuer-erwachsene/2026-05-04/
LOCATION:aufatmen\, Schottstraße 2\, Berlin\, Berlin\, 10365
ATTACH;FMTTYPE=image/jpeg:https://kiezkalender-lichtenberg.de/wp-content/uploads/2026/04/Modern-Jazz-Dance_Aufatmen.jpg
ORGANIZER;CN="Tanzschule LUX":MAILTO:info@tanzschule-lux.de
END:VEVENT
BEGIN:VEVENT
DTSTART;TZID=Europe/Berlin:20260511T154500
DTEND;TZID=Europe/Berlin:20260511T163000
DTSTAMP:20260422T135415
CREATED:20260408T072714Z
LAST-MODIFIED:20260408T072714Z
UID:10047244-1778514300-1778517000@kiezkalender-lichtenberg.de
SUMMARY:Modernes Ballett ab 3 Jahren
DESCRIPTION:Kindertanz im Familienzentrum aufatmen mit Bea von der Tanzschule LUX.
URL:https://kiezkalender-lichtenberg.de/veranstaltung/modernes-ballett-ab-3-jahren/2026-05-11/
LOCATION:aufatmen\, Schottstraße 2\, Berlin\, Berlin\, 10365
ATTACH;FMTTYPE=image/jpeg:https://kiezkalender-lichtenberg.de/wp-content/uploads/2026/04/Kindertanz_Aufatmen.jpg
ORGANIZER;CN="Tanzschule LUX":MAILTO:info@tanzschule-lux.de
END:VEVENT
BEGIN:VEVENT
DTSTART;TZID=Europe/Berlin:20260511T163500
DTEND;TZID=Europe/Berlin:20260511T172000
DTSTAMP:20260422T135415
CREATED:20260408T072916Z
LAST-MODIFIED:20260408T072916Z
UID:10047505-1778517300-1778520000@kiezkalender-lichtenberg.de
SUMMARY:Modern Jazz Dance ab 6 Jahren
DESCRIPTION:Kindertanz mit Bea von der Tanzschule LUX im Familienzentrum aufatmen.
URL:https://kiezkalender-lichtenberg.de/veranstaltung/modern-jazz-dance-ab-6-jahren/2026-05-11/
LOCATION:aufatmen\, Schottstraße 2\, Berlin\, Berlin\, 10365
ATTACH;FMTTYPE=image/jpeg:https://kiezkalender-lichtenberg.de/wp-content/uploads/2026/04/Kindertanz_Aufatmen-1.jpg
ORGANIZER;CN="Tanzschule LUX":MAILTO:info@tanzschule-lux.de
END:VEVENT
BEGIN:VEVENT
DTSTART;TZID=Europe/Berlin:20260511T173000
DTEND;TZID=Europe/Berlin:20260511T183000
DTSTAMP:20260422T135415
CREATED:20260408T073222Z
LAST-MODIFIED:20260408T073725Z
UID:10047766-1778520600-1778524200@kiezkalender-lichtenberg.de
SUMMARY:Modern Jazz Dance ab 10 Jahren
DESCRIPTION:Tanzkurs für Teens mit Bea von der Tanzschule LUX im Familienzentrum aufatmen.
URL:https://kiezkalender-lichtenberg.de/veranstaltung/modern-jazz-dance-ab-10-jahren/2026-05-11/
LOCATION:aufatmen\, Schottstraße 2\, Berlin\, Berlin\, 10365
ATTACH;FMTTYPE=image/jpeg:https://kiezkalender-lichtenberg.de/wp-content/uploads/2026/04/Kindertanz_Aufatmen-2.jpg
ORGANIZER;CN="Tanzschule LUX":MAILTO:info@tanzschule-lux.de
END:VEVENT
BEGIN:VEVENT
DTSTART;TZID=Europe/Berlin:20260511T183000
DTEND;TZID=Europe/Berlin:20260511T200000
DTSTAMP:20260422T135415
CREATED:20260408T073538Z
LAST-MODIFIED:20260408T073538Z
UID:10048027-1778524200-1778529600@kiezkalender-lichtenberg.de
SUMMARY:Modern Jazz Dance für Erwachsene
DESCRIPTION:Tanzkurs mit Bea von der Tanzschule LUX im Familienzentrum aufatmen.
URL:https://kiezkalender-lichtenberg.de/veranstaltung/modern-jazz-dance-fuer-erwachsene/2026-05-11/
LOCATION:aufatmen\, Schottstraße 2\, Berlin\, Berlin\, 10365
ATTACH;FMTTYPE=image/jpeg:https://kiezkalender-lichtenberg.de/wp-content/uploads/2026/04/Modern-Jazz-Dance_Aufatmen.jpg
ORGANIZER;CN="Tanzschule LUX":MAILTO:info@tanzschule-lux.de
END:VEVENT
BEGIN:VEVENT
DTSTART;TZID=Europe/Berlin:20260518T154500
DTEND;TZID=Europe/Berlin:20260518T163000
DTSTAMP:20260422T135415
CREATED:20260408T072714Z
LAST-MODIFIED:20260408T072714Z
UID:10047245-1779119100-1779121800@kiezkalender-lichtenberg.de
SUMMARY:Modernes Ballett ab 3 Jahren
DESCRIPTION:Kindertanz im Familienzentrum aufatmen mit Bea von der Tanzschule LUX.
URL:https://kiezkalender-lichtenberg.de/veranstaltung/modernes-ballett-ab-3-jahren/2026-05-18/
LOCATION:aufatmen\, Schottstraße 2\, Berlin\, Berlin\, 10365
ATTACH;FMTTYPE=image/jpeg:https://kiezkalender-lichtenberg.de/wp-content/uploads/2026/04/Kindertanz_Aufatmen.jpg
ORGANIZER;CN="Tanzschule LUX":MAILTO:info@tanzschule-lux.de
END:VEVENT
BEGIN:VEVENT
DTSTART;TZID=Europe/Berlin:20260518T163500
DTEND;TZID=Europe/Berlin:20260518T172000
DTSTAMP:20260422T135415
CREATED:20260408T072916Z
LAST-MODIFIED:20260408T072916Z
UID:10047506-1779122100-1779124800@kiezkalender-lichtenberg.de
SUMMARY:Modern Jazz Dance ab 6 Jahren
DESCRIPTION:Kindertanz mit Bea von der Tanzschule LUX im Familienzentrum aufatmen.
URL:https://kiezkalender-lichtenberg.de/veranstaltung/modern-jazz-dance-ab-6-jahren/2026-05-18/
LOCATION:aufatmen\, Schottstraße 2\, Berlin\, Berlin\, 10365
ATTACH;FMTTYPE=image/jpeg:https://kiezkalender-lichtenberg.de/wp-content/uploads/2026/04/Kindertanz_Aufatmen-1.jpg
ORGANIZER;CN="Tanzschule LUX":MAILTO:info@tanzschule-lux.de
END:VEVENT
BEGIN:VEVENT
DTSTART;TZID=Europe/Berlin:20260518T173000
DTEND;TZID=Europe/Berlin:20260518T183000
DTSTAMP:20260422T135415
CREATED:20260408T073222Z
LAST-MODIFIED:20260408T073725Z
UID:10047767-1779125400-1779129000@kiezkalender-lichtenberg.de
SUMMARY:Modern Jazz Dance ab 10 Jahren
DESCRIPTION:Tanzkurs für Teens mit Bea von der Tanzschule LUX im Familienzentrum aufatmen.
URL:https://kiezkalender-lichtenberg.de/veranstaltung/modern-jazz-dance-ab-10-jahren/2026-05-18/
LOCATION:aufatmen\, Schottstraße 2\, Berlin\, Berlin\, 10365
ATTACH;FMTTYPE=image/jpeg:https://kiezkalender-lichtenberg.de/wp-content/uploads/2026/04/Kindertanz_Aufatmen-2.jpg
ORGANIZER;CN="Tanzschule LUX":MAILTO:info@tanzschule-lux.de
END:VEVENT
BEGIN:VEVENT
DTSTART;TZID=Europe/Berlin:20260518T183000
DTEND;TZID=Europe/Berlin:20260518T200000
DTSTAMP:20260422T135415
CREATED:20260408T073538Z
LAST-MODIFIED:20260408T073538Z
UID:10048028-1779129000-1779134400@kiezkalender-lichtenberg.de
SUMMARY:Modern Jazz Dance für Erwachsene
DESCRIPTION:Tanzkurs mit Bea von der Tanzschule LUX im Familienzentrum aufatmen.
URL:https://kiezkalender-lichtenberg.de/veranstaltung/modern-jazz-dance-fuer-erwachsene/2026-05-18/
LOCATION:aufatmen\, Schottstraße 2\, Berlin\, Berlin\, 10365
ATTACH;FMTTYPE=image/jpeg:https://kiezkalender-lichtenberg.de/wp-content/uploads/2026/04/Modern-Jazz-Dance_Aufatmen.jpg
ORGANIZER;CN="Tanzschule LUX":MAILTO:info@tanzschule-lux.de
END:VEVENT
BEGIN:VEVENT
DTSTART;TZID=Europe/Berlin:20260525T154500
DTEND;TZID=Europe/Berlin:20260525T163000
DTSTAMP:20260422T135415
CREATED:20260408T072714Z
LAST-MODIFIED:20260408T072714Z
UID:10047246-1779723900-1779726600@kiezkalender-lichtenberg.de
SUMMARY:Modernes Ballett ab 3 Jahren
DESCRIPTION:Kindertanz im Familienzentrum aufatmen mit Bea von der Tanzschule LUX.
URL:https://kiezkalender-lichtenberg.de/veranstaltung/modernes-ballett-ab-3-jahren/2026-05-25/
LOCATION:aufatmen\, Schottstraße 2\, Berlin\, Berlin\, 10365
ATTACH;FMTTYPE=image/jpeg:https://kiezkalender-lichtenberg.de/wp-content/uploads/2026/04/Kindertanz_Aufatmen.jpg
ORGANIZER;CN="Tanzschule LUX":MAILTO:info@tanzschule-lux.de
END:VEVENT
BEGIN:VEVENT
DTSTART;TZID=Europe/Berlin:20260525T163500
DTEND;TZID=Europe/Berlin:20260525T172000
DTSTAMP:20260422T135415
CREATED:20260408T072916Z
LAST-MODIFIED:20260408T072916Z
UID:10047507-1779726900-1779729600@kiezkalender-lichtenberg.de
SUMMARY:Modern Jazz Dance ab 6 Jahren
DESCRIPTION:Kindertanz mit Bea von der Tanzschule LUX im Familienzentrum aufatmen.
URL:https://kiezkalender-lichtenberg.de/veranstaltung/modern-jazz-dance-ab-6-jahren/2026-05-25/
LOCATION:aufatmen\, Schottstraße 2\, Berlin\, Berlin\, 10365
ATTACH;FMTTYPE=image/jpeg:https://kiezkalender-lichtenberg.de/wp-content/uploads/2026/04/Kindertanz_Aufatmen-1.jpg
ORGANIZER;CN="Tanzschule LUX":MAILTO:info@tanzschule-lux.de
END:VEVENT
BEGIN:VEVENT
DTSTART;TZID=Europe/Berlin:20260525T173000
DTEND;TZID=Europe/Berlin:20260525T183000
DTSTAMP:20260422T135415
CREATED:20260408T073222Z
LAST-MODIFIED:20260408T073725Z
UID:10047768-1779730200-1779733800@kiezkalender-lichtenberg.de
SUMMARY:Modern Jazz Dance ab 10 Jahren
DESCRIPTION:Tanzkurs für Teens mit Bea von der Tanzschule LUX im Familienzentrum aufatmen.
URL:https://kiezkalender-lichtenberg.de/veranstaltung/modern-jazz-dance-ab-10-jahren/2026-05-25/
LOCATION:aufatmen\, Schottstraße 2\, Berlin\, Berlin\, 10365
ATTACH;FMTTYPE=image/jpeg:https://kiezkalender-lichtenberg.de/wp-content/uploads/2026/04/Kindertanz_Aufatmen-2.jpg
ORGANIZER;CN="Tanzschule LUX":MAILTO:info@tanzschule-lux.de
END:VEVENT
BEGIN:VEVENT
DTSTART;TZID=Europe/Berlin:20260525T183000
DTEND;TZID=Europe/Berlin:20260525T200000
DTSTAMP:20260422T135415
CREATED:20260408T073538Z
LAST-MODIFIED:20260408T073538Z
UID:10048029-1779733800-1779739200@kiezkalender-lichtenberg.de
SUMMARY:Modern Jazz Dance für Erwachsene
DESCRIPTION:Tanzkurs mit Bea von der Tanzschule LUX im Familienzentrum aufatmen.
URL:https://kiezkalender-lichtenberg.de/veranstaltung/modern-jazz-dance-fuer-erwachsene/2026-05-25/
LOCATION:aufatmen\, Schottstraße 2\, Berlin\, Berlin\, 10365
ATTACH;FMTTYPE=image/jpeg:https://kiezkalender-lichtenberg.de/wp-content/uploads/2026/04/Modern-Jazz-Dance_Aufatmen.jpg
ORGANIZER;CN="Tanzschule LUX":MAILTO:info@tanzschule-lux.de
END:VEVENT
BEGIN:VEVENT
DTSTART;TZID=Europe/Berlin:20260601T154500
DTEND;TZID=Europe/Berlin:20260601T163000
DTSTAMP:20260422T135415
CREATED:20260408T072714Z
LAST-MODIFIED:20260408T072714Z
UID:10047247-1780328700-1780331400@kiezkalender-lichtenberg.de
SUMMARY:Modernes Ballett ab 3 Jahren
DESCRIPTION:Kindertanz im Familienzentrum aufatmen mit Bea von der Tanzschule LUX.
URL:https://kiezkalender-lichtenberg.de/veranstaltung/modernes-ballett-ab-3-jahren/2026-06-01/
LOCATION:aufatmen\, Schottstraße 2\, Berlin\, Berlin\, 10365
ATTACH;FMTTYPE=image/jpeg:https://kiezkalender-lichtenberg.de/wp-content/uploads/2026/04/Kindertanz_Aufatmen.jpg
ORGANIZER;CN="Tanzschule LUX":MAILTO:info@tanzschule-lux.de
END:VEVENT
BEGIN:VEVENT
DTSTART;TZID=Europe/Berlin:20260601T163500
DTEND;TZID=Europe/Berlin:20260601T172000
DTSTAMP:20260422T135415
CREATED:20260408T072916Z
LAST-MODIFIED:20260408T072916Z
UID:10047508-1780331700-1780334400@kiezkalender-lichtenberg.de
SUMMARY:Modern Jazz Dance ab 6 Jahren
DESCRIPTION:Kindertanz mit Bea von der Tanzschule LUX im Familienzentrum aufatmen.
URL:https://kiezkalender-lichtenberg.de/veranstaltung/modern-jazz-dance-ab-6-jahren/2026-06-01/
LOCATION:aufatmen\, Schottstraße 2\, Berlin\, Berlin\, 10365
ATTACH;FMTTYPE=image/jpeg:https://kiezkalender-lichtenberg.de/wp-content/uploads/2026/04/Kindertanz_Aufatmen-1.jpg
ORGANIZER;CN="Tanzschule LUX":MAILTO:info@tanzschule-lux.de
END:VEVENT
BEGIN:VEVENT
DTSTART;TZID=Europe/Berlin:20260601T173000
DTEND;TZID=Europe/Berlin:20260601T183000
DTSTAMP:20260422T135415
CREATED:20260408T073222Z
LAST-MODIFIED:20260408T073725Z
UID:10047769-1780335000-1780338600@kiezkalender-lichtenberg.de
SUMMARY:Modern Jazz Dance ab 10 Jahren
DESCRIPTION:Tanzkurs für Teens mit Bea von der Tanzschule LUX im Familienzentrum aufatmen.
URL:https://kiezkalender-lichtenberg.de/veranstaltung/modern-jazz-dance-ab-10-jahren/2026-06-01/
LOCATION:aufatmen\, Schottstraße 2\, Berlin\, Berlin\, 10365
ATTACH;FMTTYPE=image/jpeg:https://kiezkalender-lichtenberg.de/wp-content/uploads/2026/04/Kindertanz_Aufatmen-2.jpg
ORGANIZER;CN="Tanzschule LUX":MAILTO:info@tanzschule-lux.de
END:VEVENT
BEGIN:VEVENT
DTSTART;TZID=Europe/Berlin:20260601T183000
DTEND;TZID=Europe/Berlin:20260601T200000
DTSTAMP:20260422T135415
CREATED:20260408T073538Z
LAST-MODIFIED:20260408T073538Z
UID:10048030-1780338600-1780344000@kiezkalender-lichtenberg.de
SUMMARY:Modern Jazz Dance für Erwachsene
DESCRIPTION:Tanzkurs mit Bea von der Tanzschule LUX im Familienzentrum aufatmen.
URL:https://kiezkalender-lichtenberg.de/veranstaltung/modern-jazz-dance-fuer-erwachsene/2026-06-01/
LOCATION:aufatmen\, Schottstraße 2\, Berlin\, Berlin\, 10365
ATTACH;FMTTYPE=image/jpeg:https://kiezkalender-lichtenberg.de/wp-content/uploads/2026/04/Modern-Jazz-Dance_Aufatmen.jpg
ORGANIZER;CN="Tanzschule LUX":MAILTO:info@tanzschule-lux.de
END:VEVENT
BEGIN:VEVENT
DTSTART;TZID=Europe/Berlin:20260608T154500
DTEND;TZID=Europe/Berlin:20260608T163000
DTSTAMP:20260422T135415
CREATED:20260408T072714Z
LAST-MODIFIED:20260408T072714Z
UID:10047248-1780933500-1780936200@kiezkalender-lichtenberg.de
SUMMARY:Modernes Ballett ab 3 Jahren
DESCRIPTION:Kindertanz im Familienzentrum aufatmen mit Bea von der Tanzschule LUX.
URL:https://kiezkalender-lichtenberg.de/veranstaltung/modernes-ballett-ab-3-jahren/2026-06-08/
LOCATION:aufatmen\, Schottstraße 2\, Berlin\, Berlin\, 10365
ATTACH;FMTTYPE=image/jpeg:https://kiezkalender-lichtenberg.de/wp-content/uploads/2026/04/Kindertanz_Aufatmen.jpg
ORGANIZER;CN="Tanzschule LUX":MAILTO:info@tanzschule-lux.de
END:VEVENT
BEGIN:VEVENT
DTSTART;TZID=Europe/Berlin:20260608T163500
DTEND;TZID=Europe/Berlin:20260608T172000
DTSTAMP:20260422T135415
CREATED:20260408T072916Z
LAST-MODIFIED:20260408T072916Z
UID:10047509-1780936500-1780939200@kiezkalender-lichtenberg.de
SUMMARY:Modern Jazz Dance ab 6 Jahren
DESCRIPTION:Kindertanz mit Bea von der Tanzschule LUX im Familienzentrum aufatmen.
URL:https://kiezkalender-lichtenberg.de/veranstaltung/modern-jazz-dance-ab-6-jahren/2026-06-08/
LOCATION:aufatmen\, Schottstraße 2\, Berlin\, Berlin\, 10365
ATTACH;FMTTYPE=image/jpeg:https://kiezkalender-lichtenberg.de/wp-content/uploads/2026/04/Kindertanz_Aufatmen-1.jpg
ORGANIZER;CN="Tanzschule LUX":MAILTO:info@tanzschule-lux.de
END:VEVENT
BEGIN:VEVENT
DTSTART;TZID=Europe/Berlin:20260608T173000
DTEND;TZID=Europe/Berlin:20260608T183000
DTSTAMP:20260422T135415
CREATED:20260408T073222Z
LAST-MODIFIED:20260408T073725Z
UID:10047770-1780939800-1780943400@kiezkalender-lichtenberg.de
SUMMARY:Modern Jazz Dance ab 10 Jahren
DESCRIPTION:Tanzkurs für Teens mit Bea von der Tanzschule LUX im Familienzentrum aufatmen.
URL:https://kiezkalender-lichtenberg.de/veranstaltung/modern-jazz-dance-ab-10-jahren/2026-06-08/
LOCATION:aufatmen\, Schottstraße 2\, Berlin\, Berlin\, 10365
ATTACH;FMTTYPE=image/jpeg:https://kiezkalender-lichtenberg.de/wp-content/uploads/2026/04/Kindertanz_Aufatmen-2.jpg
ORGANIZER;CN="Tanzschule LUX":MAILTO:info@tanzschule-lux.de
END:VEVENT
BEGIN:VEVENT
DTSTART;TZID=Europe/Berlin:20260608T183000
DTEND;TZID=Europe/Berlin:20260608T200000
DTSTAMP:20260422T135415
CREATED:20260408T073538Z
LAST-MODIFIED:20260408T073538Z
UID:10048031-1780943400-1780948800@kiezkalender-lichtenberg.de
SUMMARY:Modern Jazz Dance für Erwachsene
DESCRIPTION:Tanzkurs mit Bea von der Tanzschule LUX im Familienzentrum aufatmen.
URL:https://kiezkalender-lichtenberg.de/veranstaltung/modern-jazz-dance-fuer-erwachsene/2026-06-08/
LOCATION:aufatmen\, Schottstraße 2\, Berlin\, Berlin\, 10365
ATTACH;FMTTYPE=image/jpeg:https://kiezkalender-lichtenberg.de/wp-content/uploads/2026/04/Modern-Jazz-Dance_Aufatmen.jpg
ORGANIZER;CN="Tanzschule LUX":MAILTO:info@tanzschule-lux.de
END:VEVENT
BEGIN:VEVENT
DTSTART;TZID=Europe/Berlin:20260615T154500
DTEND;TZID=Europe/Berlin:20260615T163000
DTSTAMP:20260422T135415
CREATED:20260408T072714Z
LAST-MODIFIED:20260408T072714Z
UID:10047249-1781538300-1781541000@kiezkalender-lichtenberg.de
SUMMARY:Modernes Ballett ab 3 Jahren
DESCRIPTION:Kindertanz im Familienzentrum aufatmen mit Bea von der Tanzschule LUX.
URL:https://kiezkalender-lichtenberg.de/veranstaltung/modernes-ballett-ab-3-jahren/2026-06-15/
LOCATION:aufatmen\, Schottstraße 2\, Berlin\, Berlin\, 10365
ATTACH;FMTTYPE=image/jpeg:https://kiezkalender-lichtenberg.de/wp-content/uploads/2026/04/Kindertanz_Aufatmen.jpg
ORGANIZER;CN="Tanzschule LUX":MAILTO:info@tanzschule-lux.de
END:VEVENT
BEGIN:VEVENT
DTSTART;TZID=Europe/Berlin:20260615T163500
DTEND;TZID=Europe/Berlin:20260615T172000
DTSTAMP:20260422T135415
CREATED:20260408T072916Z
LAST-MODIFIED:20260408T072916Z
UID:10047510-1781541300-1781544000@kiezkalender-lichtenberg.de
SUMMARY:Modern Jazz Dance ab 6 Jahren
DESCRIPTION:Kindertanz mit Bea von der Tanzschule LUX im Familienzentrum aufatmen.
URL:https://kiezkalender-lichtenberg.de/veranstaltung/modern-jazz-dance-ab-6-jahren/2026-06-15/
LOCATION:aufatmen\, Schottstraße 2\, Berlin\, Berlin\, 10365
ATTACH;FMTTYPE=image/jpeg:https://kiezkalender-lichtenberg.de/wp-content/uploads/2026/04/Kindertanz_Aufatmen-1.jpg
ORGANIZER;CN="Tanzschule LUX":MAILTO:info@tanzschule-lux.de
END:VEVENT
END:VCALENDAR