BEGIN:VCALENDAR
VERSION:2.0
PRODID:-//Kiezkalender Lichtenberg - ECPv6.15.12.2//NONSGML v1.0//EN
CALSCALE:GREGORIAN
METHOD:PUBLISH
X-ORIGINAL-URL:https://kiezkalender-lichtenberg.de
X-WR-CALDESC:Veranstaltungen für Kiezkalender Lichtenberg
REFRESH-INTERVAL;VALUE=DURATION:PT1H
X-Robots-Tag:noindex
X-PUBLISHED-TTL:PT1H
BEGIN:VTIMEZONE
TZID:Europe/Berlin
BEGIN:DAYLIGHT
TZOFFSETFROM:+0100
TZOFFSETTO:+0200
TZNAME:CEST
DTSTART:20250330T010000
END:DAYLIGHT
BEGIN:STANDARD
TZOFFSETFROM:+0200
TZOFFSETTO:+0100
TZNAME:CET
DTSTART:20251026T010000
END:STANDARD
BEGIN:DAYLIGHT
TZOFFSETFROM:+0100
TZOFFSETTO:+0200
TZNAME:CEST
DTSTART:20260329T010000
END:DAYLIGHT
BEGIN:STANDARD
TZOFFSETFROM:+0200
TZOFFSETTO:+0100
TZNAME:CET
DTSTART:20261025T010000
END:STANDARD
BEGIN:DAYLIGHT
TZOFFSETFROM:+0100
TZOFFSETTO:+0200
TZNAME:CEST
DTSTART:20270328T010000
END:DAYLIGHT
BEGIN:STANDARD
TZOFFSETFROM:+0200
TZOFFSETTO:+0100
TZNAME:CET
DTSTART:20271031T010000
END:STANDARD
END:VTIMEZONE
BEGIN:VEVENT
DTSTART;TZID=Europe/Berlin:20260420T183000
DTEND;TZID=Europe/Berlin:20260420T200000
DTSTAMP:20260424T201400
CREATED:20260408T073538Z
LAST-MODIFIED:20260408T073538Z
UID:10048024-1776709800-1776715200@kiezkalender-lichtenberg.de
SUMMARY:Modern Jazz Dance für Erwachsene
DESCRIPTION:Tanzkurs mit Bea von der Tanzschule LUX im Familienzentrum aufatmen.
URL:https://kiezkalender-lichtenberg.de/veranstaltung/modern-jazz-dance-fuer-erwachsene/2026-04-20/
LOCATION:aufatmen\, Schottstraße 2\, Berlin\, Berlin\, 10365
ATTACH;FMTTYPE=image/jpeg:https://kiezkalender-lichtenberg.de/wp-content/uploads/2026/04/Modern-Jazz-Dance_Aufatmen.jpg
ORGANIZER;CN="Tanzschule LUX":MAILTO:info@tanzschule-lux.de
END:VEVENT
BEGIN:VEVENT
DTSTART;TZID=Europe/Berlin:20260420T173000
DTEND;TZID=Europe/Berlin:20260420T183000
DTSTAMP:20260424T201400
CREATED:20260408T073222Z
LAST-MODIFIED:20260408T073725Z
UID:10047763-1776706200-1776709800@kiezkalender-lichtenberg.de
SUMMARY:Modern Jazz Dance ab 10 Jahren
DESCRIPTION:Tanzkurs für Teens mit Bea von der Tanzschule LUX im Familienzentrum aufatmen.
URL:https://kiezkalender-lichtenberg.de/veranstaltung/modern-jazz-dance-ab-10-jahren/2026-04-20/
LOCATION:aufatmen\, Schottstraße 2\, Berlin\, Berlin\, 10365
ATTACH;FMTTYPE=image/jpeg:https://kiezkalender-lichtenberg.de/wp-content/uploads/2026/04/Kindertanz_Aufatmen-2.jpg
ORGANIZER;CN="Tanzschule LUX":MAILTO:info@tanzschule-lux.de
END:VEVENT
BEGIN:VEVENT
DTSTART;TZID=Europe/Berlin:20260420T163500
DTEND;TZID=Europe/Berlin:20260420T172000
DTSTAMP:20260424T201400
CREATED:20260408T072916Z
LAST-MODIFIED:20260408T072916Z
UID:10047502-1776702900-1776705600@kiezkalender-lichtenberg.de
SUMMARY:Modern Jazz Dance ab 6 Jahren
DESCRIPTION:Kindertanz mit Bea von der Tanzschule LUX im Familienzentrum aufatmen.
URL:https://kiezkalender-lichtenberg.de/veranstaltung/modern-jazz-dance-ab-6-jahren/2026-04-20/
LOCATION:aufatmen\, Schottstraße 2\, Berlin\, Berlin\, 10365
ATTACH;FMTTYPE=image/jpeg:https://kiezkalender-lichtenberg.de/wp-content/uploads/2026/04/Kindertanz_Aufatmen-1.jpg
ORGANIZER;CN="Tanzschule LUX":MAILTO:info@tanzschule-lux.de
END:VEVENT
BEGIN:VEVENT
DTSTART;TZID=Europe/Berlin:20260420T154500
DTEND;TZID=Europe/Berlin:20260420T163000
DTSTAMP:20260424T201400
CREATED:20260408T072714Z
LAST-MODIFIED:20260408T072714Z
UID:10047241-1776699900-1776702600@kiezkalender-lichtenberg.de
SUMMARY:Modernes Ballett ab 3 Jahren
DESCRIPTION:Kindertanz im Familienzentrum aufatmen mit Bea von der Tanzschule LUX.
URL:https://kiezkalender-lichtenberg.de/veranstaltung/modernes-ballett-ab-3-jahren/2026-04-20/
LOCATION:aufatmen\, Schottstraße 2\, Berlin\, Berlin\, 10365
ATTACH;FMTTYPE=image/jpeg:https://kiezkalender-lichtenberg.de/wp-content/uploads/2026/04/Kindertanz_Aufatmen.jpg
ORGANIZER;CN="Tanzschule LUX":MAILTO:info@tanzschule-lux.de
END:VEVENT
BEGIN:VEVENT
DTSTART;TZID=Europe/Berlin:20260413T183000
DTEND;TZID=Europe/Berlin:20260413T200000
DTSTAMP:20260424T201400
CREATED:20260408T073538Z
LAST-MODIFIED:20260408T073538Z
UID:10048023-1776105000-1776110400@kiezkalender-lichtenberg.de
SUMMARY:Modern Jazz Dance für Erwachsene
DESCRIPTION:Tanzkurs mit Bea von der Tanzschule LUX im Familienzentrum aufatmen.
URL:https://kiezkalender-lichtenberg.de/veranstaltung/modern-jazz-dance-fuer-erwachsene/2026-04-13/
LOCATION:aufatmen\, Schottstraße 2\, Berlin\, Berlin\, 10365
ATTACH;FMTTYPE=image/jpeg:https://kiezkalender-lichtenberg.de/wp-content/uploads/2026/04/Modern-Jazz-Dance_Aufatmen.jpg
ORGANIZER;CN="Tanzschule LUX":MAILTO:info@tanzschule-lux.de
END:VEVENT
BEGIN:VEVENT
DTSTART;TZID=Europe/Berlin:20260413T173000
DTEND;TZID=Europe/Berlin:20260413T183000
DTSTAMP:20260424T201400
CREATED:20260408T073222Z
LAST-MODIFIED:20260408T073725Z
UID:10047762-1776101400-1776105000@kiezkalender-lichtenberg.de
SUMMARY:Modern Jazz Dance ab 10 Jahren
DESCRIPTION:Tanzkurs für Teens mit Bea von der Tanzschule LUX im Familienzentrum aufatmen.
URL:https://kiezkalender-lichtenberg.de/veranstaltung/modern-jazz-dance-ab-10-jahren/2026-04-13/
LOCATION:aufatmen\, Schottstraße 2\, Berlin\, Berlin\, 10365
ATTACH;FMTTYPE=image/jpeg:https://kiezkalender-lichtenberg.de/wp-content/uploads/2026/04/Kindertanz_Aufatmen-2.jpg
ORGANIZER;CN="Tanzschule LUX":MAILTO:info@tanzschule-lux.de
END:VEVENT
BEGIN:VEVENT
DTSTART;TZID=Europe/Berlin:20260413T163500
DTEND;TZID=Europe/Berlin:20260413T172000
DTSTAMP:20260424T201400
CREATED:20260408T072916Z
LAST-MODIFIED:20260408T072916Z
UID:10047501-1776098100-1776100800@kiezkalender-lichtenberg.de
SUMMARY:Modern Jazz Dance ab 6 Jahren
DESCRIPTION:Kindertanz mit Bea von der Tanzschule LUX im Familienzentrum aufatmen.
URL:https://kiezkalender-lichtenberg.de/veranstaltung/modern-jazz-dance-ab-6-jahren/2026-04-13/
LOCATION:aufatmen\, Schottstraße 2\, Berlin\, Berlin\, 10365
ATTACH;FMTTYPE=image/jpeg:https://kiezkalender-lichtenberg.de/wp-content/uploads/2026/04/Kindertanz_Aufatmen-1.jpg
ORGANIZER;CN="Tanzschule LUX":MAILTO:info@tanzschule-lux.de
END:VEVENT
BEGIN:VEVENT
DTSTART;TZID=Europe/Berlin:20260413T154500
DTEND;TZID=Europe/Berlin:20260413T163000
DTSTAMP:20260424T201400
CREATED:20260408T072714Z
LAST-MODIFIED:20260408T072714Z
UID:10047240-1776095100-1776097800@kiezkalender-lichtenberg.de
SUMMARY:Modernes Ballett ab 3 Jahren
DESCRIPTION:Kindertanz im Familienzentrum aufatmen mit Bea von der Tanzschule LUX.
URL:https://kiezkalender-lichtenberg.de/veranstaltung/modernes-ballett-ab-3-jahren/2026-04-13/
LOCATION:aufatmen\, Schottstraße 2\, Berlin\, Berlin\, 10365
ATTACH;FMTTYPE=image/jpeg:https://kiezkalender-lichtenberg.de/wp-content/uploads/2026/04/Kindertanz_Aufatmen.jpg
ORGANIZER;CN="Tanzschule LUX":MAILTO:info@tanzschule-lux.de
END:VEVENT
END:VCALENDAR