BEGIN:VCALENDAR
VERSION:2.0
PRODID:-//Kiezkalender Lichtenberg - ECPv6.15.12.2//NONSGML v1.0//EN
CALSCALE:GREGORIAN
METHOD:PUBLISH
X-WR-CALNAME:Kiezkalender Lichtenberg
X-ORIGINAL-URL:https://kiezkalender-lichtenberg.de
X-WR-CALDESC:Veranstaltungen für Kiezkalender Lichtenberg
REFRESH-INTERVAL;VALUE=DURATION:PT1H
X-Robots-Tag:noindex
X-PUBLISHED-TTL:PT1H
BEGIN:VTIMEZONE
TZID:Europe/Berlin
BEGIN:DAYLIGHT
TZOFFSETFROM:+0100
TZOFFSETTO:+0200
TZNAME:CEST
DTSTART:20230326T010000
END:DAYLIGHT
BEGIN:STANDARD
TZOFFSETFROM:+0200
TZOFFSETTO:+0100
TZNAME:CET
DTSTART:20231029T010000
END:STANDARD
BEGIN:DAYLIGHT
TZOFFSETFROM:+0100
TZOFFSETTO:+0200
TZNAME:CEST
DTSTART:20240331T010000
END:DAYLIGHT
BEGIN:STANDARD
TZOFFSETFROM:+0200
TZOFFSETTO:+0100
TZNAME:CET
DTSTART:20241027T010000
END:STANDARD
BEGIN:DAYLIGHT
TZOFFSETFROM:+0100
TZOFFSETTO:+0200
TZNAME:CEST
DTSTART:20250330T010000
END:DAYLIGHT
BEGIN:STANDARD
TZOFFSETFROM:+0200
TZOFFSETTO:+0100
TZNAME:CET
DTSTART:20251026T010000
END:STANDARD
END:VTIMEZONE
BEGIN:VEVENT
DTSTART;TZID=Europe/Berlin:20240925T180000
DTEND;TZID=Europe/Berlin:20240925T200000
DTSTAMP:20260425T191748
CREATED:20240909T111011Z
LAST-MODIFIED:20241116T015702Z
UID:10032596-1727287200-1727294400@kiezkalender-lichtenberg.de
SUMMARY:Woche der Generationen: Gemeinsam Kleidung stopfen
DESCRIPTION:Woche der Generationen:\nIm „Stadtteilbüro Alt-Lichtenberg“ gemeinsam Kleidung stopfen bei Abendbrot-Schnittchen und Tee für alle Generationen mit der Stadtteilkoordinierenden Mareike Hadeler.\nAnmeldung erwünscht (bis zu 20 Personen) unter mareike.hadeler@kiezspinne.de \nAm 25.09.2024\nVon 18:00-20:00 Uhr \nKostenlos \nStadtteilzentrum Alt-Lichtenberg\nFanningerstraße 33\, 10365 Berlin
URL:https://kiezkalender-lichtenberg.de/veranstaltung/woche-der-generationen-gemeinsam-kleidung-stopfen/
LOCATION:Stadtteilbüro Alt-Lichtenberg\, Fanningerstraße 33\, Berlin\, Berlin\, 10365\, Germany
CATEGORIES:Familie,Kunst
ORGANIZER;CN="Stadtteilb%C3%BCro Alt-Lichtenberg":MAILTO:mareike.hadeler@kiezspinne.de
END:VEVENT
END:VCALENDAR