BEGIN:VCALENDAR
VERSION:2.0
PRODID:-//Kiezkalender Lichtenberg - ECPv6.15.12.2//NONSGML v1.0//EN
CALSCALE:GREGORIAN
METHOD:PUBLISH
X-WR-CALNAME:Kiezkalender Lichtenberg
X-ORIGINAL-URL:https://kiezkalender-lichtenberg.de
X-WR-CALDESC:Veranstaltungen für Kiezkalender Lichtenberg
REFRESH-INTERVAL;VALUE=DURATION:PT1H
X-Robots-Tag:noindex
X-PUBLISHED-TTL:PT1H
BEGIN:VTIMEZONE
TZID:Europe/Berlin
BEGIN:DAYLIGHT
TZOFFSETFROM:+0100
TZOFFSETTO:+0200
TZNAME:CEST
DTSTART:20230326T010000
END:DAYLIGHT
BEGIN:STANDARD
TZOFFSETFROM:+0200
TZOFFSETTO:+0100
TZNAME:CET
DTSTART:20231029T010000
END:STANDARD
BEGIN:DAYLIGHT
TZOFFSETFROM:+0100
TZOFFSETTO:+0200
TZNAME:CEST
DTSTART:20240331T010000
END:DAYLIGHT
BEGIN:STANDARD
TZOFFSETFROM:+0200
TZOFFSETTO:+0100
TZNAME:CET
DTSTART:20241027T010000
END:STANDARD
BEGIN:DAYLIGHT
TZOFFSETFROM:+0100
TZOFFSETTO:+0200
TZNAME:CEST
DTSTART:20250330T010000
END:DAYLIGHT
BEGIN:STANDARD
TZOFFSETFROM:+0200
TZOFFSETTO:+0100
TZNAME:CET
DTSTART:20251026T010000
END:STANDARD
END:VTIMEZONE
BEGIN:VEVENT
DTSTART;VALUE=DATE:20240619
DTEND;VALUE=DATE:20240620
DTSTAMP:20260421T053404
CREATED:20240507T111359Z
LAST-MODIFIED:20240507T111359Z
UID:10031261-1718755200-1718841599@kiezkalender-lichtenberg.de
SUMMARY:Ende STADTRADELN
DESCRIPTION:„STADTRADELN ist ein Wettbewerb\, bei dem es darum geht\, 21 Tage lang möglichst viele Alltagswege klimafreundlich mit dem Fahrrad zurückzulegen. Dabei ist es egal\, ob du bereits jeden Tag fährst oder bisher eher selten mit dem Rad unterwegs bist. Jeder Kilometer zählt – erst recht\, wenn du ihn sonst mit dem Auto zurückgelegt hättest.“ \nAuch wir – KIEZSPINNE FAS e.V. sind dabei und unterstützen diese Aktion! \nRegistrieren könnt ihr euch unter folgendem Link: www.stadtradeln.de/registrieren\nLasst uns gemeinsam vom 30.05. – 19.06.2024 möglichst viele Kilometer sammeln. \nJede:r kann mitmachen! \n  \nSie haben Fragen: \nStadtteilkoordination FAS – Victoria Arndt \nAdresse: Schulze-Boysen-Str. 38\, 10365 Berlin\nMobil: 0179 59 816 41\nE-Mail: victoria.arndt@kiezspinne.de
URL:https://kiezkalender-lichtenberg.de/veranstaltung/ende-stadtradeln/
CATEGORIES:Sport
ATTACH;FMTTYPE=image/png:https://kiezkalender-lichtenberg.de/wp-content/uploads/2024/05/Stadtradeln-2024-1.png
END:VEVENT
END:VCALENDAR