BEGIN:VCALENDAR
VERSION:2.0
PRODID:-//Kiezkalender Lichtenberg - ECPv6.15.12.2//NONSGML v1.0//EN
CALSCALE:GREGORIAN
METHOD:PUBLISH
X-ORIGINAL-URL:https://kiezkalender-lichtenberg.de
X-WR-CALDESC:Veranstaltungen für Kiezkalender Lichtenberg
REFRESH-INTERVAL;VALUE=DURATION:PT1H
X-Robots-Tag:noindex
X-PUBLISHED-TTL:PT1H
BEGIN:VTIMEZONE
TZID:Europe/Berlin
BEGIN:DAYLIGHT
TZOFFSETFROM:+0100
TZOFFSETTO:+0200
TZNAME:CEST
DTSTART:20240331T010000
END:DAYLIGHT
BEGIN:STANDARD
TZOFFSETFROM:+0200
TZOFFSETTO:+0100
TZNAME:CET
DTSTART:20241027T010000
END:STANDARD
BEGIN:DAYLIGHT
TZOFFSETFROM:+0100
TZOFFSETTO:+0200
TZNAME:CEST
DTSTART:20250330T010000
END:DAYLIGHT
BEGIN:STANDARD
TZOFFSETFROM:+0200
TZOFFSETTO:+0100
TZNAME:CET
DTSTART:20251026T010000
END:STANDARD
BEGIN:DAYLIGHT
TZOFFSETFROM:+0100
TZOFFSETTO:+0200
TZNAME:CEST
DTSTART:20260329T010000
END:DAYLIGHT
BEGIN:STANDARD
TZOFFSETFROM:+0200
TZOFFSETTO:+0100
TZNAME:CET
DTSTART:20261025T010000
END:STANDARD
END:VTIMEZONE
BEGIN:VEVENT
DTSTART;TZID=Europe/Berlin:20250129T180000
DTEND;TZID=Europe/Berlin:20250129T200000
DTSTAMP:20260422T032022
CREATED:20250109T122838Z
LAST-MODIFIED:20250109T122838Z
UID:10033996-1738173600-1738180800@kiezkalender-lichtenberg.de
SUMMARY:Städtebaulicher Rahmenplan - Frankfurter Allee Süd
DESCRIPTION:Einladung zur Mitgestaltung \nDie Bezirksstadträtin für Stadtentwicklung\, Bauen und Facility Management sowie Jugend und Familie Camilla Schuler und der Fachbereich Stadtplanung laden alle Interessierten ein\, über die städtebauliche Entwicklung des Gebiets Frankfurter Allee Süd zu diskutieren. \nSchauen Sie sich die Ideen an und kommen Sie mit uns und untereinander ins Gespräch.\nSollte Ihnen eine Teilnahme nicht möglich sein\, können Sie auch die Online-Beteiligung besuchen.\nDiese läuft ab dem 29. Januar 2025 für 3 Wochen auf mein.berlin.de.
URL:https://kiezkalender-lichtenberg.de/veranstaltung/staedtebaulicher-rahmenplan-frankfurter-allee-sued/
LOCATION:Kiezspinne FAS e.V. – Nachbarschaftshaus Orangerie\, Schulze-Boysen-Straße 38\, Berlin\, 10365\, Germany
ATTACH;FMTTYPE=image/png:https://kiezkalender-lichtenberg.de/wp-content/uploads/2025/01/Staedtebaulicher-Rahmenplan-FAS.png
END:VEVENT
END:VCALENDAR