BEGIN:VCALENDAR
VERSION:2.0
PRODID:-//Kiezkalender Lichtenberg - ECPv6.15.12.2//NONSGML v1.0//EN
CALSCALE:GREGORIAN
METHOD:PUBLISH
X-ORIGINAL-URL:https://kiezkalender-lichtenberg.de
X-WR-CALDESC:Veranstaltungen für Kiezkalender Lichtenberg
REFRESH-INTERVAL;VALUE=DURATION:PT1H
X-Robots-Tag:noindex
X-PUBLISHED-TTL:PT1H
BEGIN:VTIMEZONE
TZID:Europe/Berlin
BEGIN:DAYLIGHT
TZOFFSETFROM:+0100
TZOFFSETTO:+0200
TZNAME:CEST
DTSTART:20200329T010000
END:DAYLIGHT
BEGIN:STANDARD
TZOFFSETFROM:+0200
TZOFFSETTO:+0100
TZNAME:CET
DTSTART:20201025T010000
END:STANDARD
BEGIN:DAYLIGHT
TZOFFSETFROM:+0100
TZOFFSETTO:+0200
TZNAME:CEST
DTSTART:20210328T010000
END:DAYLIGHT
BEGIN:STANDARD
TZOFFSETFROM:+0200
TZOFFSETTO:+0100
TZNAME:CET
DTSTART:20211031T010000
END:STANDARD
BEGIN:DAYLIGHT
TZOFFSETFROM:+0100
TZOFFSETTO:+0200
TZNAME:CEST
DTSTART:20220327T010000
END:DAYLIGHT
BEGIN:STANDARD
TZOFFSETFROM:+0200
TZOFFSETTO:+0100
TZNAME:CET
DTSTART:20221030T010000
END:STANDARD
END:VTIMEZONE
BEGIN:VEVENT
DTSTART;TZID=Europe/Berlin:20211109T170000
DTEND;TZID=Europe/Berlin:20211109T190000
DTSTAMP:20260423T213350
CREATED:20211203T092822Z
LAST-MODIFIED:20220614T132815Z
UID:10003993-1636477200-1636484400@kiezkalender-lichtenberg.de
SUMMARY:Wider das Vergessen – Stolpersteingedenken in Alt-Lichtenberg
DESCRIPTION:Wider das Vergessen – Stolpersteingedenken in Alt-Lichtenberg \n Rundgang zu den 7 Stolpersteinen im Nibelungenviertel – von der Rüdiger- über Hagen- bis Fanningerstraße. \nErinnern – Verlesen der Kurz-Biografien \nGedenken – Anzünden einer Kerze\, Niederlegung einer Rose \nMusikalische Klänge \nDatum: 9. November 2021\, in mahnender Erinnerung an die Reichskristallnacht 1938 \nTreffpunkt: 17.00 Uhr\, Rüdigerstraße 50 a \nweitere Stationen: Rüdigerstraße 51\, Hagenstraße 12 und 14 sowie Fanningerstraße 53 \nAusklang ca. ab 18.00 im UNDINE-Garten\, Hagenstraße 57 \nTee an der Feuerschale\, Gespräche\, Informationen und leise Musik \n(unter Beachtung aktueller Corona-Hinweise und eines Hygienekonzeptes)
URL:https://kiezkalender-lichtenberg.de/veranstaltung/wider-das-vergessen-stolpersteingedenken-in-alt-lichtenberg/
ATTACH;FMTTYPE=image/jpeg:https://kiezkalender-lichtenberg.de/wp-content/uploads/2021/12/Stolpersteine.jpg
ORGANIZER;CN="Licht-Blicke Fach- und Netzwerkstelle f&Atilde%3B&frac14%3Br  Demokratie":MAILTO:mail@licht-blicke.org
END:VEVENT
END:VCALENDAR