BEGIN:VCALENDAR
VERSION:2.0
PRODID:-//Kiezkalender Lichtenberg - ECPv6.15.12.2//NONSGML v1.0//EN
CALSCALE:GREGORIAN
METHOD:PUBLISH
X-ORIGINAL-URL:https://kiezkalender-lichtenberg.de
X-WR-CALDESC:Veranstaltungen für Kiezkalender Lichtenberg
REFRESH-INTERVAL;VALUE=DURATION:PT1H
X-Robots-Tag:noindex
X-PUBLISHED-TTL:PT1H
BEGIN:VTIMEZONE
TZID:Europe/Berlin
BEGIN:DAYLIGHT
TZOFFSETFROM:+0100
TZOFFSETTO:+0200
TZNAME:CEST
DTSTART:20240331T010000
END:DAYLIGHT
BEGIN:STANDARD
TZOFFSETFROM:+0200
TZOFFSETTO:+0100
TZNAME:CET
DTSTART:20241027T010000
END:STANDARD
BEGIN:DAYLIGHT
TZOFFSETFROM:+0100
TZOFFSETTO:+0200
TZNAME:CEST
DTSTART:20250330T010000
END:DAYLIGHT
BEGIN:STANDARD
TZOFFSETFROM:+0200
TZOFFSETTO:+0100
TZNAME:CET
DTSTART:20251026T010000
END:STANDARD
BEGIN:DAYLIGHT
TZOFFSETFROM:+0100
TZOFFSETTO:+0200
TZNAME:CEST
DTSTART:20260329T010000
END:DAYLIGHT
BEGIN:STANDARD
TZOFFSETFROM:+0200
TZOFFSETTO:+0100
TZNAME:CET
DTSTART:20261025T010000
END:STANDARD
END:VTIMEZONE
BEGIN:VEVENT
DTSTART;TZID=Europe/Berlin:20250127T131500
DTEND;TZID=Europe/Berlin:20250127T134500
DTSTAMP:20260422T012103
CREATED:20250122T095324Z
LAST-MODIFIED:20250122T095428Z
UID:10034529-1737983700-1737985500@kiezkalender-lichtenberg.de
SUMMARY:Gedenken an die Opfer des Nationalsozialismus und Holocaust
DESCRIPTION:Im Rahmen des Gedenkens an die Opfer des Nationalsozialismus und des Holocaust lädt das Bezirksamt Lichtenberg herzlich zur Kranzniederlegung im Fennpfuhl ein. \n📅 Datum: Montag\, 27. Januar 2025\n⏰ Uhrzeit: 13:15 Uhr\n📍 Ort: An den Gedenkstelen im Fennpfuhlpark (Nahe der ev. Kirche im Park) \nWir möchten an diesem besonderen Ort innehalten\, der an die Schrecken der NS-Zeit erinnert\, und gemeinsam der Verfolgten und Ermordeten gedenken. Die Kranzniederlegung ist Teil eines umfangreicheren Programms\, das weitere Gedenkveranstaltungen im Bezirk umfasst. \nWeitere Informationen zu den Terminen und Orten des Gedenktags entnehmen Sie bitte der Pressemitteilung des Bezirksamts.\nhttps://www.berlin.de/ba-lichtenberg/aktuelles/pressemitteilungen/2025/pressemitteilung.1521091.php \nWir laden Sie herzlich ein\, sich uns anzuschließen und ein Zeichen für Erinnerung\, Menschlichkeit und Solidarität zu setzen. Ihre Teilnahme zählt!
URL:https://kiezkalender-lichtenberg.de/veranstaltung/gedenken-an-die-opfer-des-nationalsozialismus-und-holocaust/
LOCATION:An den Gedenkstelen im Fennpfuhlpark (Nahe der ev. Kirche im Park)
ATTACH;FMTTYPE=image/png:https://kiezkalender-lichtenberg.de/wp-content/uploads/2025/01/Kranzniederlegung-am-21.01.png
END:VEVENT
END:VCALENDAR