BEGIN:VCALENDAR
VERSION:2.0
PRODID:-//Kiezkalender Lichtenberg - ECPv6.15.12.2//NONSGML v1.0//EN
CALSCALE:GREGORIAN
METHOD:PUBLISH
X-WR-CALNAME:Kiezkalender Lichtenberg
X-ORIGINAL-URL:https://kiezkalender-lichtenberg.de
X-WR-CALDESC:Veranstaltungen für Kiezkalender Lichtenberg
REFRESH-INTERVAL;VALUE=DURATION:PT1H
X-Robots-Tag:noindex
X-PUBLISHED-TTL:PT1H
BEGIN:VTIMEZONE
TZID:Europe/Berlin
BEGIN:DAYLIGHT
TZOFFSETFROM:+0100
TZOFFSETTO:+0200
TZNAME:CEST
DTSTART:20250330T010000
END:DAYLIGHT
BEGIN:STANDARD
TZOFFSETFROM:+0200
TZOFFSETTO:+0100
TZNAME:CET
DTSTART:20251026T010000
END:STANDARD
BEGIN:DAYLIGHT
TZOFFSETFROM:+0100
TZOFFSETTO:+0200
TZNAME:CEST
DTSTART:20260329T010000
END:DAYLIGHT
BEGIN:STANDARD
TZOFFSETFROM:+0200
TZOFFSETTO:+0100
TZNAME:CET
DTSTART:20261025T010000
END:STANDARD
BEGIN:DAYLIGHT
TZOFFSETFROM:+0100
TZOFFSETTO:+0200
TZNAME:CEST
DTSTART:20270328T010000
END:DAYLIGHT
BEGIN:STANDARD
TZOFFSETFROM:+0200
TZOFFSETTO:+0100
TZNAME:CET
DTSTART:20271031T010000
END:STANDARD
BEGIN:DAYLIGHT
TZOFFSETFROM:+0100
TZOFFSETTO:+0200
TZNAME:CEST
DTSTART:20280326T010000
END:DAYLIGHT
BEGIN:STANDARD
TZOFFSETFROM:+0200
TZOFFSETTO:+0100
TZNAME:CET
DTSTART:20281029T010000
END:STANDARD
END:VTIMEZONE
BEGIN:VEVENT
DTSTART;TZID=Europe/Berlin:20260818T183000
DTEND;TZID=Europe/Berlin:20260818T200000
DTSTAMP:20260422T031206
CREATED:20260306T084137Z
LAST-MODIFIED:20260306T084137Z
UID:10045654-1787077800-1787083200@kiezkalender-lichtenberg.de
SUMMARY:Yoga für die Körpermitte (für Frauen)
DESCRIPTION:Ankommen und aufatmen im Yoga-Kurs für Frauen\, auch geeignet in der Schwangerschaft.
URL:https://kiezkalender-lichtenberg.de/veranstaltung/yoga-fuer-die-koerpermitte-fuer-frauen/2026-08-18/
LOCATION:aufatmen\, Schottstraße 2\, Berlin\, Berlin\, 10365
ATTACH;FMTTYPE=image/jpeg:https://kiezkalender-lichtenberg.de/wp-content/uploads/2026/03/Yoga.jpeg
END:VEVENT
BEGIN:VEVENT
DTSTART;TZID=Europe/Berlin:20260825T183000
DTEND;TZID=Europe/Berlin:20260825T200000
DTSTAMP:20260422T031206
CREATED:20260306T084137Z
LAST-MODIFIED:20260306T084137Z
UID:10045655-1787682600-1787688000@kiezkalender-lichtenberg.de
SUMMARY:Yoga für die Körpermitte (für Frauen)
DESCRIPTION:Ankommen und aufatmen im Yoga-Kurs für Frauen\, auch geeignet in der Schwangerschaft.
URL:https://kiezkalender-lichtenberg.de/veranstaltung/yoga-fuer-die-koerpermitte-fuer-frauen/2026-08-25/
LOCATION:aufatmen\, Schottstraße 2\, Berlin\, Berlin\, 10365
ATTACH;FMTTYPE=image/jpeg:https://kiezkalender-lichtenberg.de/wp-content/uploads/2026/03/Yoga.jpeg
END:VEVENT
BEGIN:VEVENT
DTSTART;TZID=Europe/Berlin:20260901T183000
DTEND;TZID=Europe/Berlin:20260901T200000
DTSTAMP:20260422T031206
CREATED:20260306T084137Z
LAST-MODIFIED:20260306T084137Z
UID:10045656-1788287400-1788292800@kiezkalender-lichtenberg.de
SUMMARY:Yoga für die Körpermitte (für Frauen)
DESCRIPTION:Ankommen und aufatmen im Yoga-Kurs für Frauen\, auch geeignet in der Schwangerschaft.
URL:https://kiezkalender-lichtenberg.de/veranstaltung/yoga-fuer-die-koerpermitte-fuer-frauen/2026-09-01/
LOCATION:aufatmen\, Schottstraße 2\, Berlin\, Berlin\, 10365
ATTACH;FMTTYPE=image/jpeg:https://kiezkalender-lichtenberg.de/wp-content/uploads/2026/03/Yoga.jpeg
END:VEVENT
BEGIN:VEVENT
DTSTART;TZID=Europe/Berlin:20260908T183000
DTEND;TZID=Europe/Berlin:20260908T200000
DTSTAMP:20260422T031206
CREATED:20260306T084137Z
LAST-MODIFIED:20260306T084137Z
UID:10045657-1788892200-1788897600@kiezkalender-lichtenberg.de
SUMMARY:Yoga für die Körpermitte (für Frauen)
DESCRIPTION:Ankommen und aufatmen im Yoga-Kurs für Frauen\, auch geeignet in der Schwangerschaft.
URL:https://kiezkalender-lichtenberg.de/veranstaltung/yoga-fuer-die-koerpermitte-fuer-frauen/2026-09-08/
LOCATION:aufatmen\, Schottstraße 2\, Berlin\, Berlin\, 10365
ATTACH;FMTTYPE=image/jpeg:https://kiezkalender-lichtenberg.de/wp-content/uploads/2026/03/Yoga.jpeg
END:VEVENT
BEGIN:VEVENT
DTSTART;TZID=Europe/Berlin:20260915T183000
DTEND;TZID=Europe/Berlin:20260915T200000
DTSTAMP:20260422T031206
CREATED:20260306T084137Z
LAST-MODIFIED:20260306T084137Z
UID:10045658-1789497000-1789502400@kiezkalender-lichtenberg.de
SUMMARY:Yoga für die Körpermitte (für Frauen)
DESCRIPTION:Ankommen und aufatmen im Yoga-Kurs für Frauen\, auch geeignet in der Schwangerschaft.
URL:https://kiezkalender-lichtenberg.de/veranstaltung/yoga-fuer-die-koerpermitte-fuer-frauen/2026-09-15/
LOCATION:aufatmen\, Schottstraße 2\, Berlin\, Berlin\, 10365
ATTACH;FMTTYPE=image/jpeg:https://kiezkalender-lichtenberg.de/wp-content/uploads/2026/03/Yoga.jpeg
END:VEVENT
BEGIN:VEVENT
DTSTART;TZID=Europe/Berlin:20260922T183000
DTEND;TZID=Europe/Berlin:20260922T200000
DTSTAMP:20260422T031206
CREATED:20260306T084137Z
LAST-MODIFIED:20260306T084137Z
UID:10045659-1790101800-1790107200@kiezkalender-lichtenberg.de
SUMMARY:Yoga für die Körpermitte (für Frauen)
DESCRIPTION:Ankommen und aufatmen im Yoga-Kurs für Frauen\, auch geeignet in der Schwangerschaft.
URL:https://kiezkalender-lichtenberg.de/veranstaltung/yoga-fuer-die-koerpermitte-fuer-frauen/2026-09-22/
LOCATION:aufatmen\, Schottstraße 2\, Berlin\, Berlin\, 10365
ATTACH;FMTTYPE=image/jpeg:https://kiezkalender-lichtenberg.de/wp-content/uploads/2026/03/Yoga.jpeg
END:VEVENT
BEGIN:VEVENT
DTSTART;TZID=Europe/Berlin:20260929T183000
DTEND;TZID=Europe/Berlin:20260929T200000
DTSTAMP:20260422T031206
CREATED:20260306T084137Z
LAST-MODIFIED:20260306T084137Z
UID:10045660-1790706600-1790712000@kiezkalender-lichtenberg.de
SUMMARY:Yoga für die Körpermitte (für Frauen)
DESCRIPTION:Ankommen und aufatmen im Yoga-Kurs für Frauen\, auch geeignet in der Schwangerschaft.
URL:https://kiezkalender-lichtenberg.de/veranstaltung/yoga-fuer-die-koerpermitte-fuer-frauen/2026-09-29/
LOCATION:aufatmen\, Schottstraße 2\, Berlin\, Berlin\, 10365
ATTACH;FMTTYPE=image/jpeg:https://kiezkalender-lichtenberg.de/wp-content/uploads/2026/03/Yoga.jpeg
END:VEVENT
BEGIN:VEVENT
DTSTART;TZID=Europe/Berlin:20261006T183000
DTEND;TZID=Europe/Berlin:20261006T200000
DTSTAMP:20260422T031206
CREATED:20260306T084137Z
LAST-MODIFIED:20260306T084137Z
UID:10045661-1791311400-1791316800@kiezkalender-lichtenberg.de
SUMMARY:Yoga für die Körpermitte (für Frauen)
DESCRIPTION:Ankommen und aufatmen im Yoga-Kurs für Frauen\, auch geeignet in der Schwangerschaft.
URL:https://kiezkalender-lichtenberg.de/veranstaltung/yoga-fuer-die-koerpermitte-fuer-frauen/2026-10-06/
LOCATION:aufatmen\, Schottstraße 2\, Berlin\, Berlin\, 10365
ATTACH;FMTTYPE=image/jpeg:https://kiezkalender-lichtenberg.de/wp-content/uploads/2026/03/Yoga.jpeg
END:VEVENT
BEGIN:VEVENT
DTSTART;TZID=Europe/Berlin:20261013T183000
DTEND;TZID=Europe/Berlin:20261013T200000
DTSTAMP:20260422T031206
CREATED:20260306T084137Z
LAST-MODIFIED:20260306T084137Z
UID:10045662-1791916200-1791921600@kiezkalender-lichtenberg.de
SUMMARY:Yoga für die Körpermitte (für Frauen)
DESCRIPTION:Ankommen und aufatmen im Yoga-Kurs für Frauen\, auch geeignet in der Schwangerschaft.
URL:https://kiezkalender-lichtenberg.de/veranstaltung/yoga-fuer-die-koerpermitte-fuer-frauen/2026-10-13/
LOCATION:aufatmen\, Schottstraße 2\, Berlin\, Berlin\, 10365
ATTACH;FMTTYPE=image/jpeg:https://kiezkalender-lichtenberg.de/wp-content/uploads/2026/03/Yoga.jpeg
END:VEVENT
BEGIN:VEVENT
DTSTART;TZID=Europe/Berlin:20261020T183000
DTEND;TZID=Europe/Berlin:20261020T200000
DTSTAMP:20260422T031206
CREATED:20260306T084137Z
LAST-MODIFIED:20260306T084137Z
UID:10045663-1792521000-1792526400@kiezkalender-lichtenberg.de
SUMMARY:Yoga für die Körpermitte (für Frauen)
DESCRIPTION:Ankommen und aufatmen im Yoga-Kurs für Frauen\, auch geeignet in der Schwangerschaft.
URL:https://kiezkalender-lichtenberg.de/veranstaltung/yoga-fuer-die-koerpermitte-fuer-frauen/2026-10-20/
LOCATION:aufatmen\, Schottstraße 2\, Berlin\, Berlin\, 10365
ATTACH;FMTTYPE=image/jpeg:https://kiezkalender-lichtenberg.de/wp-content/uploads/2026/03/Yoga.jpeg
END:VEVENT
BEGIN:VEVENT
DTSTART;TZID=Europe/Berlin:20261027T183000
DTEND;TZID=Europe/Berlin:20261027T200000
DTSTAMP:20260422T031206
CREATED:20260306T084137Z
LAST-MODIFIED:20260306T084137Z
UID:10045664-1793125800-1793131200@kiezkalender-lichtenberg.de
SUMMARY:Yoga für die Körpermitte (für Frauen)
DESCRIPTION:Ankommen und aufatmen im Yoga-Kurs für Frauen\, auch geeignet in der Schwangerschaft.
URL:https://kiezkalender-lichtenberg.de/veranstaltung/yoga-fuer-die-koerpermitte-fuer-frauen/2026-10-27/
LOCATION:aufatmen\, Schottstraße 2\, Berlin\, Berlin\, 10365
ATTACH;FMTTYPE=image/jpeg:https://kiezkalender-lichtenberg.de/wp-content/uploads/2026/03/Yoga.jpeg
END:VEVENT
BEGIN:VEVENT
DTSTART;TZID=Europe/Berlin:20261103T183000
DTEND;TZID=Europe/Berlin:20261103T200000
DTSTAMP:20260422T031206
CREATED:20260306T084137Z
LAST-MODIFIED:20260306T084137Z
UID:10045665-1793730600-1793736000@kiezkalender-lichtenberg.de
SUMMARY:Yoga für die Körpermitte (für Frauen)
DESCRIPTION:Ankommen und aufatmen im Yoga-Kurs für Frauen\, auch geeignet in der Schwangerschaft.
URL:https://kiezkalender-lichtenberg.de/veranstaltung/yoga-fuer-die-koerpermitte-fuer-frauen/2026-11-03/
LOCATION:aufatmen\, Schottstraße 2\, Berlin\, Berlin\, 10365
ATTACH;FMTTYPE=image/jpeg:https://kiezkalender-lichtenberg.de/wp-content/uploads/2026/03/Yoga.jpeg
END:VEVENT
BEGIN:VEVENT
DTSTART;TZID=Europe/Berlin:20261110T183000
DTEND;TZID=Europe/Berlin:20261110T200000
DTSTAMP:20260422T031206
CREATED:20260306T084137Z
LAST-MODIFIED:20260306T084137Z
UID:10045666-1794335400-1794340800@kiezkalender-lichtenberg.de
SUMMARY:Yoga für die Körpermitte (für Frauen)
DESCRIPTION:Ankommen und aufatmen im Yoga-Kurs für Frauen\, auch geeignet in der Schwangerschaft.
URL:https://kiezkalender-lichtenberg.de/veranstaltung/yoga-fuer-die-koerpermitte-fuer-frauen/2026-11-10/
LOCATION:aufatmen\, Schottstraße 2\, Berlin\, Berlin\, 10365
ATTACH;FMTTYPE=image/jpeg:https://kiezkalender-lichtenberg.de/wp-content/uploads/2026/03/Yoga.jpeg
END:VEVENT
BEGIN:VEVENT
DTSTART;TZID=Europe/Berlin:20261117T183000
DTEND;TZID=Europe/Berlin:20261117T200000
DTSTAMP:20260422T031206
CREATED:20260306T084137Z
LAST-MODIFIED:20260306T084137Z
UID:10045667-1794940200-1794945600@kiezkalender-lichtenberg.de
SUMMARY:Yoga für die Körpermitte (für Frauen)
DESCRIPTION:Ankommen und aufatmen im Yoga-Kurs für Frauen\, auch geeignet in der Schwangerschaft.
URL:https://kiezkalender-lichtenberg.de/veranstaltung/yoga-fuer-die-koerpermitte-fuer-frauen/2026-11-17/
LOCATION:aufatmen\, Schottstraße 2\, Berlin\, Berlin\, 10365
ATTACH;FMTTYPE=image/jpeg:https://kiezkalender-lichtenberg.de/wp-content/uploads/2026/03/Yoga.jpeg
END:VEVENT
BEGIN:VEVENT
DTSTART;TZID=Europe/Berlin:20261124T183000
DTEND;TZID=Europe/Berlin:20261124T200000
DTSTAMP:20260422T031206
CREATED:20260306T084137Z
LAST-MODIFIED:20260306T084137Z
UID:10045668-1795545000-1795550400@kiezkalender-lichtenberg.de
SUMMARY:Yoga für die Körpermitte (für Frauen)
DESCRIPTION:Ankommen und aufatmen im Yoga-Kurs für Frauen\, auch geeignet in der Schwangerschaft.
URL:https://kiezkalender-lichtenberg.de/veranstaltung/yoga-fuer-die-koerpermitte-fuer-frauen/2026-11-24/
LOCATION:aufatmen\, Schottstraße 2\, Berlin\, Berlin\, 10365
ATTACH;FMTTYPE=image/jpeg:https://kiezkalender-lichtenberg.de/wp-content/uploads/2026/03/Yoga.jpeg
END:VEVENT
BEGIN:VEVENT
DTSTART;TZID=Europe/Berlin:20261201T183000
DTEND;TZID=Europe/Berlin:20261201T200000
DTSTAMP:20260422T031206
CREATED:20260306T084137Z
LAST-MODIFIED:20260306T084137Z
UID:10045669-1796149800-1796155200@kiezkalender-lichtenberg.de
SUMMARY:Yoga für die Körpermitte (für Frauen)
DESCRIPTION:Ankommen und aufatmen im Yoga-Kurs für Frauen\, auch geeignet in der Schwangerschaft.
URL:https://kiezkalender-lichtenberg.de/veranstaltung/yoga-fuer-die-koerpermitte-fuer-frauen/2026-12-01/
LOCATION:aufatmen\, Schottstraße 2\, Berlin\, Berlin\, 10365
ATTACH;FMTTYPE=image/jpeg:https://kiezkalender-lichtenberg.de/wp-content/uploads/2026/03/Yoga.jpeg
END:VEVENT
BEGIN:VEVENT
DTSTART;TZID=Europe/Berlin:20261208T183000
DTEND;TZID=Europe/Berlin:20261208T200000
DTSTAMP:20260422T031206
CREATED:20260306T084137Z
LAST-MODIFIED:20260306T084137Z
UID:10045670-1796754600-1796760000@kiezkalender-lichtenberg.de
SUMMARY:Yoga für die Körpermitte (für Frauen)
DESCRIPTION:Ankommen und aufatmen im Yoga-Kurs für Frauen\, auch geeignet in der Schwangerschaft.
URL:https://kiezkalender-lichtenberg.de/veranstaltung/yoga-fuer-die-koerpermitte-fuer-frauen/2026-12-08/
LOCATION:aufatmen\, Schottstraße 2\, Berlin\, Berlin\, 10365
ATTACH;FMTTYPE=image/jpeg:https://kiezkalender-lichtenberg.de/wp-content/uploads/2026/03/Yoga.jpeg
END:VEVENT
BEGIN:VEVENT
DTSTART;TZID=Europe/Berlin:20261215T183000
DTEND;TZID=Europe/Berlin:20261215T200000
DTSTAMP:20260422T031206
CREATED:20260306T084137Z
LAST-MODIFIED:20260306T084137Z
UID:10045671-1797359400-1797364800@kiezkalender-lichtenberg.de
SUMMARY:Yoga für die Körpermitte (für Frauen)
DESCRIPTION:Ankommen und aufatmen im Yoga-Kurs für Frauen\, auch geeignet in der Schwangerschaft.
URL:https://kiezkalender-lichtenberg.de/veranstaltung/yoga-fuer-die-koerpermitte-fuer-frauen/2026-12-15/
LOCATION:aufatmen\, Schottstraße 2\, Berlin\, Berlin\, 10365
ATTACH;FMTTYPE=image/jpeg:https://kiezkalender-lichtenberg.de/wp-content/uploads/2026/03/Yoga.jpeg
END:VEVENT
BEGIN:VEVENT
DTSTART;TZID=Europe/Berlin:20261222T183000
DTEND;TZID=Europe/Berlin:20261222T200000
DTSTAMP:20260422T031206
CREATED:20260306T084137Z
LAST-MODIFIED:20260306T084137Z
UID:10045672-1797964200-1797969600@kiezkalender-lichtenberg.de
SUMMARY:Yoga für die Körpermitte (für Frauen)
DESCRIPTION:Ankommen und aufatmen im Yoga-Kurs für Frauen\, auch geeignet in der Schwangerschaft.
URL:https://kiezkalender-lichtenberg.de/veranstaltung/yoga-fuer-die-koerpermitte-fuer-frauen/2026-12-22/
LOCATION:aufatmen\, Schottstraße 2\, Berlin\, Berlin\, 10365
ATTACH;FMTTYPE=image/jpeg:https://kiezkalender-lichtenberg.de/wp-content/uploads/2026/03/Yoga.jpeg
END:VEVENT
BEGIN:VEVENT
DTSTART;TZID=Europe/Berlin:20261229T183000
DTEND;TZID=Europe/Berlin:20261229T200000
DTSTAMP:20260422T031206
CREATED:20260306T084137Z
LAST-MODIFIED:20260306T084137Z
UID:10045673-1798569000-1798574400@kiezkalender-lichtenberg.de
SUMMARY:Yoga für die Körpermitte (für Frauen)
DESCRIPTION:Ankommen und aufatmen im Yoga-Kurs für Frauen\, auch geeignet in der Schwangerschaft.
URL:https://kiezkalender-lichtenberg.de/veranstaltung/yoga-fuer-die-koerpermitte-fuer-frauen/2026-12-29/
LOCATION:aufatmen\, Schottstraße 2\, Berlin\, Berlin\, 10365
ATTACH;FMTTYPE=image/jpeg:https://kiezkalender-lichtenberg.de/wp-content/uploads/2026/03/Yoga.jpeg
END:VEVENT
BEGIN:VEVENT
DTSTART;TZID=Europe/Berlin:20270105T183000
DTEND;TZID=Europe/Berlin:20270105T200000
DTSTAMP:20260422T031206
CREATED:20260306T084137Z
LAST-MODIFIED:20260306T084137Z
UID:10045674-1799173800-1799179200@kiezkalender-lichtenberg.de
SUMMARY:Yoga für die Körpermitte (für Frauen)
DESCRIPTION:Ankommen und aufatmen im Yoga-Kurs für Frauen\, auch geeignet in der Schwangerschaft.
URL:https://kiezkalender-lichtenberg.de/veranstaltung/yoga-fuer-die-koerpermitte-fuer-frauen/2027-01-05/
LOCATION:aufatmen\, Schottstraße 2\, Berlin\, Berlin\, 10365
ATTACH;FMTTYPE=image/jpeg:https://kiezkalender-lichtenberg.de/wp-content/uploads/2026/03/Yoga.jpeg
END:VEVENT
BEGIN:VEVENT
DTSTART;TZID=Europe/Berlin:20270112T183000
DTEND;TZID=Europe/Berlin:20270112T200000
DTSTAMP:20260422T031206
CREATED:20260306T084137Z
LAST-MODIFIED:20260306T084137Z
UID:10045675-1799778600-1799784000@kiezkalender-lichtenberg.de
SUMMARY:Yoga für die Körpermitte (für Frauen)
DESCRIPTION:Ankommen und aufatmen im Yoga-Kurs für Frauen\, auch geeignet in der Schwangerschaft.
URL:https://kiezkalender-lichtenberg.de/veranstaltung/yoga-fuer-die-koerpermitte-fuer-frauen/2027-01-12/
LOCATION:aufatmen\, Schottstraße 2\, Berlin\, Berlin\, 10365
ATTACH;FMTTYPE=image/jpeg:https://kiezkalender-lichtenberg.de/wp-content/uploads/2026/03/Yoga.jpeg
END:VEVENT
BEGIN:VEVENT
DTSTART;TZID=Europe/Berlin:20270119T183000
DTEND;TZID=Europe/Berlin:20270119T200000
DTSTAMP:20260422T031206
CREATED:20260306T084137Z
LAST-MODIFIED:20260306T084137Z
UID:10045676-1800383400-1800388800@kiezkalender-lichtenberg.de
SUMMARY:Yoga für die Körpermitte (für Frauen)
DESCRIPTION:Ankommen und aufatmen im Yoga-Kurs für Frauen\, auch geeignet in der Schwangerschaft.
URL:https://kiezkalender-lichtenberg.de/veranstaltung/yoga-fuer-die-koerpermitte-fuer-frauen/2027-01-19/
LOCATION:aufatmen\, Schottstraße 2\, Berlin\, Berlin\, 10365
ATTACH;FMTTYPE=image/jpeg:https://kiezkalender-lichtenberg.de/wp-content/uploads/2026/03/Yoga.jpeg
END:VEVENT
BEGIN:VEVENT
DTSTART;TZID=Europe/Berlin:20270126T183000
DTEND;TZID=Europe/Berlin:20270126T200000
DTSTAMP:20260422T031206
CREATED:20260306T084137Z
LAST-MODIFIED:20260306T084137Z
UID:10045677-1800988200-1800993600@kiezkalender-lichtenberg.de
SUMMARY:Yoga für die Körpermitte (für Frauen)
DESCRIPTION:Ankommen und aufatmen im Yoga-Kurs für Frauen\, auch geeignet in der Schwangerschaft.
URL:https://kiezkalender-lichtenberg.de/veranstaltung/yoga-fuer-die-koerpermitte-fuer-frauen/2027-01-26/
LOCATION:aufatmen\, Schottstraße 2\, Berlin\, Berlin\, 10365
ATTACH;FMTTYPE=image/jpeg:https://kiezkalender-lichtenberg.de/wp-content/uploads/2026/03/Yoga.jpeg
END:VEVENT
BEGIN:VEVENT
DTSTART;TZID=Europe/Berlin:20270202T183000
DTEND;TZID=Europe/Berlin:20270202T200000
DTSTAMP:20260422T031206
CREATED:20260306T084137Z
LAST-MODIFIED:20260306T084137Z
UID:10045678-1801593000-1801598400@kiezkalender-lichtenberg.de
SUMMARY:Yoga für die Körpermitte (für Frauen)
DESCRIPTION:Ankommen und aufatmen im Yoga-Kurs für Frauen\, auch geeignet in der Schwangerschaft.
URL:https://kiezkalender-lichtenberg.de/veranstaltung/yoga-fuer-die-koerpermitte-fuer-frauen/2027-02-02/
LOCATION:aufatmen\, Schottstraße 2\, Berlin\, Berlin\, 10365
ATTACH;FMTTYPE=image/jpeg:https://kiezkalender-lichtenberg.de/wp-content/uploads/2026/03/Yoga.jpeg
END:VEVENT
BEGIN:VEVENT
DTSTART;TZID=Europe/Berlin:20270209T183000
DTEND;TZID=Europe/Berlin:20270209T200000
DTSTAMP:20260422T031206
CREATED:20260306T084137Z
LAST-MODIFIED:20260306T084137Z
UID:10045679-1802197800-1802203200@kiezkalender-lichtenberg.de
SUMMARY:Yoga für die Körpermitte (für Frauen)
DESCRIPTION:Ankommen und aufatmen im Yoga-Kurs für Frauen\, auch geeignet in der Schwangerschaft.
URL:https://kiezkalender-lichtenberg.de/veranstaltung/yoga-fuer-die-koerpermitte-fuer-frauen/2027-02-09/
LOCATION:aufatmen\, Schottstraße 2\, Berlin\, Berlin\, 10365
ATTACH;FMTTYPE=image/jpeg:https://kiezkalender-lichtenberg.de/wp-content/uploads/2026/03/Yoga.jpeg
END:VEVENT
BEGIN:VEVENT
DTSTART;TZID=Europe/Berlin:20270216T183000
DTEND;TZID=Europe/Berlin:20270216T200000
DTSTAMP:20260422T031206
CREATED:20260306T084137Z
LAST-MODIFIED:20260306T084137Z
UID:10045680-1802802600-1802808000@kiezkalender-lichtenberg.de
SUMMARY:Yoga für die Körpermitte (für Frauen)
DESCRIPTION:Ankommen und aufatmen im Yoga-Kurs für Frauen\, auch geeignet in der Schwangerschaft.
URL:https://kiezkalender-lichtenberg.de/veranstaltung/yoga-fuer-die-koerpermitte-fuer-frauen/2027-02-16/
LOCATION:aufatmen\, Schottstraße 2\, Berlin\, Berlin\, 10365
ATTACH;FMTTYPE=image/jpeg:https://kiezkalender-lichtenberg.de/wp-content/uploads/2026/03/Yoga.jpeg
END:VEVENT
BEGIN:VEVENT
DTSTART;TZID=Europe/Berlin:20270223T183000
DTEND;TZID=Europe/Berlin:20270223T200000
DTSTAMP:20260422T031206
CREATED:20260306T084137Z
LAST-MODIFIED:20260306T084137Z
UID:10045681-1803407400-1803412800@kiezkalender-lichtenberg.de
SUMMARY:Yoga für die Körpermitte (für Frauen)
DESCRIPTION:Ankommen und aufatmen im Yoga-Kurs für Frauen\, auch geeignet in der Schwangerschaft.
URL:https://kiezkalender-lichtenberg.de/veranstaltung/yoga-fuer-die-koerpermitte-fuer-frauen/2027-02-23/
LOCATION:aufatmen\, Schottstraße 2\, Berlin\, Berlin\, 10365
ATTACH;FMTTYPE=image/jpeg:https://kiezkalender-lichtenberg.de/wp-content/uploads/2026/03/Yoga.jpeg
END:VEVENT
BEGIN:VEVENT
DTSTART;TZID=Europe/Berlin:20270302T183000
DTEND;TZID=Europe/Berlin:20270302T200000
DTSTAMP:20260422T031206
CREATED:20260306T084137Z
LAST-MODIFIED:20260306T084137Z
UID:10045682-1804012200-1804017600@kiezkalender-lichtenberg.de
SUMMARY:Yoga für die Körpermitte (für Frauen)
DESCRIPTION:Ankommen und aufatmen im Yoga-Kurs für Frauen\, auch geeignet in der Schwangerschaft.
URL:https://kiezkalender-lichtenberg.de/veranstaltung/yoga-fuer-die-koerpermitte-fuer-frauen/2027-03-02/
LOCATION:aufatmen\, Schottstraße 2\, Berlin\, Berlin\, 10365
ATTACH;FMTTYPE=image/jpeg:https://kiezkalender-lichtenberg.de/wp-content/uploads/2026/03/Yoga.jpeg
END:VEVENT
BEGIN:VEVENT
DTSTART;TZID=Europe/Berlin:20270309T183000
DTEND;TZID=Europe/Berlin:20270309T200000
DTSTAMP:20260422T031206
CREATED:20260306T084137Z
LAST-MODIFIED:20260306T084137Z
UID:10045683-1804617000-1804622400@kiezkalender-lichtenberg.de
SUMMARY:Yoga für die Körpermitte (für Frauen)
DESCRIPTION:Ankommen und aufatmen im Yoga-Kurs für Frauen\, auch geeignet in der Schwangerschaft.
URL:https://kiezkalender-lichtenberg.de/veranstaltung/yoga-fuer-die-koerpermitte-fuer-frauen/2027-03-09/
LOCATION:aufatmen\, Schottstraße 2\, Berlin\, Berlin\, 10365
ATTACH;FMTTYPE=image/jpeg:https://kiezkalender-lichtenberg.de/wp-content/uploads/2026/03/Yoga.jpeg
END:VEVENT
END:VCALENDAR